BEGIN:VCALENDAR
VERSION:2.0
PRODID:-//Catholic Archdiocese of Grouard-McLennan - ECPv6.15.20//NONSGML v1.0//EN
CALSCALE:GREGORIAN
METHOD:PUBLISH
X-WR-CALNAME:Catholic Archdiocese of Grouard-McLennan
X-ORIGINAL-URL:https://www.archgm.ca
X-WR-CALDESC:Events for Catholic Archdiocese of Grouard-McLennan
REFRESH-INTERVAL;VALUE=DURATION:PT1H
X-Robots-Tag:noindex
X-PUBLISHED-TTL:PT1H
BEGIN:VTIMEZONE
TZID:America/Edmonton
BEGIN:DAYLIGHT
TZOFFSETFROM:-0700
TZOFFSETTO:-0600
TZNAME:MDT
DTSTART:20240310T090000
END:DAYLIGHT
BEGIN:STANDARD
TZOFFSETFROM:-0600
TZOFFSETTO:-0700
TZNAME:MST
DTSTART:20241103T080000
END:STANDARD
BEGIN:DAYLIGHT
TZOFFSETFROM:-0700
TZOFFSETTO:-0600
TZNAME:MDT
DTSTART:20250309T090000
END:DAYLIGHT
BEGIN:STANDARD
TZOFFSETFROM:-0600
TZOFFSETTO:-0700
TZNAME:MST
DTSTART:20251102T080000
END:STANDARD
BEGIN:DAYLIGHT
TZOFFSETFROM:-0700
TZOFFSETTO:-0600
TZNAME:MDT
DTSTART:20260308T090000
END:DAYLIGHT
BEGIN:STANDARD
TZOFFSETFROM:-0600
TZOFFSETTO:-0700
TZNAME:MST
DTSTART:20261101T080000
END:STANDARD
END:VTIMEZONE
BEGIN:VEVENT
DTSTART;TZID=America/Edmonton:20250504T120000
DTEND;TZID=America/Edmonton:20250504T120000
DTSTAMP:20260419T075139
CREATED:20250414T154524Z
LAST-MODIFIED:20250414T154524Z
UID:14023-1746360000-1746360000@www.archgm.ca
SUMMARY:Monthly Potluck After Mass - St. Mary's Church\, Beaverlodge
DESCRIPTION:After 11 am Mass Sunday May 4th
URL:https://www.archgm.ca/event/monthly-potluck-after-mass-st-marys-church-beaverlodge/
LOCATION:St. Mary’s Church\, Beaverlodge\, Grande Prairie\, AB
CATEGORIES:Events Calendar
END:VEVENT
BEGIN:VEVENT
DTSTART;TZID=America/Edmonton:20250504T110000
DTEND;TZID=America/Edmonton:20250504T123000
DTSTAMP:20260419T075139
CREATED:20250331T154207Z
LAST-MODIFIED:20250331T154207Z
UID:13939-1746356400-1746361800@www.archgm.ca
SUMMARY:Parish Annual Meeting - St. Thomas More Church\, Fairview
DESCRIPTION:After 10 am Mass
URL:https://www.archgm.ca/event/parish-annual-meeting-st-thomas-more-church-fairview/
LOCATION:St. Thomas More Church\, Fairview\, Grande Prairie\, AB
CATEGORIES:Events Calendar
END:VEVENT
BEGIN:VEVENT
DTSTART;TZID=America/Edmonton:20250503T103000
DTEND;TZID=America/Edmonton:20250503T103000
DTSTAMP:20260419T075139
CREATED:20250429T151352Z
LAST-MODIFIED:20250429T151352Z
UID:14160-1746268200-1746268200@www.archgm.ca
SUMMARY:Blessings of the Seeds - St. Anne\, Falher
DESCRIPTION:Bénédiction des grains de semences :\nle dimanche 3 mai 2025.\nVous êtes invités à apporter vos grains de semences\npour recevoir la bénédiction. \nSeed Blessing: Sunday\, May 3\, 2025. You are invited to bring your seed grains to receive the blessing.
URL:https://www.archgm.ca/event/blessings-of-the-seeds-st-anne-falher/
LOCATION:St. Anne Church\, Falher\, Grande Prairie\, AB
CATEGORIES:Events Calendar
END:VEVENT
BEGIN:VEVENT
DTSTART;TZID=America/Edmonton:20250503T090000
DTEND;TZID=America/Edmonton:20250503T120000
DTSTAMP:20260419T075139
CREATED:20250331T150426Z
LAST-MODIFIED:20250331T150426Z
UID:13917-1746262800-1746273600@www.archgm.ca
SUMMARY:Annual Highway Clean Up - Our Lady of Good Counsel\, High Level
DESCRIPTION:The Knights of Columbus is organizing\nthe Annual Highway Cleanup again\nthis spring. This is an important fund\nraiser for Our Lady of Good Counsel parish. It will be Held on\nSaturday morning May 3.
URL:https://www.archgm.ca/event/annual-highway-clean-up-our-lady-of-good-counsel-high-level/
LOCATION:Our Lady of Good Counsel\, High Level\, Grande Prairie\, AB
CATEGORIES:Events Calendar
END:VEVENT
BEGIN:VEVENT
DTSTART;TZID=America/Edmonton:20250502T183000
DTEND;TZID=America/Edmonton:20250503T160000
DTSTAMP:20260419T075139
CREATED:20250403T205337Z
LAST-MODIFIED:20250403T205439Z
UID:13998-1746210600-1746288000@www.archgm.ca
SUMMARY:Cast Your Worries\, Embrace Joy! Women's Retreat - St. Joseph Church\, Grande Prairie
DESCRIPTION:Cast Your Worries\, Embrace Joy! Women’s Retreat – May 2 from 6:45-8:30pm and May 3 from 9-4 \n  \nMothers\, daughters\, sisters\, friends – join us for a women’s retreat at St. Joseph Church\, Grande Prairie. All women welcome! \nSpeakers: Carmen Moore\, Celestina Shaba and Bishop-elect Charles Duval \nThese days we all have something going on. We all struggle\, we all feel pain\, we all hurt. Come\, give your weakness to God and He will give you His strength. There will be time for prayer\, sharing and reflection. \nCoffee/tea and a snack Saturday morning and lunch on Saturday included. Please advise if you have special dietary requirements. We look forward to seeing you there! \nEventbrite Link: https://www.eventbrite.com/e/womens-retreat-cast-your-worries-embrace-joy-tickets-1294941397579?aff=oddtdtcreator \n 
URL:https://www.archgm.ca/event/cast-your-worries-embrace-joy-womens-retreat-st-joseph-church-grande-prairie/
LOCATION:St. Joseph’s Church\, Grande Prairie\, Grande Prairie\, AB
CATEGORIES:Events Calendar
END:VEVENT
BEGIN:VEVENT
DTSTART;TZID=America/Edmonton:20250430T190000
DTEND;TZID=America/Edmonton:20250430T190000
DTSTAMP:20260419T075139
CREATED:20250429T152036Z
LAST-MODIFIED:20250429T152045Z
UID:14167-1746039600-1746039600@www.archgm.ca
SUMMARY:Catholicism Series - St. John the Baptist Cathedral\, McLennan
DESCRIPTION:Catholicism Series – St. John the Baptist Cathedral\, McLennan \nBeginning every Wednesday at 7:00 pm in the basement of the cathedral
URL:https://www.archgm.ca/event/catholicism-series-st-john-the-baptist-cathedral-mclennan/
LOCATION:St. John the Baptist Cathedral\, McLennan\, Grande Prairie\, AB
CATEGORIES:Events Calendar
END:VEVENT
BEGIN:VEVENT
DTSTART;TZID=America/Edmonton:20250427T190000
DTEND;TZID=America/Edmonton:20250427T190000
DTSTAMP:20260419T075139
CREATED:20250331T150751Z
LAST-MODIFIED:20250331T150751Z
UID:13919-1745780400-1745780400@www.archgm.ca
SUMMARY:Egg Drop Raffle for St. Paul's Cemetery - St. Paul Church\, High Prairie
DESCRIPTION:St. Pauls’ Cemetery Com-mittee wishes to announce that the annual Egg Drop Raffle will be held April 27th 2025. Please help to sell tickets! See poster at the church entrance!\nContact Margaret\, Leonard or Diana for tickets.
URL:https://www.archgm.ca/event/egg-drop-raffle-for-st-pauls-cemetery-st-paul-church-high-prairie/
LOCATION:St. Paul’s Church\, High Prairie\, Grande Prairie\, AB
CATEGORIES:Events Calendar
END:VEVENT
BEGIN:VEVENT
DTSTART;TZID=America/Edmonton:20250427T123000
DTEND;TZID=America/Edmonton:20250427T123000
DTSTAMP:20260419T075139
CREATED:20250414T153741Z
LAST-MODIFIED:20250414T153741Z
UID:14017-1745757000-1745757000@www.archgm.ca
SUMMARY:KofC BBQ - St. Joseph Church\, Grande Prairie
DESCRIPTION:K of C BBQ\, April 27\, following 11 am Mass All are welcome\, including spring! Hotdogs\, hamburgers\, beans\, salad and cake for dessert. Gluten-free options available. Cost: donation
URL:https://www.archgm.ca/event/kofc-bbq-st-joseph-church-grande-prairie/
LOCATION:St. Joseph’s Church\, Grande Prairie\, Grande Prairie\, AB
CATEGORIES:Events Calendar
END:VEVENT
BEGIN:VEVENT
DTSTART;TZID=America/Edmonton:20250427T113000
DTEND;TZID=America/Edmonton:20250427T113000
DTSTAMP:20260419T075139
CREATED:20250414T154132Z
LAST-MODIFIED:20250414T154132Z
UID:14021-1745753400-1745753400@www.archgm.ca
SUMMARY:AGM - St. James the Major Church\, Manning
DESCRIPTION:
URL:https://www.archgm.ca/event/agm-st-james-the-major-church-manning/
LOCATION:St. James the Major\, Manning\, Grande Prairie\, AB
CATEGORIES:Events Calendar
END:VEVENT
BEGIN:VEVENT
DTSTART;TZID=America/Edmonton:20250427T110000
DTEND;TZID=America/Edmonton:20250427T110000
DTSTAMP:20260419T075139
CREATED:20250319T163753Z
LAST-MODIFIED:20250319T163753Z
UID:13874-1745751600-1745751600@www.archgm.ca
SUMMARY:Jubilee of Teenagers & Children - Our Lady of Good Counsel\, High Level
DESCRIPTION:
URL:https://www.archgm.ca/event/jubilee-of-teenagers-children-our-lady-of-good-counsel-high-level/
LOCATION:Our Lady of Good Counsel\, High Level\, Grande Prairie\, AB
CATEGORIES:Events Calendar
END:VEVENT
BEGIN:VEVENT
DTSTART;TZID=America/Edmonton:20250427T100000
DTEND;TZID=America/Edmonton:20250427T100000
DTSTAMP:20260419T075139
CREATED:20250331T154059Z
LAST-MODIFIED:20250331T154059Z
UID:13937-1745748000-1745748000@www.archgm.ca
SUMMARY:First Holy Communion - St. Thomas More Church\, Fairivew
DESCRIPTION:
URL:https://www.archgm.ca/event/first-holy-communion-st-thomas-more-church-fairivew/
LOCATION:St. Thomas More Church\, Fairview\, Grande Prairie\, AB
CATEGORIES:Events Calendar
END:VEVENT
BEGIN:VEVENT
DTSTART;TZID=America/Edmonton:20250426T193000
DTEND;TZID=America/Edmonton:20250426T193000
DTSTAMP:20260419T075139
CREATED:20250319T163249Z
LAST-MODIFIED:20250319T163249Z
UID:13865-1745695800-1745695800@www.archgm.ca
SUMMARY:Feast Day Mass - Our Lady of Good Counsel\, High Level
DESCRIPTION:
URL:https://www.archgm.ca/event/feast-day-mass-our-lady-of-good-counsel-high-level/
LOCATION:Our Lady of Good Counsel\, High Level\, Grande Prairie\, AB
CATEGORIES:Events Calendar
END:VEVENT
BEGIN:VEVENT
DTSTART;TZID=America/Edmonton:20250426T100000
DTEND;TZID=America/Edmonton:20250426T150000
DTSTAMP:20260419T075139
CREATED:20250212T185658Z
LAST-MODIFIED:20250212T185710Z
UID:13583-1745661600-1745679600@www.archgm.ca
SUMMARY:Archdiocesan Finance Meeting - Our Lady of Peace\, Peace River
DESCRIPTION:On Saturday\, April 26\, 2025\, the Archdiocese of Grouard-McLennan will have their annual informational meeting. This meeting includes reporting on the financial statements of 2024\, updating information about the performance of the Archdiocese’s pooled investment fund\, reviewing certain policies and presenting the new and amended policies for parishes from 2024. \nThis meeting will be at the Basement of Our Lady of Peace in Peace River\, beginning at 10:00 a.m.
URL:https://www.archgm.ca/event/archdiocesan-finance-meeting-our-lady-of-peace-peace-river/
LOCATION:Our Lady of Peace Church\, Peace River\, Grande Prairie\, AB
CATEGORIES:Archbishop’s Calendar,Events Calendar
END:VEVENT
BEGIN:VEVENT
DTSTART;TZID=America/Edmonton:20250425T190000
DTEND;TZID=America/Edmonton:20250425T190000
DTSTAMP:20260419T075139
CREATED:20250331T154007Z
LAST-MODIFIED:20250331T154007Z
UID:13935-1745607600-1745607600@www.archgm.ca
SUMMARY:First Reconciliation - St. Thomas More Church\, Fairview
DESCRIPTION:
URL:https://www.archgm.ca/event/first-reconciliation-st-thomas-more-church-fairview-2/
LOCATION:St. Thomas More Church\, Fairview\, Grande Prairie\, AB
CATEGORIES:Events Calendar
END:VEVENT
BEGIN:VEVENT
DTSTART;TZID=America/Edmonton:20250425T090000
DTEND;TZID=America/Edmonton:20250425T093000
DTSTAMP:20260419T075139
CREATED:20250331T154856Z
LAST-MODIFIED:20250331T154856Z
UID:13945-1745571600-1745573400@www.archgm.ca
SUMMARY:School Mass - St. Mary's School\, Beaverlodge
DESCRIPTION:
URL:https://www.archgm.ca/event/school-mass-st-marys-school-beaverlodge-2/
LOCATION:St. Mary’s School\, Beaverlodge\, Grande Prairie\, AB
CATEGORIES:Events Calendar
END:VEVENT
BEGIN:VEVENT
DTSTART;TZID=America/Edmonton:20250424T103000
DTEND;TZID=America/Edmonton:20250424T103000
DTSTAMP:20260419T075139
CREATED:20250331T153924Z
LAST-MODIFIED:20250331T153924Z
UID:13933-1745490600-1745490600@www.archgm.ca
SUMMARY:School Mass - St. Thomas More Church\, Fairview
DESCRIPTION:
URL:https://www.archgm.ca/event/school-mass-st-thomas-more-church-fairview-2/
LOCATION:St. Thomas More Church\, Fairview\, Grande Prairie\, AB
CATEGORIES:Events Calendar
END:VEVENT
BEGIN:VEVENT
DTSTART;TZID=America/Edmonton:20250422T103000
DTEND;TZID=America/Edmonton:20250422T113000
DTSTAMP:20260419T075139
CREATED:20250303T185237Z
LAST-MODIFIED:20250303T185237Z
UID:13725-1745317800-1745321400@www.archgm.ca
SUMMARY:School Mass - St. Thomas More Catholic School\, Fairview
DESCRIPTION:
URL:https://www.archgm.ca/event/school-mass-st-thomas-more-catholic-school-fairview/
LOCATION:St. Thomas More School\, Fairview\, Grande Prairie\, AB
CATEGORIES:Events Calendar
END:VEVENT
BEGIN:VEVENT
DTSTART;TZID=America/Edmonton:20250422T100000
DTEND;TZID=America/Edmonton:20250422T160000
DTSTAMP:20260419T075139
CREATED:20250331T153817Z
LAST-MODIFIED:20250331T153817Z
UID:13931-1745316000-1745337600@www.archgm.ca
SUMMARY:Holy Family School Division Faith Day - Catholic Conference Centre\, Peace River
DESCRIPTION:
URL:https://www.archgm.ca/event/holy-family-school-division-faith-day-catholic-conference-centre-peace-river/
LOCATION:Catholic Conference Centre\, Peace River\, Grande Prairie\, AB
CATEGORIES:Events Calendar
END:VEVENT
BEGIN:VEVENT
DTSTART;VALUE=DATE:20250420
DTEND;VALUE=DATE:20250421
DTSTAMP:20260419T075139
CREATED:20250206T182544Z
LAST-MODIFIED:20250206T182544Z
UID:13508-1745107200-1745193599@www.archgm.ca
SUMMARY:Easter Sunday
DESCRIPTION:
URL:https://www.archgm.ca/event/easter-sunday-3/
LOCATION:AB
CATEGORIES:Archbishop’s Calendar,Events Calendar
END:VEVENT
BEGIN:VEVENT
DTSTART;TZID=America/Edmonton:20250418T140000
DTEND;TZID=America/Edmonton:20250418T140000
DTSTAMP:20260419T075139
CREATED:20250331T155605Z
LAST-MODIFIED:20250331T155605Z
UID:13953-1744984800-1744984800@www.archgm.ca
SUMMARY:Stations of the Cross - St. Henry's\, Fort Vermillion
DESCRIPTION:Beginning at 2:15 pm\, followed by Good Friday service
URL:https://www.archgm.ca/event/stations-of-the-cross-st-henrys-fort-vermillion-2/
LOCATION:St. Henri’s\, Fort Vermillion\, Grande Prairie\, AB
CATEGORIES:Events Calendar
END:VEVENT
BEGIN:VEVENT
DTSTART;TZID=America/Edmonton:20250418T140000
DTEND;TZID=America/Edmonton:20250418T140000
DTSTAMP:20260419T075139
CREATED:20250331T153644Z
LAST-MODIFIED:20250331T153644Z
UID:13929-1744984800-1744984800@www.archgm.ca
SUMMARY:Outdoor Way of the Cross - St. Thomas More Church\, Fairview
DESCRIPTION:Begins at 2:00 pm (Weather permitting)
URL:https://www.archgm.ca/event/outdoor-way-of-the-cross-st-thomas-more-church-fairview/
LOCATION:St. Thomas More Church\, Fairview\, Grande Prairie\, AB
CATEGORIES:Events Calendar
END:VEVENT
BEGIN:VEVENT
DTSTART;VALUE=DATE:20250418
DTEND;VALUE=DATE:20250419
DTSTAMP:20260419T075139
CREATED:20250206T182523Z
LAST-MODIFIED:20250206T182523Z
UID:13506-1744934400-1745020799@www.archgm.ca
SUMMARY:Good Friday
DESCRIPTION:
URL:https://www.archgm.ca/event/good-friday-3/
LOCATION:AB
CATEGORIES:Archbishop’s Calendar,Events Calendar
END:VEVENT
BEGIN:VEVENT
DTSTART;TZID=America/Edmonton:20250416T120000
DTEND;TZID=America/Edmonton:20250416T190000
DTSTAMP:20260419T075139
CREATED:20250414T154028Z
LAST-MODIFIED:20250414T154028Z
UID:14019-1744804800-1744830000@www.archgm.ca
SUMMARY:Reconciliation Service - St. James the Major Church\, Manning
DESCRIPTION:Father Cornelius will be available for Reconciliation Wednesday April 16\, 12:00-3:00 and 5:00-7:00
URL:https://www.archgm.ca/event/reconciliation-service-st-james-the-major-church-manning/
LOCATION:St. James the Major\, Manning\, Grande Prairie\, AB
CATEGORIES:Events Calendar
END:VEVENT
BEGIN:VEVENT
DTSTART;TZID=America/Edmonton:20250415T193000
DTEND;TZID=America/Edmonton:20250415T193000
DTSTAMP:20260419T075139
CREATED:20250320T145656Z
LAST-MODIFIED:20250402T213430Z
UID:13889-1744745400-1744745400@www.archgm.ca
SUMMARY:Chrism Mass - St. John the Baptist Cathedral\, McLennan
DESCRIPTION:Chrism Mass\, April 15th\, 7:30 pm\nSt. John the Baptist Cathedral\, McLennan \n \n\nParishioners from throughout the archdiocese are invited to join with Archbishop Pettipas\, Archbishop-designate Charles Duval  and clergy for the Chrism Mass\, held at St. John the Baptist Cathedral on Tuesday\, April 15th. At this special liturgy\, the clergy will renew their commitment of service and ministry to the people of God in our diocese. Then the oils used in the Sacramental life of the church will be blessed – the Oil of Catechumens used in baptism; Oil of the Sick to strengthen\, heal and console the sick and the dying; and the consecration of Chrism\, used in the sacraments of baptism\, confirmation and Holy Orders\, and in the dedication and consecration of churches and altars. \nMass will begin at 7:30 pm\, with food and fellowship in the cathedral hall afterwards. We encourage you to make it part of your Holy Week celebrations! \n 
URL:https://www.archgm.ca/event/chrism-mass-st-john-the-baptist-cathedral-mclennan-2/
LOCATION:St. John the Baptist Cathedral\, McLennan\, Grande Prairie\, AB
CATEGORIES:Archbishop’s Calendar,Events Calendar
END:VEVENT
BEGIN:VEVENT
DTSTART;TZID=America/Edmonton:20250414T170000
DTEND;TZID=America/Edmonton:20250414T170000
DTSTAMP:20260419T075139
CREATED:20250408T214119Z
LAST-MODIFIED:20250408T214119Z
UID:14007-1744650000-1744650000@www.archgm.ca
SUMMARY:Talk by Hudson Byblow - Immaculate Conception Church\, Sexsmith
DESCRIPTION:
URL:https://www.archgm.ca/event/talk-by-hudson-byblow-immaculate-conception-church-sexsmith/
LOCATION:Immaculate Conception Church\, Sexsmith\, Grande Prairie\, AB
CATEGORIES:Events Calendar
END:VEVENT
BEGIN:VEVENT
DTSTART;TZID=America/Edmonton:20250413T120000
DTEND;TZID=America/Edmonton:20250413T140000
DTSTAMP:20260419T075139
CREATED:20250331T152139Z
LAST-MODIFIED:20250331T152139Z
UID:13921-1744545600-1744552800@www.archgm.ca
SUMMARY:String Art Cross Project - St. James the Major\, Manning
DESCRIPTION:We will be creating a beautiful string art cross craft Sunday April 13th. Palm Sunday. Please let Lorraine Ungarian know if you would like to make one for your home. ** We will need yarn! Anyone who has some to spare could you please bring it in a bag with your name on it and put it in the parish office. ** Empire Home Building Centre has been so kind to give us the wood and nails for this craft. Thank you so much!
URL:https://www.archgm.ca/event/string-art-cross-project-st-james-the-major-manning/
LOCATION:St. James the Major\, Manning\, Grande Prairie\, AB
CATEGORIES:Events Calendar
END:VEVENT
BEGIN:VEVENT
DTSTART;VALUE=DATE:20250413
DTEND;VALUE=DATE:20250414
DTSTAMP:20260419T075139
CREATED:20250206T182504Z
LAST-MODIFIED:20250206T182504Z
UID:13504-1744502400-1744588799@www.archgm.ca
SUMMARY:Palm Sunday
DESCRIPTION:
URL:https://www.archgm.ca/event/palm-sunday-2/
LOCATION:AB
CATEGORIES:Archbishop’s Calendar,Events Calendar
END:VEVENT
BEGIN:VEVENT
DTSTART;TZID=America/Edmonton:20250412T103000
DTEND;TZID=America/Edmonton:20250412T190000
DTSTAMP:20260419T075139
CREATED:20250303T185011Z
LAST-MODIFIED:20250303T185011Z
UID:13721-1744453800-1744484400@www.archgm.ca
SUMMARY:Lenten Reconciliation Service - St. Thomas More Church\, Fairview
DESCRIPTION:10:30 am – 12:00 noon \n& 6:15 pm-7:15 pm
URL:https://www.archgm.ca/event/lenten-reconciliation-service-st-thomas-more-church-fairview/
LOCATION:St. Thomas More Church\, Fairview\, Grande Prairie\, AB
CATEGORIES:Events Calendar
END:VEVENT
BEGIN:VEVENT
DTSTART;TZID=America/Edmonton:20250412T100000
DTEND;TZID=America/Edmonton:20250412T150000
DTSTAMP:20260419T075139
CREATED:20250303T185109Z
LAST-MODIFIED:20250331T204115Z
UID:13723-1744452000-1744470000@www.archgm.ca
SUMMARY:CWL Grouard-McLennan Diocesan Convention - St. Paul's Church\, High Prairie
DESCRIPTION:Diocesan CWL convention\, April 12 at 9:30am (Archbishop Pettipas will be speak-ing and the Provincial CWL president will be in attendance.) For more information\, please contact Leovina Bolanos  or Linda VandenBerg \n  \nAll women are invited to join us for the convention—come see what CWL is all about!
URL:https://www.archgm.ca/event/cwl-grouard-mclennan-diocesan-convention-st-pauls-church-high-prairie/
LOCATION:St. Paul’s Church\, High Prairie\, Grande Prairie\, AB
CATEGORIES:Events Calendar
END:VEVENT
BEGIN:VEVENT
DTSTART;TZID=America/Edmonton:20250411T183000
DTEND;TZID=America/Edmonton:20250411T183000
DTSTAMP:20260419T075139
CREATED:20250303T174749Z
LAST-MODIFIED:20250303T174749Z
UID:13673-1744396200-1744396200@www.archgm.ca
SUMMARY:Lenten Stations of the Cross - Our Lady of Good Counsel\, High Level
DESCRIPTION:
URL:https://www.archgm.ca/event/lenten-stations-of-the-cross-our-lady-of-good-counsel-high-level-6/
LOCATION:Our Lady of Good Counsel\, High Level\, Grande Prairie\, AB
CATEGORIES:Events Calendar
END:VEVENT
END:VCALENDAR