BEGIN:VCALENDAR
VERSION:2.0
PRODID:-//Catholic Archdiocese of Grouard-McLennan - ECPv6.15.20//NONSGML v1.0//EN
CALSCALE:GREGORIAN
METHOD:PUBLISH
X-WR-CALNAME:Catholic Archdiocese of Grouard-McLennan
X-ORIGINAL-URL:https://www.archgm.ca
X-WR-CALDESC:Events for Catholic Archdiocese of Grouard-McLennan
REFRESH-INTERVAL;VALUE=DURATION:PT1H
X-Robots-Tag:noindex
X-PUBLISHED-TTL:PT1H
BEGIN:VTIMEZONE
TZID:America/Edmonton
BEGIN:DAYLIGHT
TZOFFSETFROM:-0700
TZOFFSETTO:-0600
TZNAME:MDT
DTSTART:20250309T090000
END:DAYLIGHT
BEGIN:STANDARD
TZOFFSETFROM:-0600
TZOFFSETTO:-0700
TZNAME:MST
DTSTART:20251102T080000
END:STANDARD
BEGIN:DAYLIGHT
TZOFFSETFROM:-0700
TZOFFSETTO:-0600
TZNAME:MDT
DTSTART:20260308T090000
END:DAYLIGHT
BEGIN:STANDARD
TZOFFSETFROM:-0600
TZOFFSETTO:-0700
TZNAME:MST
DTSTART:20261101T080000
END:STANDARD
BEGIN:DAYLIGHT
TZOFFSETFROM:-0700
TZOFFSETTO:-0600
TZNAME:MDT
DTSTART:20270314T090000
END:DAYLIGHT
BEGIN:STANDARD
TZOFFSETFROM:-0600
TZOFFSETTO:-0700
TZNAME:MST
DTSTART:20271107T080000
END:STANDARD
END:VTIMEZONE
BEGIN:VEVENT
DTSTART;TZID=America/Edmonton:20260607T100000
DTEND;TZID=America/Edmonton:20260607T120000
DTSTAMP:20260423T072336
CREATED:20260204T165316Z
LAST-MODIFIED:20260204T165316Z
UID:16928-1780826400-1780833600@www.archgm.ca
SUMMARY:Confirmations - Holy Family Church\, Grimshaw
DESCRIPTION:
URL:https://www.archgm.ca/event/confirmations-holy-family-church-grimshaw/
LOCATION:Holy Family Catholic Church\, Grimshaw\, Grande Prairie\, AB
CATEGORIES:Archbishop’s Calendar,Events Calendar
END:VEVENT
BEGIN:VEVENT
DTSTART;TZID=America/Edmonton:20260609T100000
DTEND;TZID=America/Edmonton:20260609T150000
DTSTAMP:20260423T072336
CREATED:20250710T210137Z
LAST-MODIFIED:20250710T210137Z
UID:14666-1780999200-1781017200@www.archgm.ca
SUMMARY:Council of Priests Meeting - Our Lady of Peace\, Peace River
DESCRIPTION:
URL:https://www.archgm.ca/event/council-of-priests-meeting-our-lady-of-peace-peace-river-8/
LOCATION:Our Lady of Peace Church\, Peace River\, Grande Prairie\, AB
CATEGORIES:Archbishop’s Calendar,Events Calendar
END:VEVENT
BEGIN:VEVENT
DTSTART;TZID=America/Edmonton:20260610T100000
DTEND;TZID=America/Edmonton:20260610T160000
DTSTAMP:20260423T072336
CREATED:20250710T210213Z
LAST-MODIFIED:20250710T210213Z
UID:14668-1781085600-1781107200@www.archgm.ca
SUMMARY:Presbyterium Meeting - Our Lady of Peace\, Peace River
DESCRIPTION:
URL:https://www.archgm.ca/event/presbyterium-meeting-our-lady-of-peace-peace-river-4/
LOCATION:Our Lady of Peace Church\, Peace River\, Grande Prairie\, AB
CATEGORIES:Archbishop’s Calendar,Events Calendar
END:VEVENT
BEGIN:VEVENT
DTSTART;TZID=America/Edmonton:20260613T090000
DTEND;TZID=America/Edmonton:20260613T160000
DTSTAMP:20260423T072336
CREATED:20260326T195939Z
LAST-MODIFIED:20260422T193651Z
UID:17606-1781341200-1781366400@www.archgm.ca
SUMMARY:God Chose You For Me (Marriage Retreat) - St. Joseph Church\, Grande Prairie
DESCRIPTION:The Archdiocese together with Worldwide Marriage Encounter\, are co-sponsoring a one day retreat for married couples. This will be held at St Joseph parish on Saturday June 13\, 2026.  This is a 7 hour experience that helps couples explore the divine dimension of their love and commitment to one another. Through guided reflections\, personal stories and time to share as a couple\, you’ll rediscover how God is present in your marriage. You will discover how your love reveals the presence of Christ in your everyday life. This is a wonderful opportunity to grow in your relationship and bring new life to your marriage. On behalf of the diocese\, I’d like to encourage all married couples to attend this event. Go to the Archdiocese website to register. We also have information and posters on our parish website and in the bulletin. There will be someone at the back of the church after mass with save the date cards. \nParishioners looking to register for this retreat can do so at https://www.archgm.ca/marriage-retreat/ \n \n 
URL:https://www.archgm.ca/event/god-chose-you-for-me-marriage-retreat-st-joseph-church-grande-prairie/
LOCATION:St. Joseph’s Church\, Grande Prairie\, Grande Prairie\, AB
CATEGORIES:Events Calendar
END:VEVENT
BEGIN:VEVENT
DTSTART;TZID=America/Edmonton:20260618T080000
DTEND;TZID=America/Edmonton:20260618T170000
DTSTAMP:20260423T072336
CREATED:20250710T210032Z
LAST-MODIFIED:20250710T210032Z
UID:14664-1781769600-1781802000@www.archgm.ca
SUMMARY:Curia Meeting - Chancery Office\, Grande Prairie
DESCRIPTION:
URL:https://www.archgm.ca/event/curia-meeting-chancery-office-grande-prairie-37/
LOCATION:Chancery Office\, Grande Prairie\, Grande Prairie\, AB
CATEGORIES:Archbishop’s Calendar,Events Calendar
END:VEVENT
BEGIN:VEVENT
DTSTART;TZID=America/Edmonton:20260623T090000
DTEND;TZID=America/Edmonton:20260624T160000
DTSTAMP:20260423T072336
CREATED:20260204T165409Z
LAST-MODIFIED:20260204T165409Z
UID:16930-1782205200-1782316800@www.archgm.ca
SUMMARY:Alberta/NWT Bishops Meeting - Online
DESCRIPTION:
URL:https://www.archgm.ca/event/alberta-nwt-bishops-meeting-online-4/
LOCATION:Online\, Grande Prairie\, AB
CATEGORIES:Archbishop’s Calendar,Events Calendar
END:VEVENT
BEGIN:VEVENT
DTSTART;TZID=America/Edmonton:20260624T190000
DTEND;TZID=America/Edmonton:20260624T210000
DTSTAMP:20260423T072336
CREATED:20260204T165457Z
LAST-MODIFIED:20260204T165457Z
UID:16932-1782327600-1782334800@www.archgm.ca
SUMMARY:Covenant Health Meeting - Chancery Office\, Grande Prairie
DESCRIPTION:
URL:https://www.archgm.ca/event/covenant-health-meeting-chancery-office-grande-prairie-3/
LOCATION:Chancery Office\, Grande Prairie\, Grande Prairie\, AB
CATEGORIES:Archbishop’s Calendar
END:VEVENT
BEGIN:VEVENT
DTSTART;TZID=America/Edmonton:20260625T090000
DTEND;TZID=America/Edmonton:20260625T170000
DTSTAMP:20260423T072336
CREATED:20260204T165543Z
LAST-MODIFIED:20260204T165543Z
UID:16934-1782378000-1782406800@www.archgm.ca
SUMMARY:Symposium on Seminarian Formation - St. Joseph's Seminary\, Edmonton
DESCRIPTION:
URL:https://www.archgm.ca/event/symposium-on-seminarian-formation-st-josephs-seminary-edmonton/
LOCATION:St. Joseph Seminary\, Edmonton\, Grande Prairie\, AB
CATEGORIES:Archbishop’s Calendar,Events Calendar
END:VEVENT
BEGIN:VEVENT
DTSTART;VALUE=DATE:20260629
DTEND;VALUE=DATE:20260630
DTSTAMP:20260423T072336
CREATED:20260204T165633Z
LAST-MODIFIED:20260204T165633Z
UID:16936-1782691200-1782777599@www.archgm.ca
SUMMARY:Reception of the Pallium - Vatican\, Rome
DESCRIPTION:
URL:https://www.archgm.ca/event/reception-of-the-pallium-vatican-rome/
LOCATION:AB
CATEGORIES:Archbishop’s Calendar
END:VEVENT
BEGIN:VEVENT
DTSTART;VALUE=DATE:20260809
DTEND;VALUE=DATE:20260815
DTSTAMP:20260423T072336
CREATED:20260309T143925Z
LAST-MODIFIED:20260309T143925Z
UID:17398-1786233600-1786751999@www.archgm.ca
SUMMARY:Camp Discovery 2026 - High School Week - Pineridge Adventure Camp\, Grande Prairie
DESCRIPTION:Camp Discovery 2026 Join us for an unforgettable week away at Pineridge Adventure Camp-just 10 minutes\nsouth of Grande Prairie\nHigh School Week (gr. 9-12) August 9-14\nJr. High Week (gr.7-9) August 16-21.\nCost is $300 per camper for the week.\nGo to saintjoseph.ca/discovery/camp for more information. Registration now open
URL:https://www.archgm.ca/event/camp-discovery-2026-high-school-week-pineridge-adventure-camp-grande-prairie/
LOCATION:Pineridge Adventure Camp\, Grande Prairie\, Grande Prairie\, AB
CATEGORIES:Events Calendar
END:VEVENT
BEGIN:VEVENT
DTSTART;VALUE=DATE:20260816
DTEND;VALUE=DATE:20260822
DTSTAMP:20260423T072336
CREATED:20260309T143755Z
LAST-MODIFIED:20260309T144033Z
UID:17395-1786838400-1787356799@www.archgm.ca
SUMMARY:Camp Discovery 2026 - Jr. High Week - Pineridge Adventure Camp\, Grande Prairie
DESCRIPTION:Camp Discovery 2026 Join us for an unforgettable week away at Pineridge Adventure Camp-just 10 minutes\nsouth of Grande Prairie\nHigh School Week (gr. 9-12) August 9-14\nJr. High Week (gr.7-9) August 16-21.\nCost is $300 per camper for the week.\nGo to saintjoseph.ca/discovery/camp for more information. Registration now open
URL:https://www.archgm.ca/event/camp-discovery-2026-jr-high-week-pineridge-adventure-camp-grande-prairie/
LOCATION:Pineridge Adventure Camp\, Grande Prairie\, Grande Prairie\, AB
CATEGORIES:Events Calendar
END:VEVENT
BEGIN:VEVENT
DTSTART;TZID=America/Edmonton:20261017T090000
DTEND;TZID=America/Edmonton:20261017T160000
DTSTAMP:20260423T072336
CREATED:20260326T200130Z
LAST-MODIFIED:20260326T200130Z
UID:17610-1792227600-1792252800@www.archgm.ca
SUMMARY:CWL Diocesan Fall Education Workshop - St. Rita's Church\, Valleyview
DESCRIPTION:
URL:https://www.archgm.ca/event/cwl-diocesan-fall-education-workshop-st-ritas-church-valleyview/
LOCATION:St. Rita’s\, Valleyview\, Grande Prairie\, AB
CATEGORIES:Archbishop’s Calendar,Events Calendar
END:VEVENT
END:VCALENDAR