BEGIN:VCALENDAR
VERSION:2.0
PRODID:-//Catholic Archdiocese of Grouard-McLennan - ECPv6.15.20//NONSGML v1.0//EN
CALSCALE:GREGORIAN
METHOD:PUBLISH
X-WR-CALNAME:Catholic Archdiocese of Grouard-McLennan
X-ORIGINAL-URL:https://www.archgm.ca
X-WR-CALDESC:Events for Catholic Archdiocese of Grouard-McLennan
REFRESH-INTERVAL;VALUE=DURATION:PT1H
X-Robots-Tag:noindex
X-PUBLISHED-TTL:PT1H
BEGIN:VTIMEZONE
TZID:America/Edmonton
BEGIN:DAYLIGHT
TZOFFSETFROM:-0700
TZOFFSETTO:-0600
TZNAME:MDT
DTSTART:20230312T090000
END:DAYLIGHT
BEGIN:STANDARD
TZOFFSETFROM:-0600
TZOFFSETTO:-0700
TZNAME:MST
DTSTART:20231105T080000
END:STANDARD
BEGIN:DAYLIGHT
TZOFFSETFROM:-0700
TZOFFSETTO:-0600
TZNAME:MDT
DTSTART:20240310T090000
END:DAYLIGHT
BEGIN:STANDARD
TZOFFSETFROM:-0600
TZOFFSETTO:-0700
TZNAME:MST
DTSTART:20241103T080000
END:STANDARD
BEGIN:DAYLIGHT
TZOFFSETFROM:-0700
TZOFFSETTO:-0600
TZNAME:MDT
DTSTART:20250309T090000
END:DAYLIGHT
BEGIN:STANDARD
TZOFFSETFROM:-0600
TZOFFSETTO:-0700
TZNAME:MST
DTSTART:20251102T080000
END:STANDARD
END:VTIMEZONE
BEGIN:VEVENT
DTSTART;TZID=America/Edmonton:20241204T150000
DTEND;TZID=America/Edmonton:20241204T170000
DTSTAMP:20260424T073647
CREATED:20241120T202511Z
LAST-MODIFIED:20241120T202511Z
UID:12807-1733324400-1733331600@www.archgm.ca
SUMMARY:Children for Christ Club - Our Lady of Good Counsel\, High Level
DESCRIPTION:
URL:https://www.archgm.ca/event/children-for-christ-club-our-lady-of-good-counsel-high-level-18/
LOCATION:Our Lady of Good Counsel\, High Level\, Grande Prairie\, AB
CATEGORIES:Events Calendar
END:VEVENT
BEGIN:VEVENT
DTSTART;TZID=America/Edmonton:20241203T190000
DTEND;TZID=America/Edmonton:20241203T190000
DTSTAMP:20260424T073647
CREATED:20241120T202659Z
LAST-MODIFIED:20241120T202659Z
UID:12813-1733252400-1733252400@www.archgm.ca
SUMMARY:Anointing and Healing Mass - Our Lady of Good Counsel\, High Level
DESCRIPTION:
URL:https://www.archgm.ca/event/anointing-and-healing-mass-our-lady-of-good-counsel-high-level-5/
LOCATION:Our Lady of Good Counsel\, High Level\, Grande Prairie\, AB
CATEGORIES:Events Calendar
END:VEVENT
BEGIN:VEVENT
DTSTART;TZID=America/Edmonton:20241201T180000
DTEND;TZID=America/Edmonton:20241201T180000
DTSTAMP:20260424T073647
CREATED:20241125T184744Z
LAST-MODIFIED:20241125T184744Z
UID:12873-1733076000-1733076000@www.archgm.ca
SUMMARY:Nine Lessons & Carols - Beaverlodge Alliance Church
DESCRIPTION:
URL:https://www.archgm.ca/event/nine-lessons-carols-beaverlodge-alliance-church/
LOCATION:AB
CATEGORIES:Events Calendar
END:VEVENT
BEGIN:VEVENT
DTSTART;TZID=America/Edmonton:20241201T173000
DTEND;TZID=America/Edmonton:20241201T173000
DTSTAMP:20260424T073647
CREATED:20241125T183317Z
LAST-MODIFIED:20241125T183317Z
UID:12858-1733074200-1733074200@www.archgm.ca
SUMMARY:Tourtiere Dinner - St. John the Baptist Cathedral\, McLennan
DESCRIPTION:The parish community at St. John the Baptist Cathedral in McLennan have their annual Tourtiere Dinner coming up on Dec 1st!\n\n\nAs always\, it will have delicious food\, various prizes and Santa Claus will make a visit.
URL:https://www.archgm.ca/event/tourtiere-dinner-st-john-the-baptist-cathedral-mclennan/
LOCATION:St. John the Baptist Cathedral\, McLennan\, Grande Prairie\, AB
CATEGORIES:Events Calendar
END:VEVENT
BEGIN:VEVENT
DTSTART;TZID=America/Edmonton:20241201T150000
DTEND;TZID=America/Edmonton:20241201T170000
DTSTAMP:20260424T073647
CREATED:20241125T205015Z
LAST-MODIFIED:20241125T205015Z
UID:12886-1733065200-1733072400@www.archgm.ca
SUMMARY:Festival of Carols - Centennial Hall\, Spirit River
DESCRIPTION:
URL:https://www.archgm.ca/event/festival-of-carols-centennial-hall-spirit-river/
LOCATION:St. Joseph’s Church\, Spirit River\, Grande Prairie\, AB
CATEGORIES:Events Calendar
END:VEVENT
BEGIN:VEVENT
DTSTART;TZID=America/Edmonton:20241201T120000
DTEND;TZID=America/Edmonton:20241201T120000
DTSTAMP:20260424T073647
CREATED:20241125T184437Z
LAST-MODIFIED:20241125T184437Z
UID:12869-1733054400-1733054400@www.archgm.ca
SUMMARY:Gingerbread Baking and Craft Sale - St. Mary's Church\, Beaverlodge
DESCRIPTION:Sunday\, December 1\, 2024\nSt. Mary’s Church Hall\nImmediately after the 11 am Mass! \nDonations of baked goods\, Gingerbread and\nChristmas Crafts will be greatly appreciated!\nVolunteers are also needed for hall set up. If you\ncan help\, please contact the Parish office.\nAll proceeds will go to Foundation for life and\nthe Beaverlodge Food bank\n(Please drop your donations off in the church hall\nbefore Mass).
URL:https://www.archgm.ca/event/gingerbread-baking-and-craft-sale-st-marys-church-beaverlodge/
LOCATION:St. Mary’s Church\, Beaverlodge\, Grande Prairie\, AB
CATEGORIES:Events Calendar
END:VEVENT
BEGIN:VEVENT
DTSTART;TZID=America/Edmonton:20241130T140000
DTEND;TZID=America/Edmonton:20241130T160000
DTSTAMP:20260424T073647
CREATED:20241120T203441Z
LAST-MODIFIED:20241120T203441Z
UID:12819-1732975200-1732982400@www.archgm.ca
SUMMARY:Advent Wreath Workshop - St. Joseph Church\, Grande Prairie
DESCRIPTION:Advent Wreath Workshop Saturday\, November 30\, 2 to 4 pm\, in Tranquille Hall \n  \nLearn about and create your own Advent Wreath. Register at Advent Wreath $25/wreath/family Payment: on-line at saintjoseph.ca/donate(choose Wreath Making Workshop); e-transfer to sjc.etransfer@gmail.com; cash or cheque.
URL:https://www.archgm.ca/event/advent-wreath-workshop-st-joseph-church-grande-prairie/
LOCATION:St. Joseph’s Church\, Grande Prairie\, Grande Prairie\, AB
CATEGORIES:Events Calendar
END:VEVENT
BEGIN:VEVENT
DTSTART;TZID=America/Edmonton:20241130T093000
DTEND;TZID=America/Edmonton:20241130T160000
DTSTAMP:20260424T073647
CREATED:20241120T204228Z
LAST-MODIFIED:20241120T204228Z
UID:12825-1732959000-1732982400@www.archgm.ca
SUMMARY:Encounters on the Road to Bethlehem: Peace Retreats Advent Retreat - St. Joseph Church\, Grande Prairie
DESCRIPTION:Encounters on the Road to Bethlehem: Peace Retreats Advent Retreat. November 30\, 9:45 am – 3:45 pm in the St JPII Room. \nExplore how God spoke to the major players leading up to the birth of Jesus and still speaks to us today. Led by Sheila Shepherd and Allan Forsberg. Bring a bag lunch; snacks are provided. Cost: cash donation or a Food Bank item.
URL:https://www.archgm.ca/event/encounters-on-the-road-to-bethlehem-peace-retreats-advent-retreat-st-joseph-church-grande-prairie/
LOCATION:St. Joseph’s Church\, Grande Prairie\, Grande Prairie\, AB
CATEGORIES:Events Calendar
END:VEVENT
BEGIN:VEVENT
DTSTART;TZID=America/Edmonton:20241130T093000
DTEND;TZID=America/Edmonton:20241130T133000
DTSTAMP:20260424T073647
CREATED:20240909T190650Z
LAST-MODIFIED:20240909T190650Z
UID:12431-1732959000-1732973400@www.archgm.ca
SUMMARY:Hospitality and Accompaniment Workshop (Deanery 1) - St. John the Baptist Cathedral\, McLennan
DESCRIPTION:The Office of Evangelization and Catechesis has three upcoming Hospitality and Accompaniment Workshops in the Archdiocese: \nDeanery 2: Oct. 26th @ Our Lady of Peace Parish Hall\, Peace River\nDeanery 4: Nov. 23rd @ St. Paul Parish Hall\, High Prairie\nDeanery 1: Nov. 30th @ St. John the Baptist Cathedral\, McLennan \nEach workshop will begin with registration at 9:45 am\, and closing after lunch at 1:30 pm. \nThis is part of the OEC’s continuing efforts in lay formation\, seeking to address the most pressing needs in our parish communities. \nRegister here.
URL:https://www.archgm.ca/event/hospitality-and-accompaniment-workshop-deanery-1-st-john-the-baptist-cathedral-mclennan/
LOCATION:St. John the Baptist Cathedral\, McLennan\, Grande Prairie\, AB
CATEGORIES:Events Calendar
END:VEVENT
BEGIN:VEVENT
DTSTART;TZID=America/Edmonton:20241129T090000
DTEND;TZID=America/Edmonton:20241129T090000
DTSTAMP:20260424T073647
CREATED:20241125T184651Z
LAST-MODIFIED:20241125T184651Z
UID:12871-1732870800-1732870800@www.archgm.ca
SUMMARY:School Mass - St. Mary's School\, Beaverlodge
DESCRIPTION:
URL:https://www.archgm.ca/event/school-mass-st-marys-school-beaverlodge/
LOCATION:St. Mary’s School\, Beaverlodge\, Grande Prairie\, AB
CATEGORIES:Events Calendar
END:VEVENT
BEGIN:VEVENT
DTSTART;VALUE=DATE:20241129
DTEND;VALUE=DATE:20241202
DTSTAMP:20260424T073647
CREATED:20241120T203832Z
LAST-MODIFIED:20241120T203832Z
UID:12821-1732838400-1733097599@www.archgm.ca
SUMMARY:Discovery Overnight Youth Retreat - St. Joseph High School\, Grande Prairie
DESCRIPTION:Overnight Youth Retreat: Nov 29-Dec 1 Grades 7 – 9. This weekend is a great opportunity to make new friends with fun activities\, games\, prayer\, and great food! Register at saintjoseph.ca/discovery Deadline: November 24
URL:https://www.archgm.ca/event/discovery-overnight-youth-retreat-st-joseph-high-school-grande-prairie/
LOCATION:St. Joseph High School\, Grande Prairie\, Grande Prairie\, AB
CATEGORIES:Events Calendar
END:VEVENT
BEGIN:VEVENT
DTSTART;TZID=America/Edmonton:20241128T193000
DTEND;TZID=America/Edmonton:20241128T193000
DTSTAMP:20260424T073647
CREATED:20241028T160007Z
LAST-MODIFIED:20241028T160007Z
UID:12703-1732822200-1732822200@www.archgm.ca
SUMMARY:Ignite: Bible & Beer - Mr. Mike's\, Grande Prairie
DESCRIPTION:Join us for Bible & Beer at Mr. Mikes- an opportunity to grow in our faith and in Catholic community.\nWe will meet at 7:45 pm for food and drinks and a discussion on the Scriptures. (The booking will always be under “St. Joseph Church”) We can’t wait to see you there!\nIgnite is a young adult ministry for Catholics (age 18 and older) in the Grande Prairie area.
URL:https://www.archgm.ca/event/ignite-bible-beer-mr-mikes-grande-prairie-2/
LOCATION:Mr. Mike’s\, Grande Prairie\, Grande Prairie\, AB
CATEGORIES:Events Calendar
END:VEVENT
BEGIN:VEVENT
DTSTART;TZID=America/Edmonton:20241128T183000
DTEND;TZID=America/Edmonton:20241128T183000
DTSTAMP:20260424T073647
CREATED:20241028T154944Z
LAST-MODIFIED:20241028T154944Z
UID:12685-1732818600-1732818600@www.archgm.ca
SUMMARY:Bible Study - St. Peter Celestin Church\, Slave Lake
DESCRIPTION:
URL:https://www.archgm.ca/event/bible-study-st-peter-celestin-church-slave-lake-5/
LOCATION:St. Peter Celestin\, Slave Lake\, Grande Prairie\, AB
CATEGORIES:Events Calendar
END:VEVENT
BEGIN:VEVENT
DTSTART;TZID=America/Edmonton:20241127T190000
DTEND;TZID=America/Edmonton:20241127T190000
DTSTAMP:20260424T073647
CREATED:20241125T183457Z
LAST-MODIFIED:20241125T183457Z
UID:12861-1732734000-1732734000@www.archgm.ca
SUMMARY:CWL Meeting - St. John the Baptist Cathedral\, McLennan
DESCRIPTION:7:00 pm\nNov 27th\n@ McLennan Golden Age Club
URL:https://www.archgm.ca/event/cwl-meeting-st-john-the-baptist-cathedral-mclennan-2/
LOCATION:St. John the Baptist Cathedral\, McLennan\, Grande Prairie\, AB
CATEGORIES:Events Calendar
END:VEVENT
BEGIN:VEVENT
DTSTART;TZID=America/Edmonton:20241127T150000
DTEND;TZID=America/Edmonton:20241127T170000
DTSTAMP:20260424T073647
CREATED:20241028T145757Z
LAST-MODIFIED:20241028T145757Z
UID:12640-1732719600-1732726800@www.archgm.ca
SUMMARY:Children for Christ Club - Our Lady of Good Counsel\, High Level
DESCRIPTION:
URL:https://www.archgm.ca/event/children-for-christ-club-our-lady-of-good-counsel-high-level-17/
LOCATION:Our Lady of Good Counsel\, High Level\, Grande Prairie\, AB
CATEGORIES:Events Calendar
END:VEVENT
BEGIN:VEVENT
DTSTART;TZID=America/Edmonton:20241126T190000
DTEND;TZID=America/Edmonton:20241126T190000
DTSTAMP:20260424T073647
CREATED:20241125T205104Z
LAST-MODIFIED:20241125T205104Z
UID:12888-1732647600-1732647600@www.archgm.ca
SUMMARY:Mass for the Deceased - St. Joseph Church\, Spirit River
DESCRIPTION:
URL:https://www.archgm.ca/event/mass-for-the-deceased-st-joseph-church-spirit-river/
LOCATION:St. Joseph’s Church\, Spirit River\, Grande Prairie\, AB
CATEGORIES:Events Calendar
END:VEVENT
BEGIN:VEVENT
DTSTART;TZID=America/Edmonton:20241126T150000
DTEND;TZID=America/Edmonton:20241126T150000
DTSTAMP:20260424T073647
CREATED:20241120T202410Z
LAST-MODIFIED:20241120T202410Z
UID:12805-1732633200-1732633200@www.archgm.ca
SUMMARY:Reconciliation/First Communion Class - Our Lady of Good Counsel\, High Level
DESCRIPTION:
URL:https://www.archgm.ca/event/reconciliation-first-communion-class-our-lady-of-good-counsel-high-level/
LOCATION:Our Lady of Good Counsel\, High Level\, Grande Prairie\, AB
CATEGORIES:Events Calendar
END:VEVENT
BEGIN:VEVENT
DTSTART;TZID=America/Edmonton:20241126T090000
DTEND;TZID=America/Edmonton:20241126T090000
DTSTAMP:20260424T073647
CREATED:20241028T151827Z
LAST-MODIFIED:20241028T151827Z
UID:12652-1732611600-1732611600@www.archgm.ca
SUMMARY:Rosary for Peace - St. Mary’s Church\, Beaverlodge
DESCRIPTION:Rosary for Peace ~ The CWL invites all to join them in the recitation of the Rosary on every Tuesday\nafter the 9:00 AM Mass\, St. Mary’s Church
URL:https://www.archgm.ca/event/rosary-for-peace-st-marys-church-beaverlodge-5/
LOCATION:St. Mary’s Church\, Beaverlodge\, Grande Prairie\, AB
CATEGORIES:Events Calendar
END:VEVENT
BEGIN:VEVENT
DTSTART;TZID=America/Edmonton:20241125T140000
DTEND;TZID=America/Edmonton:20241125T140000
DTSTAMP:20260424T073647
CREATED:20241125T204543Z
LAST-MODIFIED:20241125T204543Z
UID:12880-1732543200-1732543200@www.archgm.ca
SUMMARY:Bible Study - Our Lady of Peace\, Peace River
DESCRIPTION:
URL:https://www.archgm.ca/event/bible-study-our-lady-of-peace-peace-river-5/
LOCATION:Our Lady of Peace Church\, Peace River\, Grande Prairie\, AB
CATEGORIES:Events Calendar
END:VEVENT
BEGIN:VEVENT
DTSTART;TZID=America/Edmonton:20241124T110000
DTEND;TZID=America/Edmonton:20241124T120000
DTSTAMP:20260424T073647
CREATED:20241028T155847Z
LAST-MODIFIED:20241028T155847Z
UID:12701-1732446000-1732449600@www.archgm.ca
SUMMARY:Rite of Acceptance - St. Joseph Church\, Grande Prairie
DESCRIPTION:The Rite of Acceptance is an ancient Rite that recognizes the Catechumens decision to begin the process of becoming a member of the Catholic Church through Baptism and welcomes the Candidates\, those who have been baptized in another faith or baptized Catholic as a child\, but never catechized in the Catholic faith\, into the process of full communion with the Church.
URL:https://www.archgm.ca/event/rite-of-acceptance-st-joseph-church-grande-prairie/
LOCATION:St. Joseph’s Church\, Grande Prairie\, Grande Prairie\, AB
CATEGORIES:Events Calendar
END:VEVENT
BEGIN:VEVENT
DTSTART;TZID=America/Edmonton:20241123T130000
DTEND;TZID=America/Edmonton:20241123T160000
DTSTAMP:20260424T073647
CREATED:20241120T215158Z
LAST-MODIFIED:20241120T215228Z
UID:12838-1732366800-1732377600@www.archgm.ca
SUMMARY:CWL Tea & Bazaar - Our Lady of Peace\, Peace River
DESCRIPTION:Tea and goodies\, Christmas item sale\, silent auction and bake sale. \n1-4 pm on Saturday\, Nov. 23rd
URL:https://www.archgm.ca/event/cwl-tea-bazaar-our-lady-of-peace-peace-river-2/
LOCATION:Our Lady of Peace Church\, Peace River\, Grande Prairie\, AB
CATEGORIES:Events Calendar
END:VEVENT
BEGIN:VEVENT
DTSTART;TZID=America/Edmonton:20241123T093000
DTEND;TZID=America/Edmonton:20241123T133000
DTSTAMP:20260424T073647
CREATED:20240909T190743Z
LAST-MODIFIED:20240909T190743Z
UID:12433-1732354200-1732368600@www.archgm.ca
SUMMARY:Hospitality and Accompaniment Workshop (Deanery 4) - St. Paul's\, High Prairie
DESCRIPTION:Hospitality and Accompaniment Workshop (Deanery 2) – Our Lady of Peace\, Peace River \nThe Office of Evangelization and Catechesis has three upcoming Hospitality and Accompaniment Workshops in the Archdiocese: \nDeanery 2: Oct. 26th @ Our Lady of Peace Parish Hall\, Peace River\nDeanery 4: Nov. 23rd @ St. Paul Parish Hall\, High Prairie\nDeanery 1: Nov. 30th @ St. John the Baptist Cathedral\, McLennan \nEach workshop will begin with registration at 9:45 am\, and closing after lunch at 1:30 pm. \nThis is part of the OEC’s continuing efforts in lay formation\, seeking to address the most pressing needs in our parish communities. \nRegister here.
URL:https://www.archgm.ca/event/hospitality-and-accompaniment-workshop-deanery-4-st-pauls-high-prairie/
LOCATION:St. Paul’s Church\, High Prairie\, Grande Prairie\, AB
CATEGORIES:Events Calendar
END:VEVENT
BEGIN:VEVENT
DTSTART;TZID=America/Edmonton:20241123T090000
DTEND;TZID=America/Edmonton:20241123T090000
DTSTAMP:20260424T073647
CREATED:20241120T202029Z
LAST-MODIFIED:20241120T202029Z
UID:12801-1732352400-1732352400@www.archgm.ca
SUMMARY:KofC Breakfast - Our Lady of Good Counsel\, High Level
DESCRIPTION:
URL:https://www.archgm.ca/event/kofc-breakfast-our-lady-of-good-counsel-high-level-2/
LOCATION:Our Lady of Good Counsel\, High Level\, Grande Prairie\, AB
CATEGORIES:Events Calendar
END:VEVENT
BEGIN:VEVENT
DTSTART;TZID=America/Edmonton:20241121T183000
DTEND;TZID=America/Edmonton:20241121T183000
DTSTAMP:20260424T073647
CREATED:20241028T154923Z
LAST-MODIFIED:20241028T154923Z
UID:12683-1732213800-1732213800@www.archgm.ca
SUMMARY:Bible Study - St. Peter Celestin Church\, Slave Lake
DESCRIPTION:
URL:https://www.archgm.ca/event/bible-study-st-peter-celestin-church-slave-lake-4/
LOCATION:St. Peter Celestin\, Slave Lake\, Grande Prairie\, AB
CATEGORIES:Events Calendar
END:VEVENT
BEGIN:VEVENT
DTSTART;TZID=America/Edmonton:20241120T193000
DTEND;TZID=America/Edmonton:20241120T193000
DTSTAMP:20260424T073647
CREATED:20241120T203238Z
LAST-MODIFIED:20241120T203238Z
UID:12817-1732131000-1732131000@www.archgm.ca
SUMMARY:Faith Daze: The Dignity of Life - St. Joseph Church\, Grande Prairie
DESCRIPTION:The Dignity of Life November 20\, 7:45 pm\, Tranquille Hall \nEven with the many advances in medicine\, death remains an inevitable reality. Rather than see it as the great enemy\, our Catholic faith sees it as an important journey. Indeed\, our faith in Jesus Christ has much to teach us about living well until the end of life. We will reflect on how our Catholic faith changes our perspective on both palliative care and medical assistance in dying.
URL:https://www.archgm.ca/event/faith-daze-the-dignity-of-life-st-joseph-church-grande-prairie/
LOCATION:St. Joseph’s Church\, Grande Prairie\, Grande Prairie\, AB
CATEGORIES:Events Calendar
END:VEVENT
BEGIN:VEVENT
DTSTART;TZID=America/Edmonton:20241120T150000
DTEND;TZID=America/Edmonton:20241120T170000
DTSTAMP:20260424T073647
CREATED:20241028T145734Z
LAST-MODIFIED:20241028T145734Z
UID:12638-1732114800-1732122000@www.archgm.ca
SUMMARY:Children for Christ Club - Our Lady of Good Counsel\, High Level
DESCRIPTION:
URL:https://www.archgm.ca/event/children-for-christ-club-our-lady-of-good-counsel-high-level-16/
LOCATION:Our Lady of Good Counsel\, High Level\, Grande Prairie\, AB
CATEGORIES:Events Calendar
END:VEVENT
BEGIN:VEVENT
DTSTART;TZID=America/Edmonton:20241119T193000
DTEND;TZID=America/Edmonton:20241119T193000
DTSTAMP:20260424T073647
CREATED:20241120T202151Z
LAST-MODIFIED:20241120T202151Z
UID:12803-1732044600-1732044600@www.archgm.ca
SUMMARY:PPC Meeting - Our Lady of Good Counsel\, High Level
DESCRIPTION:
URL:https://www.archgm.ca/event/ppc-meeting-our-lady-of-good-counsel-high-level/
LOCATION:Our Lady of Good Counsel\, High Level\, Grande Prairie\, AB
CATEGORIES:Events Calendar
END:VEVENT
BEGIN:VEVENT
DTSTART;TZID=America/Edmonton:20241119T090000
DTEND;TZID=America/Edmonton:20241119T090000
DTSTAMP:20260424T073647
CREATED:20241028T151746Z
LAST-MODIFIED:20241028T151746Z
UID:12650-1732006800-1732006800@www.archgm.ca
SUMMARY:Rosary for Peace - St. Mary’s Church\, Beaverlodge
DESCRIPTION:Rosary for Peace ~ The CWL invites all to join them in the recitation of the Rosary on every Tuesday\nafter the 9:00 AM Mass\, St. Mary’s Church
URL:https://www.archgm.ca/event/rosary-for-peace-st-marys-church-beaverlodge-4/
LOCATION:St. Mary’s Church\, Beaverlodge\, Grande Prairie\, AB
CATEGORIES:Events Calendar
END:VEVENT
BEGIN:VEVENT
DTSTART;TZID=America/Edmonton:20241117T133000
DTEND;TZID=America/Edmonton:20241117T150000
DTSTAMP:20260424T073647
CREATED:20241028T153839Z
LAST-MODIFIED:20241028T153839Z
UID:12670-1731850200-1731855600@www.archgm.ca
SUMMARY:CWL Bingo and Bakesale Fundraiser - Community Hall\, Rycroft
DESCRIPTION:Doors open at 1pm\, bake sale begins at 1:30 pm and bingo at 2:00 pm\nNov. 17th
URL:https://www.archgm.ca/event/cwl-bingo-and-bakesale-fundraiser-community-hall-rycroft/
LOCATION:Rycroft Community Hall\, Rycroft\, Grande Prairie\, AB
CATEGORIES:Events Calendar
END:VEVENT
BEGIN:VEVENT
DTSTART;TZID=America/Edmonton:20241116T173000
DTEND;TZID=America/Edmonton:20241116T213000
DTSTAMP:20260424T073647
CREATED:20241028T155359Z
LAST-MODIFIED:20241028T155359Z
UID:12691-1731778200-1731792600@www.archgm.ca
SUMMARY:Youth Choir & High School Youth Group - St. Joseph Church\, Grande Prairie
DESCRIPTION:Youth grades 7-12 are invited to join us for pizza in Tranquille Hall at 5:30pm\, followed by choir practice and the 7pm Mass. \nFollowing mass youth in grades 9-12 are invited for High School Youth Group in St. John Paul II Room.
URL:https://www.archgm.ca/event/youth-choir-high-school-youth-group-st-joseph-church-grande-prairie-6/
LOCATION:St. Joseph’s Church\, Grande Prairie\, Grande Prairie\, AB
CATEGORIES:Events Calendar
END:VEVENT
END:VCALENDAR