BEGIN:VCALENDAR
VERSION:2.0
PRODID:-//Catholic Archdiocese of Grouard-McLennan - ECPv6.15.20//NONSGML v1.0//EN
CALSCALE:GREGORIAN
METHOD:PUBLISH
X-WR-CALNAME:Catholic Archdiocese of Grouard-McLennan
X-ORIGINAL-URL:https://www.archgm.ca
X-WR-CALDESC:Events for Catholic Archdiocese of Grouard-McLennan
REFRESH-INTERVAL;VALUE=DURATION:PT1H
X-Robots-Tag:noindex
X-PUBLISHED-TTL:PT1H
BEGIN:VTIMEZONE
TZID:America/Edmonton
BEGIN:DAYLIGHT
TZOFFSETFROM:-0700
TZOFFSETTO:-0600
TZNAME:MDT
DTSTART:20240310T090000
END:DAYLIGHT
BEGIN:STANDARD
TZOFFSETFROM:-0600
TZOFFSETTO:-0700
TZNAME:MST
DTSTART:20241103T080000
END:STANDARD
BEGIN:DAYLIGHT
TZOFFSETFROM:-0700
TZOFFSETTO:-0600
TZNAME:MDT
DTSTART:20250309T090000
END:DAYLIGHT
BEGIN:STANDARD
TZOFFSETFROM:-0600
TZOFFSETTO:-0700
TZNAME:MST
DTSTART:20251102T080000
END:STANDARD
BEGIN:DAYLIGHT
TZOFFSETFROM:-0700
TZOFFSETTO:-0600
TZNAME:MDT
DTSTART:20260308T090000
END:DAYLIGHT
BEGIN:STANDARD
TZOFFSETFROM:-0600
TZOFFSETTO:-0700
TZNAME:MST
DTSTART:20261101T080000
END:STANDARD
END:VTIMEZONE
BEGIN:VEVENT
DTSTART;TZID=America/Edmonton:20250215T170000
DTEND;TZID=America/Edmonton:20250215T213000
DTSTAMP:20260422T040302
CREATED:20250206T164408Z
LAST-MODIFIED:20250206T164408Z
UID:13460-1739638800-1739655000@www.archgm.ca
SUMMARY:Youth Choir & High School Youth Group - St. Joseph Church\, Grande Prairie
DESCRIPTION:Youth grades 7-12 are invited to join us for pizza in Tranquille Hall at 5:30pm\, followed by choir practice and the 7pm Mass. \nFollowing mass youth in grades 9-12 are invited for High School Youth Group in St. John Paul II Room.
URL:https://www.archgm.ca/event/youth-choir-high-school-youth-group-st-joseph-church-grande-prairie-8/
LOCATION:St. Joseph’s Church\, Grande Prairie\, Grande Prairie\, AB
CATEGORIES:Events Calendar
END:VEVENT
BEGIN:VEVENT
DTSTART;TZID=America/Edmonton:20250215T110000
DTEND;TZID=America/Edmonton:20250215T153000
DTSTAMP:20260422T040302
CREATED:20250207T151846Z
LAST-MODIFIED:20250207T151846Z
UID:13542-1739617200-1739633400@www.archgm.ca
SUMMARY:Couple's Retreat - St. Joseph Church\, Grande Prairie
DESCRIPTION:“Don’t miss out on this chance to reconnect and strengthen your love\, together. \nSign up today for a couples retreat on Feb 15th and take the next step toward a more vibrant\, loving future.\nE-mail: sjc-marriage@gpcsd.ca to register” \nFull details on poster:
URL:https://www.archgm.ca/event/couples-retreat-st-joseph-church-grande-prairie/
LOCATION:St. Joseph’s Church\, Grande Prairie\, Grande Prairie\, AB
CATEGORIES:Events Calendar
END:VEVENT
BEGIN:VEVENT
DTSTART;TZID=America/Edmonton:20250215T110000
DTEND;TZID=America/Edmonton:20250215T110000
DTSTAMP:20260422T040302
CREATED:20250127T160841Z
LAST-MODIFIED:20250127T160841Z
UID:13299-1739617200-1739617200@www.archgm.ca
SUMMARY:Winter Carnival Mass - St. Isidore Church\, St. Isidore
DESCRIPTION:
URL:https://www.archgm.ca/event/winter-carnival-mass-st-isidore-church-st-isidore/
LOCATION:St. Isidore Church\, St. Isidore\, Grande Prairie\, AB
CATEGORIES:Events Calendar
END:VEVENT
BEGIN:VEVENT
DTSTART;VALUE=DATE:20250214
DTEND;VALUE=DATE:20250218
DTSTAMP:20260422T040302
CREATED:20250206T163735Z
LAST-MODIFIED:20250206T163735Z
UID:13453-1739491200-1739836799@www.archgm.ca
SUMMARY:Women’s Cursillo Weekend - St. Joseph Church\, Grande Prairie
DESCRIPTION:This Women’s Cursillo is a 3 day retreat weekend beginning on Friday evening\, February 14th\, until Sunday afternoon\, February 17th. During the weekend\, there will be talks (given by different Cursillo community members)\, discussion\, sharing\, prayer\, lots of laughter and good food. Our goal is to help you to know that you are loved by God and to build supportive Christian community.
URL:https://www.archgm.ca/event/womens-cursillo-weekend-st-joseph-church-grande-prairie/
LOCATION:St. Joseph’s Church\, Grande Prairie\, Grande Prairie\, AB
CATEGORIES:Events Calendar
END:VEVENT
BEGIN:VEVENT
DTSTART;TZID=America/Edmonton:20250213T190000
DTEND;TZID=America/Edmonton:20250213T203000
DTSTAMP:20260422T040302
CREATED:20250207T160354Z
LAST-MODIFIED:20250207T160354Z
UID:13545-1739473200-1739478600@www.archgm.ca
SUMMARY:OCIA Session - St. Thomas More Church\, Fairview
DESCRIPTION:
URL:https://www.archgm.ca/event/ocia-session-st-thomas-more-church-fairview-2/
LOCATION:St. Thomas More Church\, Fairview\, Grande Prairie\, AB
CATEGORIES:Events Calendar
END:VEVENT
BEGIN:VEVENT
DTSTART;TZID=America/Edmonton:20250213T173000
DTEND;TZID=America/Edmonton:20250213T203000
DTSTAMP:20260422T040302
CREATED:20250206T163342Z
LAST-MODIFIED:20250206T163342Z
UID:13449-1739467800-1739478600@www.archgm.ca
SUMMARY:Games Night - St. Joseph Church\, Grande Prairie
DESCRIPTION:Game Night presented by the Knights of Columbus is an evening full of food\, fellowship and fun. From crib tournaments and cards to board games\, there is fun for the whole family! \n  \nJoin us this month for pork tenderloin\, mashed potatoes\, veggies\, strawberry pecan salad\, and carrot cake for dessert\, all provided by Major’s Family Restaurant. Donations accepted with proceeds going to cooking for youth ministry.
URL:https://www.archgm.ca/event/games-night-st-joseph-church-grande-prairie-6/
LOCATION:St. Joseph’s Church\, Grande Prairie\, Grande Prairie\, AB
CATEGORIES:Events Calendar
END:VEVENT
BEGIN:VEVENT
DTSTART;TZID=America/Edmonton:20250213T090000
DTEND;TZID=America/Edmonton:20250213T170000
DTSTAMP:20260422T040302
CREATED:20250206T174626Z
LAST-MODIFIED:20250206T174626Z
UID:13485-1739437200-1739466000@www.archgm.ca
SUMMARY:CCCB  Standing Committee for Family & Life - Zoom
DESCRIPTION:
URL:https://www.archgm.ca/event/cccb-standing-committee-for-family-life-zoom/
LOCATION:Online\, Grande Prairie\, AB
CATEGORIES:Archbishop’s Calendar,Events Calendar
END:VEVENT
BEGIN:VEVENT
DTSTART;TZID=America/Edmonton:20250212T170000
DTEND;TZID=America/Edmonton:20250212T170000
DTSTAMP:20260422T040303
CREATED:20250206T165123Z
LAST-MODIFIED:20250206T165123Z
UID:13473-1739379600-1739379600@www.archgm.ca
SUMMARY:PPC Meeting - St. Thomas More Church\, Fairview
DESCRIPTION:
URL:https://www.archgm.ca/event/ppc-meeting-st-thomas-more-church-fairview/
LOCATION:St. Thomas More Church\, Fairview\, Grande Prairie\, AB
CATEGORIES:Events Calendar
END:VEVENT
BEGIN:VEVENT
DTSTART;TZID=America/Edmonton:20250212T150000
DTEND;TZID=America/Edmonton:20250212T170000
DTSTAMP:20260422T040303
CREATED:20250206T154956Z
LAST-MODIFIED:20250206T154956Z
UID:13429-1739372400-1739379600@www.archgm.ca
SUMMARY:Children for Christ Club – Our Lady of Good Counsel\, High Level
DESCRIPTION:
URL:https://www.archgm.ca/event/children-for-christ-club-our-lady-of-good-counsel-high-level-21/
LOCATION:Our Lady of Good Counsel\, High Level\, Grande Prairie\, AB
CATEGORIES:Events Calendar
END:VEVENT
BEGIN:VEVENT
DTSTART;TZID=America/Edmonton:20250212T120000
DTEND;TZID=America/Edmonton:20250212T120000
DTSTAMP:20260422T040303
CREATED:20250206T174427Z
LAST-MODIFIED:20250206T174708Z
UID:13483-1739361600-1739361600@www.archgm.ca
SUMMARY:Meeting with Chief Halcrow on Grouard Church - Chancery Office\, Grande Prairie
DESCRIPTION:
URL:https://www.archgm.ca/event/meeting-with-chief-halcrow-on-grouard-church-chancery-office-grande-prairie/
LOCATION:Chancery Office\, Grande Prairie\, Grande Prairie\, AB
CATEGORIES:Archbishop’s Calendar,Events Calendar
END:VEVENT
BEGIN:VEVENT
DTSTART;TZID=America/Edmonton:20250211T193000
DTEND;TZID=America/Edmonton:20250211T210000
DTSTAMP:20260422T040303
CREATED:20250206T163224Z
LAST-MODIFIED:20250206T163224Z
UID:13447-1739302200-1739307600@www.archgm.ca
SUMMARY:CWL Meeting - St. Joseph Church\, Grande Prairie
DESCRIPTION:The Grande Prairie Catholic Women’s League meet following the 7pm mass in the Grouard Room on the 2nd Tuesday of every month. Please join us if you are a member or new members are always welcome!
URL:https://www.archgm.ca/event/cwl-meeting-st-joseph-church-grande-prairie-2/
LOCATION:St. Joseph’s Church\, Grande Prairie\, Grande Prairie\, AB
CATEGORIES:Events Calendar
END:VEVENT
BEGIN:VEVENT
DTSTART;TZID=America/Edmonton:20250211T190000
DTEND;TZID=America/Edmonton:20250211T190000
DTSTAMP:20260422T040303
CREATED:20250206T155942Z
LAST-MODIFIED:20250206T155942Z
UID:13437-1739300400-1739300400@www.archgm.ca
SUMMARY:Feast of Our Lady of Lourdes: Confession\, Mass and Healing Services - Our Lady of Lourdes\, Girouxville
DESCRIPTION:Begins at 7:00 pm with a Rosary and time for confessions\, followed by Mass
URL:https://www.archgm.ca/event/feast-of-our-lady-of-lourdes-confession-mass-and-healing-services-our-lady-of-lourdes-girouxville/
LOCATION:Paroisse Notre Dame De Lourdes\, Girouxville\, Grande Prairie\, AB
CATEGORIES:Events Calendar
END:VEVENT
BEGIN:VEVENT
DTSTART;TZID=America/Edmonton:20250211T190000
DTEND;TZID=America/Edmonton:20250211T190000
DTSTAMP:20260422T040303
CREATED:20250206T154817Z
LAST-MODIFIED:20250206T154817Z
UID:13423-1739300400-1739300400@www.archgm.ca
SUMMARY:Anointing and Healing Mass – Our Lady of Good Counsel\, High Level
DESCRIPTION:
URL:https://www.archgm.ca/event/anointing-and-healing-mass-our-lady-of-good-counsel-high-level-6/
LOCATION:Our Lady of Good Counsel\, High Level\, Grande Prairie\, AB
CATEGORIES:Events Calendar
END:VEVENT
BEGIN:VEVENT
DTSTART;TZID=America/Edmonton:20250211T170000
DTEND;TZID=America/Edmonton:20250211T170000
DTSTAMP:20260422T040303
CREATED:20250206T162248Z
LAST-MODIFIED:20250206T162248Z
UID:13443-1739293200-1739293200@www.archgm.ca
SUMMARY:PPC Meeting - St. Mary's Church\, Beaverlodge
DESCRIPTION:February 11: Tuesday: PPC Meeting at St. Mary’s meeting\, 5pm
URL:https://www.archgm.ca/event/ppc-meeting-st-marys-church-beaverlodge-8/
LOCATION:St. Mary’s Church\, Beaverlodge\, Grande Prairie\, AB
CATEGORIES:Events Calendar
END:VEVENT
BEGIN:VEVENT
DTSTART;TZID=America/Edmonton:20250211T100000
DTEND;TZID=America/Edmonton:20250211T143000
DTSTAMP:20260422T040303
CREATED:20250206T174111Z
LAST-MODIFIED:20250206T174111Z
UID:13479-1739268000-1739284200@www.archgm.ca
SUMMARY:Archdiocesan Finance Council Meeting - Chancery Office\, Grande Prairie
DESCRIPTION:
URL:https://www.archgm.ca/event/archdiocesan-finance-council-meeting-chancery-office-grande-prairie/
LOCATION:Chancery Office\, Grande Prairie\, Grande Prairie\, AB
CATEGORIES:Archbishop’s Calendar,Events Calendar
END:VEVENT
BEGIN:VEVENT
DTSTART;TZID=America/Edmonton:20250211T070000
DTEND;TZID=America/Edmonton:20250211T080000
DTSTAMP:20260422T040303
CREATED:20250206T174249Z
LAST-MODIFIED:20250206T174249Z
UID:13481-1739257200-1739260800@www.archgm.ca
SUMMARY:Cursillo Group - St. Joseph Church\, Grande Prairie
DESCRIPTION:
URL:https://www.archgm.ca/event/cursillo-group-st-joseph-church-grande-prairie/
LOCATION:St. Joseph’s Church\, Grande Prairie\, Grande Prairie\, AB
CATEGORIES:Archbishop’s Calendar,Events Calendar
END:VEVENT
BEGIN:VEVENT
DTSTART;TZID=America/Edmonton:20250209T100000
DTEND;TZID=America/Edmonton:20250209T140000
DTSTAMP:20260422T040303
CREATED:20250206T163037Z
LAST-MODIFIED:20250206T163037Z
UID:13445-1739095200-1739109600@www.archgm.ca
SUMMARY:KofC Sandwich Sunday - St. Joseph Church\, Grande Prairie
DESCRIPTION:Gather in Tranquille Hall after 9 am or 11am mass to make sandwiches for the St. Lawrence Centre. Parishioners are invited to drop off supplies for making sandwiches for the hungry\, and/or join in making the sandwiches after the Sunday masses. \nItems to bring: \n\nSandwich Meat\nCheese\nPeanut Butter\nJam\nMayonnaise\nZiploc Bags
URL:https://www.archgm.ca/event/kofc-sandwich-sunday-st-joseph-church-grande-prairie-3/
LOCATION:St. Joseph’s Church\, Grande Prairie\, Grande Prairie\, AB
CATEGORIES:Events Calendar
END:VEVENT
BEGIN:VEVENT
DTSTART;TZID=America/Edmonton:20250207T170000
DTEND;TZID=America/Edmonton:20250207T170000
DTSTAMP:20260422T040303
CREATED:20250206T155110Z
LAST-MODIFIED:20250206T155110Z
UID:13435-1738947600-1738947600@www.archgm.ca
SUMMARY:Baptism Preperation – Our Lady of Good Counsel\, High Level
DESCRIPTION:
URL:https://www.archgm.ca/event/baptism-preperation-our-lady-of-good-counsel-high-level/
LOCATION:Our Lady of Good Counsel\, High Level\, Grande Prairie\, AB
CATEGORIES:Events Calendar
END:VEVENT
BEGIN:VEVENT
DTSTART;TZID=America/Edmonton:20250207T103000
DTEND;TZID=America/Edmonton:20250207T120000
DTSTAMP:20260422T040303
CREATED:20250206T164808Z
LAST-MODIFIED:20250206T164808Z
UID:13467-1738924200-1738929600@www.archgm.ca
SUMMARY:School Mass - St. Thomas More Church\, Fairview
DESCRIPTION:
URL:https://www.archgm.ca/event/school-mass-st-thomas-more-church-fairview/
LOCATION:St. Thomas More Church\, Fairview\, Grande Prairie\, AB
CATEGORIES:Events Calendar
END:VEVENT
BEGIN:VEVENT
DTSTART;TZID=America/Edmonton:20250207T090000
DTEND;TZID=America/Edmonton:20250207T180000
DTSTAMP:20260422T040303
CREATED:20250206T160133Z
LAST-MODIFIED:20250206T160133Z
UID:13439-1738918800-1738951200@www.archgm.ca
SUMMARY:Eucharistic Adoration & Confessions - St. John the Baptist Cathedral\, McLennan
DESCRIPTION:Adoration from 9:30 am to 6:00 pm\nBegins with Rosary and Chaplet of Divine Mercy at 9:00 am\nConfessions available until 11:00 am
URL:https://www.archgm.ca/event/eucharistic-adoration-confessions-st-john-the-baptist-cathedral-mclennan/
LOCATION:St. John the Baptist Cathedral\, McLennan\, Grande Prairie\, AB
CATEGORIES:Events Calendar
END:VEVENT
BEGIN:VEVENT
DTSTART;TZID=America/Edmonton:20250206T190000
DTEND;TZID=America/Edmonton:20250206T203000
DTSTAMP:20260422T040303
CREATED:20250206T165051Z
LAST-MODIFIED:20250206T165051Z
UID:13471-1738868400-1738873800@www.archgm.ca
SUMMARY:OCIA Session - St. Thomas More Church\, Fairview
DESCRIPTION:
URL:https://www.archgm.ca/event/ocia-session-st-thomas-more-church-fairview/
LOCATION:St. Thomas More Church\, Fairview\, Grande Prairie\, AB
CATEGORIES:Events Calendar
END:VEVENT
BEGIN:VEVENT
DTSTART;TZID=America/Edmonton:20250206T130000
DTEND;TZID=America/Edmonton:20250206T170000
DTSTAMP:20260422T040303
CREATED:20250206T173528Z
LAST-MODIFIED:20250206T173528Z
UID:13477-1738846800-1738861200@www.archgm.ca
SUMMARY:Curia Meeting - Chancery\, Grande Prairie
DESCRIPTION:
URL:https://www.archgm.ca/event/curia-meeting-chancery-grande-prairie-5/
LOCATION:Chancery Office\, Grande Prairie\, Grande Prairie\, AB
CATEGORIES:Archbishop’s Calendar,Events Calendar
END:VEVENT
BEGIN:VEVENT
DTSTART;TZID=America/Edmonton:20250202T110000
DTEND;TZID=America/Edmonton:20250202T110000
DTSTAMP:20260422T040303
CREATED:20250128T175202Z
LAST-MODIFIED:20250128T175202Z
UID:13369-1738494000-1738494000@www.archgm.ca
SUMMARY:Youth Mass - St. Mary's Church\, Beaverlodge
DESCRIPTION:February 2\, 2025\nAt 11AM\nSt. Mary’s Church
URL:https://www.archgm.ca/event/youth-mass-st-marys-church-beaverlodge-2/
LOCATION:St. Mary’s Church\, Beaverlodge\, Grande Prairie\, AB
CATEGORIES:Events Calendar
END:VEVENT
BEGIN:VEVENT
DTSTART;TZID=America/Edmonton:20250201T170000
DTEND;TZID=America/Edmonton:20250201T213000
DTSTAMP:20260422T040303
CREATED:20250206T164328Z
LAST-MODIFIED:20250206T164328Z
UID:13459-1738429200-1738445400@www.archgm.ca
SUMMARY:Youth Choir & High School Youth Group - St. Joseph Church\, Grande Prairie
DESCRIPTION:Youth grades 7-12 are invited to join us for pizza in Tranquille Hall at 5:30pm\, followed by choir practice and the 7pm Mass. \nFollowing mass youth in grades 9-12 are invited for High School Youth Group in St. John Paul II Room.
URL:https://www.archgm.ca/event/youth-choir-high-school-youth-group-st-joseph-church-grande-prairie-7/
LOCATION:St. Joseph’s Church\, Grande Prairie\, Grande Prairie\, AB
CATEGORIES:Events Calendar
END:VEVENT
BEGIN:VEVENT
DTSTART;TZID=America/Edmonton:20250201T080000
DTEND;TZID=America/Edmonton:20250201T090000
DTSTAMP:20260422T040303
CREATED:20250206T164917Z
LAST-MODIFIED:20250206T164917Z
UID:13469-1738396800-1738400400@www.archgm.ca
SUMMARY:Rosary\, Adoration & Novena - St. Thomas More Church\, Fairview
DESCRIPTION:
URL:https://www.archgm.ca/event/rosary-adoration-novena-st-thomas-more-church-fairview/
LOCATION:St. Thomas More Church\, Fairview\, Grande Prairie\, AB
CATEGORIES:Events Calendar
END:VEVENT
BEGIN:VEVENT
DTSTART;TZID=America/Edmonton:20250128T100000
DTEND;TZID=America/Edmonton:20250128T160000
DTSTAMP:20260422T040303
CREATED:20241129T185043Z
LAST-MODIFIED:20241129T185043Z
UID:12911-1738058400-1738080000@www.archgm.ca
SUMMARY:Council of Priests Meeting - Online (Zoom)
DESCRIPTION:
URL:https://www.archgm.ca/event/council-of-priests-meeting-online-zoom/
LOCATION:Online\, Grande Prairie\, AB
CATEGORIES:Archbishop’s Calendar,Events Calendar
END:VEVENT
BEGIN:VEVENT
DTSTART;TZID=America/Edmonton:20250127T190000
DTEND;TZID=America/Edmonton:20250127T190000
DTSTAMP:20260422T040303
CREATED:20250110T224804Z
LAST-MODIFIED:20250110T224804Z
UID:13212-1738004400-1738004400@www.archgm.ca
SUMMARY:Deanery 2 Council Meeting (Online)
DESCRIPTION:Meeting for the parishes of Deanery 2\, 7:00 pm via Zoom
URL:https://www.archgm.ca/event/deanery-2-council-meeting-online/
LOCATION:Online\, Grande Prairie\, AB
CATEGORIES:Events Calendar
END:VEVENT
BEGIN:VEVENT
DTSTART;TZID=America/Edmonton:20250126T170000
DTEND;TZID=America/Edmonton:20250126T170000
DTSTAMP:20260422T040303
CREATED:20250110T225004Z
LAST-MODIFIED:20250110T225004Z
UID:13216-1737910800-1737910800@www.archgm.ca
SUMMARY:Into the Breach - St. Thomas More Church\, Fairview
DESCRIPTION:Faith formation program hosted by Knights of Columbus\,\n12 week program beginning on January 26th
URL:https://www.archgm.ca/event/into-the-breach-st-thomas-more-church-fairview/
LOCATION:St. Thomas More Church\, Fairview\, Grande Prairie\, AB
CATEGORIES:Events Calendar
END:VEVENT
BEGIN:VEVENT
DTSTART;VALUE=DATE:20250126
DTEND;VALUE=DATE:20250127
DTSTAMP:20260422T040303
CREATED:20250110T153512Z
LAST-MODIFIED:20250110T153512Z
UID:13191-1737849600-1737935999@www.archgm.ca
SUMMARY:Sunday of the Word of God
DESCRIPTION:
URL:https://www.archgm.ca/event/sunday-of-the-word-of-god-2/
LOCATION:AB
CATEGORIES:Archbishop’s Calendar,Events Calendar
END:VEVENT
BEGIN:VEVENT
DTSTART;TZID=America/Edmonton:20250125T090000
DTEND;TZID=America/Edmonton:20250125T160000
DTSTAMP:20260422T040303
CREATED:20241120T203053Z
LAST-MODIFIED:20241120T203053Z
UID:12815-1737795600-1737820800@www.archgm.ca
SUMMARY:Faith in Action Men's Conference - St. Joseph Church\, Grande Prairie
DESCRIPTION:All men (16+) are invited to attend the Faith in Action Men’s Conference on Saturday\, January 25th\, 2025 at Saint Joseph Catholic Church in Grande Prairie. This year’s theme “We love because He first loved us” (1 John 4:19) explores the topic of marriage. Our catholic faith offers us a unique vision of marriage wherein God expresses His love to us through another person. \nJoin justice Kevin Feehan & Dr. Mona-Lee Feehan as we explore how to celebrate our gifts within our relationships and families\, recognize the challenge of daily love\, and find joy in the journey. We warmly invite you to join us in this meaningful experience. \nTickets are $35 which includes lunch\, refreshments\, and door prizes. For more information please see the poster at the back of the Church and contact Hervey Chabot for tickets and details. \nIf you are a man looking for deeper meaning in your life and marriage\, join us as we explore how “we love because He first loved us.” \n  \nContact Hervey Chabot for tickets and details. \n(780) 228-2199 herveychabot@gmail.com
URL:https://www.archgm.ca/event/faith-in-action-mens-conference-st-joseph-church-grande-prairie/
LOCATION:St. Joseph’s Church\, Grande Prairie\, Grande Prairie\, AB
CATEGORIES:Events Calendar
END:VEVENT
END:VCALENDAR