BEGIN:VCALENDAR
VERSION:2.0
PRODID:-//Catholic Archdiocese of Grouard-McLennan - ECPv6.15.20//NONSGML v1.0//EN
CALSCALE:GREGORIAN
METHOD:PUBLISH
X-WR-CALNAME:Catholic Archdiocese of Grouard-McLennan
X-ORIGINAL-URL:https://www.archgm.ca
X-WR-CALDESC:Events for Catholic Archdiocese of Grouard-McLennan
REFRESH-INTERVAL;VALUE=DURATION:PT1H
X-Robots-Tag:noindex
X-PUBLISHED-TTL:PT1H
BEGIN:VTIMEZONE
TZID:America/Edmonton
BEGIN:DAYLIGHT
TZOFFSETFROM:-0700
TZOFFSETTO:-0600
TZNAME:MDT
DTSTART:20240310T090000
END:DAYLIGHT
BEGIN:STANDARD
TZOFFSETFROM:-0600
TZOFFSETTO:-0700
TZNAME:MST
DTSTART:20241103T080000
END:STANDARD
BEGIN:DAYLIGHT
TZOFFSETFROM:-0700
TZOFFSETTO:-0600
TZNAME:MDT
DTSTART:20250309T090000
END:DAYLIGHT
BEGIN:STANDARD
TZOFFSETFROM:-0600
TZOFFSETTO:-0700
TZNAME:MST
DTSTART:20251102T080000
END:STANDARD
BEGIN:DAYLIGHT
TZOFFSETFROM:-0700
TZOFFSETTO:-0600
TZNAME:MDT
DTSTART:20260308T090000
END:DAYLIGHT
BEGIN:STANDARD
TZOFFSETFROM:-0600
TZOFFSETTO:-0700
TZNAME:MST
DTSTART:20261101T080000
END:STANDARD
END:VTIMEZONE
BEGIN:VEVENT
DTSTART;TZID=America/Edmonton:20250301T100000
DTEND;TZID=America/Edmonton:20250301T150000
DTSTAMP:20260419T225943
CREATED:20250206T211714Z
LAST-MODIFIED:20250212T165932Z
UID:13518-1740823200-1740841200@www.archgm.ca
SUMMARY:Archdiocesan Pastoral Council Meeting - Online
DESCRIPTION:
URL:https://www.archgm.ca/event/archdiocesan-finance-council-meeting-chancery-office-grande-prairie-2/
LOCATION:Chancery Office\, Grande Prairie\, Grande Prairie\, AB
CATEGORIES:Archbishop’s Calendar,Events Calendar
END:VEVENT
BEGIN:VEVENT
DTSTART;TZID=America/Edmonton:20250228T190000
DTEND;TZID=America/Edmonton:20250228T190000
DTSTAMP:20260419T225943
CREATED:20250206T175558Z
LAST-MODIFIED:20250206T175558Z
UID:13502-1740769200-1740769200@www.archgm.ca
SUMMARY:Ultreya - St. Joseph Church\, Grande Prairie
DESCRIPTION:
URL:https://www.archgm.ca/event/ultreya-st-joseph-church-grande-prairie-2/
LOCATION:St. Joseph’s Church\, Grande Prairie\, Grande Prairie\, AB
CATEGORIES:Archbishop’s Calendar,Events Calendar
END:VEVENT
BEGIN:VEVENT
DTSTART;TZID=America/Edmonton:20250226T150000
DTEND;TZID=America/Edmonton:20250226T170000
DTSTAMP:20260419T225943
CREATED:20250206T155037Z
LAST-MODIFIED:20250206T155037Z
UID:13433-1740582000-1740589200@www.archgm.ca
SUMMARY:Children for Christ Club – Our Lady of Good Counsel\, High Level
DESCRIPTION:
URL:https://www.archgm.ca/event/children-for-christ-club-our-lady-of-good-counsel-high-level-23/
LOCATION:Our Lady of Good Counsel\, High Level\, Grande Prairie\, AB
CATEGORIES:Events Calendar
END:VEVENT
BEGIN:VEVENT
DTSTART;TZID=America/Edmonton:20250225T190000
DTEND;TZID=America/Edmonton:20250225T190000
DTSTAMP:20260419T225943
CREATED:20250206T154914Z
LAST-MODIFIED:20250206T154914Z
UID:13427-1740510000-1740510000@www.archgm.ca
SUMMARY:Anointing and Healing Mass – Our Lady of Good Counsel\, High Level
DESCRIPTION:
URL:https://www.archgm.ca/event/anointing-and-healing-mass-our-lady-of-good-counsel-high-level-8/
LOCATION:Our Lady of Good Counsel\, High Level\, Grande Prairie\, AB
CATEGORIES:Events Calendar
END:VEVENT
BEGIN:VEVENT
DTSTART;TZID=America/Edmonton:20250225T070000
DTEND;TZID=America/Edmonton:20250225T073000
DTSTAMP:20260419T225943
CREATED:20250206T174939Z
LAST-MODIFIED:20250206T174939Z
UID:13490-1740466800-1740468600@www.archgm.ca
SUMMARY:Cursillo Group - St. Joseph Church\, Grande Prairie
DESCRIPTION:
URL:https://www.archgm.ca/event/cursillo-group-st-joseph-church-grande-prairie-3/
LOCATION:St. Joseph’s Church\, Grande Prairie\, Grande Prairie\, AB
CATEGORIES:Archbishop’s Calendar,Events Calendar
END:VEVENT
BEGIN:VEVENT
DTSTART;VALUE=DATE:20250225
DTEND;VALUE=DATE:20250228
DTSTAMP:20260419T225943
CREATED:20250206T175511Z
LAST-MODIFIED:20250206T175511Z
UID:13500-1740441600-1740700799@www.archgm.ca
SUMMARY:Western Catholic Bishops Meeting - Victoria\, BC
DESCRIPTION:
URL:https://www.archgm.ca/event/western-catholic-bishops-meeting-victoria-bc/
LOCATION:AB
CATEGORIES:Archbishop’s Calendar,Events Calendar
END:VEVENT
BEGIN:VEVENT
DTSTART;TZID=America/Edmonton:20250223T100000
DTEND;TZID=America/Edmonton:20250223T130000
DTSTAMP:20260419T225943
CREATED:20250206T163557Z
LAST-MODIFIED:20250207T151624Z
UID:13451-1740304800-1740315600@www.archgm.ca
SUMMARY:Pancake Breakfast - St. Joseph Church\, Grande Prairie
DESCRIPTION:Join us for Pancakes\, sausage\, eggs\, fruit\, and beverages following the 9 am and 11 am masses.
URL:https://www.archgm.ca/event/pancake-breakfast-st-joseph-church-grande-prairie/
LOCATION:St. Joseph’s Church\, Grande Prairie\, Grande Prairie\, AB
CATEGORIES:Events Calendar
END:VEVENT
BEGIN:VEVENT
DTSTART;TZID=America/Edmonton:20250223T100000
DTEND;TZID=America/Edmonton:20250223T120000
DTSTAMP:20260419T225943
CREATED:20250206T165207Z
LAST-MODIFIED:20250206T165207Z
UID:13475-1740304800-1740312000@www.archgm.ca
SUMMARY:KofC Exemplification Ceremony - St. Thomas More Church\, Fairview
DESCRIPTION:
URL:https://www.archgm.ca/event/kofc-exemplification-ceremony-st-thomas-more-church-fairview/
LOCATION:St. Thomas More Church\, Fairview\, Grande Prairie\, AB
CATEGORIES:Events Calendar
END:VEVENT
BEGIN:VEVENT
DTSTART;TZID=America/Edmonton:20250223T100000
DTEND;TZID=America/Edmonton:20250223T100000
DTSTAMP:20260419T225943
CREATED:20250206T161832Z
LAST-MODIFIED:20250206T161832Z
UID:13441-1740304800-1740304800@www.archgm.ca
SUMMARY:Hospitality Training - St. Mary's Church\, Beaverlodge
DESCRIPTION:A training course for ushers/greeters\, welcoming hosts and all who may be interested will be held on\nSunday February 23\n10am\nSt. Mary’s Church meeting room\nAll are welcome to attend!
URL:https://www.archgm.ca/event/hospitality-training-st-marys-church-beaverlodge/
LOCATION:St. Mary’s Church\, Beaverlodge\, Grande Prairie\, AB
CATEGORIES:Events Calendar
END:VEVENT
BEGIN:VEVENT
DTSTART;TZID=America/Edmonton:20250222T100000
DTEND;TZID=America/Edmonton:20250222T150000
DTSTAMP:20260419T225943
CREATED:20250110T160004Z
LAST-MODIFIED:20250110T160004Z
UID:13197-1740218400-1740236400@www.archgm.ca
SUMMARY:CWL Spiritual Workshop - Agricultural Hall\, Berwyn
DESCRIPTION:
URL:https://www.archgm.ca/event/cwl-spiritual-workshop-agricultural-hall-berwyn/
LOCATION:AB
CATEGORIES:Events Calendar
END:VEVENT
BEGIN:VEVENT
DTSTART;TZID=America/Edmonton:20250221T190000
DTEND;TZID=America/Edmonton:20250221T210000
DTSTAMP:20260419T225943
CREATED:20250206T164110Z
LAST-MODIFIED:20250206T164110Z
UID:13457-1740164400-1740171600@www.archgm.ca
SUMMARY:EDGE (Grs. 7-9) - St. Joseph Church\, Grande Prairie
DESCRIPTION:Grades 7-9 welcome to join us to grow in friendship with eachother and God. Tons of games\, snacks & fun. 1st & 3rd Fridays from 7-8:30pm in SJPII Room
URL:https://www.archgm.ca/event/edge-grs-7-9-st-joseph-church-grande-prairie/
LOCATION:St. Joseph’s Church\, Grande Prairie\, Grande Prairie\, AB
CATEGORIES:Events Calendar
END:VEVENT
BEGIN:VEVENT
DTSTART;TZID=America/Edmonton:20250220T193000
DTEND;TZID=America/Edmonton:20250220T210000
DTSTAMP:20260419T225943
CREATED:20250206T175414Z
LAST-MODIFIED:20250206T175414Z
UID:13498-1740079800-1740085200@www.archgm.ca
SUMMARY:Jubilee Year Committee Meeting - Online
DESCRIPTION:
URL:https://www.archgm.ca/event/jubilee-year-committee-meeting-online/
LOCATION:Online\, Grande Prairie\, AB
CATEGORIES:Archbishop’s Calendar,Events Calendar
END:VEVENT
BEGIN:VEVENT
DTSTART;TZID=America/Edmonton:20250220T193000
DTEND;TZID=America/Edmonton:20250220T203000
DTSTAMP:20260419T225943
CREATED:20250206T163901Z
LAST-MODIFIED:20250206T163901Z
UID:13455-1740079800-1740083400@www.archgm.ca
SUMMARY:Prayers for Healing - St. Joseph Church\, Grande Prairie
DESCRIPTION:Our monthly healing prayer service on the 3rd Thursday of the month. Join us after the 7 pm Mass in church. The Prayer Team prays for all types of healing: mental\, physical\, emotional\, spiritual and even for someone not present through a proxy. Attend Mass and stay for prayer.
URL:https://www.archgm.ca/event/prayers-for-healing-st-joseph-church-grande-prairie-5/
LOCATION:St. Joseph’s Church\, Grande Prairie\, Grande Prairie\, AB
CATEGORIES:Events Calendar
END:VEVENT
BEGIN:VEVENT
DTSTART;TZID=America/Edmonton:20250220T093000
DTEND;TZID=America/Edmonton:20250220T170000
DTSTAMP:20260419T225943
CREATED:20250206T175324Z
LAST-MODIFIED:20250206T175324Z
UID:13496-1740043800-1740070800@www.archgm.ca
SUMMARY:Curia Meeting - Chancery Office\, Grande Prairie
DESCRIPTION:
URL:https://www.archgm.ca/event/curia-meeting-chancery-office-grande-prairie-14/
LOCATION:Chancery Office\, Grande Prairie\, Grande Prairie\, AB
CATEGORIES:Archbishop’s Calendar,Events Calendar
END:VEVENT
BEGIN:VEVENT
DTSTART;TZID=America/Edmonton:20250219T150000
DTEND;TZID=America/Edmonton:20250219T170000
DTSTAMP:20260419T225943
CREATED:20250206T155018Z
LAST-MODIFIED:20250206T155018Z
UID:13431-1739977200-1739984400@www.archgm.ca
SUMMARY:Children for Christ Club – Our Lady of Good Counsel\, High Level
DESCRIPTION:
URL:https://www.archgm.ca/event/children-for-christ-club-our-lady-of-good-counsel-high-level-22/
LOCATION:Our Lady of Good Counsel\, High Level\, Grande Prairie\, AB
CATEGORIES:Events Calendar
END:VEVENT
BEGIN:VEVENT
DTSTART;TZID=America/Edmonton:20250218T190000
DTEND;TZID=America/Edmonton:20250218T190000
DTSTAMP:20260419T225943
CREATED:20250206T154846Z
LAST-MODIFIED:20250206T154846Z
UID:13425-1739905200-1739905200@www.archgm.ca
SUMMARY:Anointing and Healing Mass – Our Lady of Good Counsel\, High Level
DESCRIPTION:
URL:https://www.archgm.ca/event/anointing-and-healing-mass-our-lady-of-good-counsel-high-level-7/
LOCATION:Our Lady of Good Counsel\, High Level\, Grande Prairie\, AB
CATEGORIES:Events Calendar
END:VEVENT
BEGIN:VEVENT
DTSTART;TZID=America/Edmonton:20250218T180000
DTEND;TZID=America/Edmonton:20250218T180000
DTSTAMP:20260419T225943
CREATED:20250206T164719Z
LAST-MODIFIED:20250206T164719Z
UID:13465-1739901600-1739901600@www.archgm.ca
SUMMARY:CWL Meeting - St. Thomas More Church\, Fairview
DESCRIPTION:Feb 18th\n6:00 pm\n“Welcome to Your CWL” event for new members
URL:https://www.archgm.ca/event/cwl-meeting-st-thomas-more-church-fairview/
LOCATION:St. Thomas More Church\, Fairview\, Grande Prairie\, AB
CATEGORIES:Events Calendar
END:VEVENT
BEGIN:VEVENT
DTSTART;TZID=America/Edmonton:20250218T173000
DTEND;TZID=America/Edmonton:20250218T173000
DTSTAMP:20260419T225943
CREATED:20250218T153738Z
LAST-MODIFIED:20250218T153738Z
UID:13596-1739899800-1739899800@www.archgm.ca
SUMMARY:Liturgy Committee for Lent Preparation - Our Lady of Good Counsel\, High Level
DESCRIPTION:Easter is fast approaching. We are meeting on February 18 at 5:30pm\, to get ready for Ash Wednesday ( March 5) and Lent. Everyone willing to help is encouraged to attend to help us prepare for the Lenten season.
URL:https://www.archgm.ca/event/liturgy-committee-for-lent-preparation-our-lady-of-good-counsel-high-level/
LOCATION:Our Lady of Good Counsel\, High Level\, Grande Prairie\, AB
CATEGORIES:Events Calendar
END:VEVENT
BEGIN:VEVENT
DTSTART;TZID=America/Edmonton:20250218T133000
DTEND;TZID=America/Edmonton:20250218T170000
DTSTAMP:20260419T225943
CREATED:20250206T175212Z
LAST-MODIFIED:20250206T175212Z
UID:13494-1739885400-1739898000@www.archgm.ca
SUMMARY:APC Executive Meeting - Chancery Office\, Grande Prairie
DESCRIPTION:
URL:https://www.archgm.ca/event/apc-executive-meeting-chancery-office-grande-prairie/
LOCATION:St. Joseph’s Church\, Grande Prairie\, Grande Prairie\, AB
CATEGORIES:Archbishop’s Calendar,Events Calendar
END:VEVENT
BEGIN:VEVENT
DTSTART;TZID=America/Edmonton:20250218T070000
DTEND;TZID=America/Edmonton:20250218T073000
DTSTAMP:20260419T225943
CREATED:20250206T174849Z
LAST-MODIFIED:20250206T174849Z
UID:13487-1739862000-1739863800@www.archgm.ca
SUMMARY:Cursillo Group - St. Joseph Church\, Grande Prairie
DESCRIPTION:
URL:https://www.archgm.ca/event/cursillo-group-st-joseph-church-grande-prairie-2/
LOCATION:St. Joseph’s Church\, Grande Prairie\, Grande Prairie\, AB
CATEGORIES:Archbishop’s Calendar,Events Calendar
END:VEVENT
BEGIN:VEVENT
DTSTART;TZID=America/Edmonton:20250216T120000
DTEND;TZID=America/Edmonton:20250216T140000
DTSTAMP:20260419T225943
CREATED:20250127T161118Z
LAST-MODIFIED:20250127T161118Z
UID:13301-1739707200-1739714400@www.archgm.ca
SUMMARY:KofC Council Meeting - Our Lady of Good Counsel\, High Level
DESCRIPTION:
URL:https://www.archgm.ca/event/kofc-council-meeting-our-lady-of-good-counsel-high-level/
LOCATION:Our Lady of Good Counsel\, High Level\, Grande Prairie\, AB
CATEGORIES:Events Calendar
END:VEVENT
BEGIN:VEVENT
DTSTART;TZID=America/Edmonton:20250216T103000
DTEND;TZID=America/Edmonton:20250216T120000
DTSTAMP:20260419T225943
CREATED:20250210T181008Z
LAST-MODIFIED:20250210T181008Z
UID:13554-1739701800-1739707200@www.archgm.ca
SUMMARY:Family Day Celebration/Draw - St. John the Baptist Cathedral\, McLennan
DESCRIPTION:As part of the town’s Family Day Celebration\, a draw will be held at the end of Sunday Mass\, Feb. 16th for a McLennan Donair & Pizza family gift card\, donated by the CWL.
URL:https://www.archgm.ca/event/family-day-celebration-draw-st-john-the-baptist-cathedral-mclennan/
LOCATION:St. John the Baptist Cathedral\, McLennan\, Grande Prairie\, AB
CATEGORIES:Events Calendar
END:VEVENT
BEGIN:VEVENT
DTSTART;TZID=America/Edmonton:20250215T170000
DTEND;TZID=America/Edmonton:20250215T213000
DTSTAMP:20260419T225943
CREATED:20250206T164408Z
LAST-MODIFIED:20250206T164408Z
UID:13460-1739638800-1739655000@www.archgm.ca
SUMMARY:Youth Choir & High School Youth Group - St. Joseph Church\, Grande Prairie
DESCRIPTION:Youth grades 7-12 are invited to join us for pizza in Tranquille Hall at 5:30pm\, followed by choir practice and the 7pm Mass. \nFollowing mass youth in grades 9-12 are invited for High School Youth Group in St. John Paul II Room.
URL:https://www.archgm.ca/event/youth-choir-high-school-youth-group-st-joseph-church-grande-prairie-8/
LOCATION:St. Joseph’s Church\, Grande Prairie\, Grande Prairie\, AB
CATEGORIES:Events Calendar
END:VEVENT
BEGIN:VEVENT
DTSTART;TZID=America/Edmonton:20250215T110000
DTEND;TZID=America/Edmonton:20250215T153000
DTSTAMP:20260419T225943
CREATED:20250207T151846Z
LAST-MODIFIED:20250207T151846Z
UID:13542-1739617200-1739633400@www.archgm.ca
SUMMARY:Couple's Retreat - St. Joseph Church\, Grande Prairie
DESCRIPTION:“Don’t miss out on this chance to reconnect and strengthen your love\, together. \nSign up today for a couples retreat on Feb 15th and take the next step toward a more vibrant\, loving future.\nE-mail: sjc-marriage@gpcsd.ca to register” \nFull details on poster:
URL:https://www.archgm.ca/event/couples-retreat-st-joseph-church-grande-prairie/
LOCATION:St. Joseph’s Church\, Grande Prairie\, Grande Prairie\, AB
CATEGORIES:Events Calendar
END:VEVENT
BEGIN:VEVENT
DTSTART;TZID=America/Edmonton:20250215T110000
DTEND;TZID=America/Edmonton:20250215T110000
DTSTAMP:20260419T225943
CREATED:20250127T160841Z
LAST-MODIFIED:20250127T160841Z
UID:13299-1739617200-1739617200@www.archgm.ca
SUMMARY:Winter Carnival Mass - St. Isidore Church\, St. Isidore
DESCRIPTION:
URL:https://www.archgm.ca/event/winter-carnival-mass-st-isidore-church-st-isidore/
LOCATION:St. Isidore Church\, St. Isidore\, Grande Prairie\, AB
CATEGORIES:Events Calendar
END:VEVENT
BEGIN:VEVENT
DTSTART;VALUE=DATE:20250214
DTEND;VALUE=DATE:20250218
DTSTAMP:20260419T225943
CREATED:20250206T163735Z
LAST-MODIFIED:20250206T163735Z
UID:13453-1739491200-1739836799@www.archgm.ca
SUMMARY:Women’s Cursillo Weekend - St. Joseph Church\, Grande Prairie
DESCRIPTION:This Women’s Cursillo is a 3 day retreat weekend beginning on Friday evening\, February 14th\, until Sunday afternoon\, February 17th. During the weekend\, there will be talks (given by different Cursillo community members)\, discussion\, sharing\, prayer\, lots of laughter and good food. Our goal is to help you to know that you are loved by God and to build supportive Christian community.
URL:https://www.archgm.ca/event/womens-cursillo-weekend-st-joseph-church-grande-prairie/
LOCATION:St. Joseph’s Church\, Grande Prairie\, Grande Prairie\, AB
CATEGORIES:Events Calendar
END:VEVENT
BEGIN:VEVENT
DTSTART;TZID=America/Edmonton:20250213T190000
DTEND;TZID=America/Edmonton:20250213T203000
DTSTAMP:20260419T225943
CREATED:20250207T160354Z
LAST-MODIFIED:20250207T160354Z
UID:13545-1739473200-1739478600@www.archgm.ca
SUMMARY:OCIA Session - St. Thomas More Church\, Fairview
DESCRIPTION:
URL:https://www.archgm.ca/event/ocia-session-st-thomas-more-church-fairview-2/
LOCATION:St. Thomas More Church\, Fairview\, Grande Prairie\, AB
CATEGORIES:Events Calendar
END:VEVENT
BEGIN:VEVENT
DTSTART;TZID=America/Edmonton:20250213T173000
DTEND;TZID=America/Edmonton:20250213T203000
DTSTAMP:20260419T225943
CREATED:20250206T163342Z
LAST-MODIFIED:20250206T163342Z
UID:13449-1739467800-1739478600@www.archgm.ca
SUMMARY:Games Night - St. Joseph Church\, Grande Prairie
DESCRIPTION:Game Night presented by the Knights of Columbus is an evening full of food\, fellowship and fun. From crib tournaments and cards to board games\, there is fun for the whole family! \n  \nJoin us this month for pork tenderloin\, mashed potatoes\, veggies\, strawberry pecan salad\, and carrot cake for dessert\, all provided by Major’s Family Restaurant. Donations accepted with proceeds going to cooking for youth ministry.
URL:https://www.archgm.ca/event/games-night-st-joseph-church-grande-prairie-6/
LOCATION:St. Joseph’s Church\, Grande Prairie\, Grande Prairie\, AB
CATEGORIES:Events Calendar
END:VEVENT
BEGIN:VEVENT
DTSTART;TZID=America/Edmonton:20250213T090000
DTEND;TZID=America/Edmonton:20250213T170000
DTSTAMP:20260419T225943
CREATED:20250206T174626Z
LAST-MODIFIED:20250206T174626Z
UID:13485-1739437200-1739466000@www.archgm.ca
SUMMARY:CCCB  Standing Committee for Family & Life - Zoom
DESCRIPTION:
URL:https://www.archgm.ca/event/cccb-standing-committee-for-family-life-zoom/
LOCATION:Online\, Grande Prairie\, AB
CATEGORIES:Archbishop’s Calendar,Events Calendar
END:VEVENT
BEGIN:VEVENT
DTSTART;TZID=America/Edmonton:20250212T170000
DTEND;TZID=America/Edmonton:20250212T170000
DTSTAMP:20260419T225943
CREATED:20250206T165123Z
LAST-MODIFIED:20250206T165123Z
UID:13473-1739379600-1739379600@www.archgm.ca
SUMMARY:PPC Meeting - St. Thomas More Church\, Fairview
DESCRIPTION:
URL:https://www.archgm.ca/event/ppc-meeting-st-thomas-more-church-fairview/
LOCATION:St. Thomas More Church\, Fairview\, Grande Prairie\, AB
CATEGORIES:Events Calendar
END:VEVENT
END:VCALENDAR