BEGIN:VCALENDAR
VERSION:2.0
PRODID:-//Catholic Archdiocese of Grouard-McLennan - ECPv6.15.20//NONSGML v1.0//EN
CALSCALE:GREGORIAN
METHOD:PUBLISH
X-ORIGINAL-URL:https://www.archgm.ca
X-WR-CALDESC:Events for Catholic Archdiocese of Grouard-McLennan
REFRESH-INTERVAL;VALUE=DURATION:PT1H
X-Robots-Tag:noindex
X-PUBLISHED-TTL:PT1H
BEGIN:VTIMEZONE
TZID:America/Edmonton
BEGIN:DAYLIGHT
TZOFFSETFROM:-0700
TZOFFSETTO:-0600
TZNAME:MDT
DTSTART:20250309T090000
END:DAYLIGHT
BEGIN:STANDARD
TZOFFSETFROM:-0600
TZOFFSETTO:-0700
TZNAME:MST
DTSTART:20251102T080000
END:STANDARD
BEGIN:DAYLIGHT
TZOFFSETFROM:-0700
TZOFFSETTO:-0600
TZNAME:MDT
DTSTART:20260308T090000
END:DAYLIGHT
BEGIN:STANDARD
TZOFFSETFROM:-0600
TZOFFSETTO:-0700
TZNAME:MST
DTSTART:20261101T080000
END:STANDARD
BEGIN:DAYLIGHT
TZOFFSETFROM:-0700
TZOFFSETTO:-0600
TZNAME:MDT
DTSTART:20270314T090000
END:DAYLIGHT
BEGIN:STANDARD
TZOFFSETFROM:-0600
TZOFFSETTO:-0700
TZNAME:MST
DTSTART:20271107T080000
END:STANDARD
END:VTIMEZONE
BEGIN:VEVENT
DTSTART;TZID=America/Edmonton:20260107T163000
DTEND;TZID=America/Edmonton:20260107T170000
DTSTAMP:20260419T194452
CREATED:20260105T183148Z
LAST-MODIFIED:20260105T183148Z
UID:16172-1767803400-1767805200@www.archgm.ca
SUMMARY:Christian Meditation - St. Mary's Church\, Beaverlodge
DESCRIPTION:
URL:https://www.archgm.ca/event/christian-meditation-st-marys-church-beaverlodge-3/
LOCATION:St. Mary’s Church\, Beaverlodge\, Grande Prairie\, AB
CATEGORIES:Events Calendar
END:VEVENT
BEGIN:VEVENT
DTSTART;TZID=America/Edmonton:20260108T080000
DTEND;TZID=America/Edmonton:20260108T170000
DTSTAMP:20260419T194452
CREATED:20250710T202624Z
LAST-MODIFIED:20250710T202624Z
UID:14596-1767859200-1767891600@www.archgm.ca
SUMMARY:Curia Meeting - Chancery Office\, Grande Prairie
DESCRIPTION:
URL:https://www.archgm.ca/event/curia-meeting-chancery-office-grande-prairie-26/
LOCATION:Chancery Office\, Grande Prairie\, Grande Prairie\, AB
CATEGORIES:Archbishop’s Calendar,Events Calendar
END:VEVENT
BEGIN:VEVENT
DTSTART;TZID=America/Edmonton:20260108T173000
DTEND;TZID=America/Edmonton:20260108T203000
DTSTAMP:20260419T194452
CREATED:20260105T181041Z
LAST-MODIFIED:20260105T181041Z
UID:16148-1767893400-1767904200@www.archgm.ca
SUMMARY:Games Night - St. Joseph Church (Tranquille Hall)\, Grande Prairie
DESCRIPTION:Games Night\, Thursday\, January 8. Everyone is\nwelcome to come for supper\, sponsored by\nBrowns Socialhouse\, followed by games.\n5:30 pm supper: Beef on a bun\, mashed\npotatoes\, salad.\nGames after dinner until 8:30 pm.\nCost is by donation to support meals for\nSt. Lawrence Centre.
URL:https://www.archgm.ca/event/games-night-st-joseph-church-tranquille-hall-grande-prairie/
LOCATION:St. Joseph’s Church\, Grande Prairie\, Grande Prairie\, AB
CATEGORIES:Events Calendar
END:VEVENT
BEGIN:VEVENT
DTSTART;TZID=America/Edmonton:20260108T190000
DTEND;TZID=America/Edmonton:20260108T203000
DTSTAMP:20260419T194452
CREATED:20260105T182022Z
LAST-MODIFIED:20260105T182022Z
UID:16168-1767898800-1767904200@www.archgm.ca
SUMMARY:SALT Youth Ministry for Gr. 3-6 - St. Joseph Church\, Grande Prairie
DESCRIPTION:Grade 3 – 6 youth group\n2nd & 4th Thursdays\, 7 – 8:30 pm
URL:https://www.archgm.ca/event/salt-youth-ministry-for-gr-3-6-st-joseph-church-grande-prairie/
LOCATION:St. Joseph’s Church\, Grande Prairie\, Grande Prairie\, AB
CATEGORIES:Events Calendar
END:VEVENT
BEGIN:VEVENT
DTSTART;TZID=America/Edmonton:20260111T103000
DTEND;TZID=America/Edmonton:20260111T140000
DTSTAMP:20260419T194452
CREATED:20260105T181655Z
LAST-MODIFIED:20260105T181655Z
UID:16164-1768127400-1768140000@www.archgm.ca
SUMMARY:KofC Sandwich Sunday - St. Joseph Church (Tranquille Hall)\, Grande Prairie
DESCRIPTION:K of C Sandwich Sunday\, December 11\, following\n9 am Mass. Sign up this weekend to bring\nsandwich supplies for next weekend.\nPlease consider helping to assemble\nsandwiches. Supplies needed: sandwich\nmeat\, peanut butter\, jam\, mayonnaise\, ziplock bags
URL:https://www.archgm.ca/event/kofc-sandwich-sunday-st-joseph-church-tranquille-hall-grande-prairie/
LOCATION:St. Joseph’s Church\, Grande Prairie\, Grande Prairie\, AB
CATEGORIES:Events Calendar
END:VEVENT
BEGIN:VEVENT
DTSTART;TZID=America/Edmonton:20260111T120000
DTEND;TZID=America/Edmonton:20260111T120000
DTSTAMP:20260419T194452
CREATED:20260108T225334Z
LAST-MODIFIED:20260108T225334Z
UID:16295-1768132800-1768132800@www.archgm.ca
SUMMARY:Parish Potluck - St. Mary's Church\, Beaverlodge
DESCRIPTION:
URL:https://www.archgm.ca/event/parish-potluck-st-marys-church-beaverlodge/
LOCATION:St. Mary’s Church\, Beaverlodge\, Grande Prairie\, AB
CATEGORIES:Events Calendar
END:VEVENT
BEGIN:VEVENT
DTSTART;TZID=America/Edmonton:20260111T120000
DTEND;TZID=America/Edmonton:20260111T133000
DTSTAMP:20260419T194452
CREATED:20260108T160652Z
LAST-MODIFIED:20260108T160652Z
UID:16249-1768132800-1768138200@www.archgm.ca
SUMMARY:KofC Brunch after Mass - Our Lady of Peace\, Peace River
DESCRIPTION:Brunch will be held after 11:00 am Mass\nJanuary 11th
URL:https://www.archgm.ca/event/kofc-brunch-after-mass-our-lady-of-peace-peace-river/
LOCATION:Our Lady of Peace Church\, Peace River\, Grande Prairie\, AB
CATEGORIES:Events Calendar
END:VEVENT
BEGIN:VEVENT
DTSTART;TZID=America/Edmonton:20260111T150000
DTEND;TZID=America/Edmonton:20260111T150000
DTSTAMP:20260419T194452
CREATED:20260105T181144Z
LAST-MODIFIED:20260105T181144Z
UID:16150-1768143600-1768143600@www.archgm.ca
SUMMARY:Meditation - St. Joseph Church (Chapel)\, Grande Prairie
DESCRIPTION:
URL:https://www.archgm.ca/event/meditation-st-joseph-church-chapel-grande-prairie/
LOCATION:St. Joseph’s Church\, Grande Prairie\, Grande Prairie\, AB
CATEGORIES:Events Calendar
END:VEVENT
BEGIN:VEVENT
DTSTART;VALUE=DATE:20260112
DTEND;VALUE=DATE:20260117
DTSTAMP:20260419T194452
CREATED:20250710T202740Z
LAST-MODIFIED:20250710T202740Z
UID:14598-1768176000-1768607999@www.archgm.ca
SUMMARY:Alberta/NWT Bishops Retreat - Mission\, BC
DESCRIPTION:
URL:https://www.archgm.ca/event/alberta-nwt-bishops-retreat-mission-bc/
LOCATION:AB
CATEGORIES:Archbishop’s Calendar,Events Calendar
END:VEVENT
BEGIN:VEVENT
DTSTART;TZID=America/Edmonton:20260112T190000
DTEND;TZID=America/Edmonton:20260112T190000
DTSTAMP:20260419T194452
CREATED:20251126T175627Z
LAST-MODIFIED:20251126T175627Z
UID:15909-1768244400-1768244400@www.archgm.ca
SUMMARY:Communications Committee Meeting - Online
DESCRIPTION:
URL:https://www.archgm.ca/event/communications-committee-meeting-online-3/
LOCATION:Online\, Grande Prairie\, AB
CATEGORIES:Events Calendar
END:VEVENT
BEGIN:VEVENT
DTSTART;TZID=America/Edmonton:20260113T170000
DTEND;TZID=America/Edmonton:20260113T170000
DTSTAMP:20260419T194452
CREATED:20260105T183504Z
LAST-MODIFIED:20260105T183504Z
UID:16183-1768323600-1768323600@www.archgm.ca
SUMMARY:Parish Pastoral Council Meeting - St. Mary's Church\, Beaverlodge
DESCRIPTION:
URL:https://www.archgm.ca/event/parish-pastoral-council-meeting-st-marys-church-beaverlodge/
LOCATION:St. Mary’s Church\, Beaverlodge\, Grande Prairie\, AB
CATEGORIES:Events Calendar
END:VEVENT
BEGIN:VEVENT
DTSTART;TZID=America/Edmonton:20260113T190000
DTEND;TZID=America/Edmonton:20260113T190000
DTSTAMP:20260419T194452
CREATED:20260105T180044Z
LAST-MODIFIED:20260105T180044Z
UID:16127-1768330800-1768330800@www.archgm.ca
SUMMARY:Anointing and Healing Mass - Our Lady of Good Counsel\, High Level
DESCRIPTION:
URL:https://www.archgm.ca/event/anointing-and-healing-mass-our-lady-of-good-counsel-high-level-14/
LOCATION:Our Lady of Good Counsel\, High Level\, Grande Prairie\, AB
CATEGORIES:Events Calendar
END:VEVENT
BEGIN:VEVENT
DTSTART;TZID=America/Edmonton:20260114T093000
DTEND;TZID=America/Edmonton:20260114T093000
DTSTAMP:20260419T194452
CREATED:20260105T181419Z
LAST-MODIFIED:20260105T181419Z
UID:16158-1768383000-1768383000@www.archgm.ca
SUMMARY:Ladies Bible Study\, St. Joseph Church (St. JPII Room)\, Grande Prairie
DESCRIPTION:
URL:https://www.archgm.ca/event/ladies-bible-study-st-joseph-church-st-jpii-room-grande-prairie-2/
LOCATION:St. Joseph’s Church\, Grande Prairie\, Grande Prairie\, AB
CATEGORIES:Events Calendar
END:VEVENT
BEGIN:VEVENT
DTSTART;TZID=America/Edmonton:20260114T150000
DTEND;TZID=America/Edmonton:20260114T170000
DTSTAMP:20260419T194452
CREATED:20260105T180256Z
LAST-MODIFIED:20260105T180256Z
UID:16135-1768402800-1768410000@www.archgm.ca
SUMMARY:Christ Children's Club - Our Lady of Good Counsel\, High Level
DESCRIPTION:
URL:https://www.archgm.ca/event/christ-childrens-club-our-lady-of-good-counsel-high-level-15/
LOCATION:Our Lady of Good Counsel\, High Level\, Grande Prairie\, AB
CATEGORIES:Events Calendar
END:VEVENT
BEGIN:VEVENT
DTSTART;TZID=America/Edmonton:20260114T163000
DTEND;TZID=America/Edmonton:20260114T170000
DTSTAMP:20260419T194452
CREATED:20260105T183310Z
LAST-MODIFIED:20260105T183310Z
UID:16177-1768408200-1768410000@www.archgm.ca
SUMMARY:Christian Meditation - St. Mary's Church\, Beaverlodge
DESCRIPTION:
URL:https://www.archgm.ca/event/christian-meditation-st-marys-church-beaverlodge-4/
LOCATION:St. Mary’s Church\, Beaverlodge\, Grande Prairie\, AB
CATEGORIES:Events Calendar
END:VEVENT
BEGIN:VEVENT
DTSTART;TZID=America/Edmonton:20260117T133000
DTEND;TZID=America/Edmonton:20260117T160000
DTSTAMP:20260419T194452
CREATED:20260105T183620Z
LAST-MODIFIED:20260105T183620Z
UID:16187-1768656600-1768665600@www.archgm.ca
SUMMARY:KofC Meeting - St. Mary's Church\, Beaverlodge
DESCRIPTION:
URL:https://www.archgm.ca/event/kofc-meeting-st-marys-church-beaverlodge-4/
LOCATION:St. Mary’s Church\, Beaverlodge\, Grande Prairie\, AB
CATEGORIES:Events Calendar
END:VEVENT
BEGIN:VEVENT
DTSTART;TZID=America/Edmonton:20260117T190000
DTEND;TZID=America/Edmonton:20260117T190000
DTSTAMP:20260419T194452
CREATED:20260128T214830Z
LAST-MODIFIED:20260128T214844Z
UID:16722-1768676400-1768676400@www.archgm.ca
SUMMARY:Sacramental Preparation - Our Lady of Lourdes\, Girouxville
DESCRIPTION:First class at 7 pm\nFebruary 17
URL:https://www.archgm.ca/event/sacramental-preparation-our-lady-of-lourdes-girouxville/
LOCATION:Our Lady of Lourdes Church\, Girouxville\, Grande Prairie\, AB
CATEGORIES:Events Calendar
END:VEVENT
BEGIN:VEVENT
DTSTART;TZID=America/Edmonton:20260118T103000
DTEND;TZID=America/Edmonton:20260118T133000
DTSTAMP:20260419T194452
CREATED:20260112T153537Z
LAST-MODIFIED:20260112T153537Z
UID:16305-1768732200-1768743000@www.archgm.ca
SUMMARY:KofC Pancake Breakfast - St. Joseph Church\, Grande Prairie
DESCRIPTION:Pancake Breakfast\, Sunday\, Jan. 18\,\nafter the 9 & 11 am Masses.\n$10/person $30/family
URL:https://www.archgm.ca/event/kofc-pancake-breakfast-st-joseph-church-grande-prairie/
LOCATION:St. Joseph’s Church\, Grande Prairie\, Grande Prairie\, AB
CATEGORIES:Events Calendar
END:VEVENT
BEGIN:VEVENT
DTSTART;TZID=America/Edmonton:20260118T150000
DTEND;TZID=America/Edmonton:20260118T150000
DTSTAMP:20260419T194452
CREATED:20260105T181210Z
LAST-MODIFIED:20260105T181210Z
UID:16152-1768748400-1768748400@www.archgm.ca
SUMMARY:Meditation - St. Joseph Church (Chapel)\, Grande Prairie
DESCRIPTION:
URL:https://www.archgm.ca/event/meditation-st-joseph-church-chapel-grande-prairie-2/
LOCATION:St. Joseph’s Church\, Grande Prairie\, Grande Prairie\, AB
CATEGORIES:Events Calendar
END:VEVENT
BEGIN:VEVENT
DTSTART;TZID=America/Edmonton:20260120T190000
DTEND;TZID=America/Edmonton:20260120T190000
DTSTAMP:20260419T194452
CREATED:20260105T180107Z
LAST-MODIFIED:20260105T180107Z
UID:16129-1768935600-1768935600@www.archgm.ca
SUMMARY:Anointing and Healing Mass - Our Lady of Good Counsel\, High Level
DESCRIPTION:
URL:https://www.archgm.ca/event/anointing-and-healing-mass-our-lady-of-good-counsel-high-level-15/
LOCATION:Our Lady of Good Counsel\, High Level\, Grande Prairie\, AB
CATEGORIES:Events Calendar
END:VEVENT
BEGIN:VEVENT
DTSTART;TZID=America/Edmonton:20260121T093000
DTEND;TZID=America/Edmonton:20260121T093000
DTSTAMP:20260419T194452
CREATED:20260105T181457Z
LAST-MODIFIED:20260105T183247Z
UID:16160-1768987800-1768987800@www.archgm.ca
SUMMARY:Ladies Bible Study\, St. Joseph Church (St. JPII Room)\, Grande Prairie
DESCRIPTION:
URL:https://www.archgm.ca/event/ladies-bible-study-st-joseph-church-st-jpii-room-grande-prairie-3/
LOCATION:St. Joseph’s Church\, Grande Prairie\, Grande Prairie\, AB
CATEGORIES:Events Calendar
END:VEVENT
BEGIN:VEVENT
DTSTART;TZID=America/Edmonton:20260121T150000
DTEND;TZID=America/Edmonton:20260121T170000
DTSTAMP:20260419T194452
CREATED:20260105T180317Z
LAST-MODIFIED:20260105T180317Z
UID:16137-1769007600-1769014800@www.archgm.ca
SUMMARY:Christ Children's Club - Our Lady of Good Counsel\, High Level
DESCRIPTION:
URL:https://www.archgm.ca/event/christ-childrens-club-our-lady-of-good-counsel-high-level-16/
LOCATION:Our Lady of Good Counsel\, High Level\, Grande Prairie\, AB
CATEGORIES:Events Calendar
END:VEVENT
BEGIN:VEVENT
DTSTART;TZID=America/Edmonton:20260121T163000
DTEND;TZID=America/Edmonton:20260121T170000
DTSTAMP:20260419T194452
CREATED:20260105T183336Z
LAST-MODIFIED:20260105T183336Z
UID:16179-1769013000-1769014800@www.archgm.ca
SUMMARY:Christian Meditation - St. Mary's Church\, Beaverlodge
DESCRIPTION:
URL:https://www.archgm.ca/event/christian-meditation-st-marys-church-beaverlodge-5/
LOCATION:St. Mary’s Church\, Beaverlodge\, Grande Prairie\, AB
CATEGORIES:Events Calendar
END:VEVENT
BEGIN:VEVENT
DTSTART;TZID=America/Edmonton:20260122T080000
DTEND;TZID=America/Edmonton:20260122T170000
DTSTAMP:20260419T194452
CREATED:20250710T202814Z
LAST-MODIFIED:20250710T202814Z
UID:14600-1769068800-1769101200@www.archgm.ca
SUMMARY:Curia Meeting - Chancery Office\, Grande Prairie
DESCRIPTION:
URL:https://www.archgm.ca/event/curia-meeting-chancery-office-grande-prairie-27/
LOCATION:Chancery Office\, Grande Prairie\, Grande Prairie\, AB
CATEGORIES:Archbishop’s Calendar,Events Calendar
END:VEVENT
BEGIN:VEVENT
DTSTART;TZID=America/Edmonton:20260122T190000
DTEND;TZID=America/Edmonton:20260122T203000
DTSTAMP:20260419T194452
CREATED:20260105T182048Z
LAST-MODIFIED:20260105T182048Z
UID:16170-1769108400-1769113800@www.archgm.ca
SUMMARY:SALT Youth Ministry for Gr. 3-6 - St. Joseph Church\, Grande Prairie
DESCRIPTION:
URL:https://www.archgm.ca/event/salt-youth-ministry-for-gr-3-6-st-joseph-church-grande-prairie-2/
LOCATION:St. Joseph’s Church\, Grande Prairie\, Grande Prairie\, AB
CATEGORIES:Events Calendar
END:VEVENT
BEGIN:VEVENT
DTSTART;TZID=America/Edmonton:20260122T193000
DTEND;TZID=America/Edmonton:20260122T193000
DTSTAMP:20260419T194452
CREATED:20260105T181830Z
LAST-MODIFIED:20260105T181830Z
UID:16166-1769110200-1769110200@www.archgm.ca
SUMMARY:Bible & Beer (Ignite Young Adults Ministry) - Mr. Mike's\, Grande Prairie
DESCRIPTION:Meeting at Mr. Mike’s\, Grande Prairie at 7:45 pm. Intended for Catholics aged 18-35
URL:https://www.archgm.ca/event/bible-beer-ignite-young-adults-ministry-mr-mikes-grande-prairie/
LOCATION:Mr. Mike’s\, Grande Prairie\, Grande Prairie\, AB
CATEGORIES:Events Calendar
END:VEVENT
BEGIN:VEVENT
DTSTART;TZID=America/Edmonton:20260123T190000
DTEND;TZID=America/Edmonton:20260123T200000
DTSTAMP:20260419T194452
CREATED:20260119T211206Z
LAST-MODIFIED:20260120T223425Z
UID:16635-1769194800-1769198400@www.archgm.ca
SUMMARY:Ecumenical Prayer Service for Week of Christian Unity - St. Thomas More Church\, Fairview
DESCRIPTION:Week of Prayer for Christian Unity\nJanuary 18 – 25\nA week for celebrating and promoting unity\namong all Christians. \nPrayer Service — Friday\, January 23 ·\n7:00 PM – 8:00 PM\nLocation: St. Thomas More Church\, Fairview\n11130 102 Ave.\, Fairview\, AB T0H 1L0\nAll are welcome! Please join us in prayer.\nMore information: Parish Office 780-835-2250 ·\nstmparish@telus.net \n 
URL:https://www.archgm.ca/event/ecumenical-prayer-service-for-week-of-christian-unity-st-thomas-more-church-fairview/
LOCATION:St. Thomas More Church\, Fairview\, Grande Prairie\, AB
CATEGORIES:Events Calendar
END:VEVENT
BEGIN:VEVENT
DTSTART;TZID=America/Edmonton:20260124T080000
DTEND;TZID=America/Edmonton:20260124T140000
DTSTAMP:20260419T194452
CREATED:20251126T162644Z
LAST-MODIFIED:20260107T160449Z
UID:15904-1769241600-1769263200@www.archgm.ca
SUMMARY:Faith in Action Men's Conference - St. Joseph Church\, Grande Prairie
DESCRIPTION:All men (16+) are invited to attend the Faith in Action Men’s Conference on Saturday\, January 24th\, 2026\, at Saint Joseph Catholic Church\, Grande Prairie. This year’s theme\, “Lord\, teach us to pray…” (Luke 11:1)\, will be led by Rev. Kristopher Schmitz\, pastor of Saint Francis Xavier Parish in Camrose. Discover how prayer opens the door to receiving God’s love and mercy\, enriching our personal\, family\, and professional lives. Tickets: $35 (includes lunch and refreshments). For more information or to register\, contact Hervey Chabot at (780) 228-2199 or herveychabot@gmail.com. \n  \nFollow Faith in Action Men’s Conference on Facebook for updates. \n 
URL:https://www.archgm.ca/event/faith-in-action-mens-conference-st-joseph-church-grande-prairie-2/
LOCATION:St. Joseph’s Church\, Grande Prairie\, Grande Prairie\, AB
CATEGORIES:Events Calendar
END:VEVENT
BEGIN:VEVENT
DTSTART;TZID=America/Edmonton:20260125T150000
DTEND;TZID=America/Edmonton:20260125T150000
DTSTAMP:20260419T194452
CREATED:20260105T181238Z
LAST-MODIFIED:20260105T181238Z
UID:16154-1769353200-1769353200@www.archgm.ca
SUMMARY:Meditation - St. Joseph Church (Chapel)\, Grande Prairie
DESCRIPTION:
URL:https://www.archgm.ca/event/meditation-st-joseph-church-chapel-grande-prairie-3/
LOCATION:St. Joseph’s Church\, Grande Prairie\, Grande Prairie\, AB
CATEGORIES:Events Calendar
END:VEVENT
BEGIN:VEVENT
DTSTART;TZID=America/Edmonton:20260125T170000
DTEND;TZID=America/Edmonton:20260125T170000
DTSTAMP:20260419T194452
CREATED:20260119T203209Z
LAST-MODIFIED:20260119T203209Z
UID:16633-1769360400-1769360400@www.archgm.ca
SUMMARY:CWL Potato Bake Supper - Rycroft Community Hall\, Rycroft
DESCRIPTION:The Rycroft CWL will host a potato bake supper in the Rycroft Community Hall on Sunday\, Jan\, 25th\, beginning at 5pm. $15 per person\, $45 per family
URL:https://www.archgm.ca/event/cwl-potato-bake-supper-rycroft-community-hall-rycroft/
LOCATION:Rycroft Community Hall\, Rycroft\, Grande Prairie\, AB
CATEGORIES:Events Calendar
END:VEVENT
END:VCALENDAR