BEGIN:VCALENDAR
VERSION:2.0
PRODID:-//Catholic Archdiocese of Grouard-McLennan - ECPv6.15.20//NONSGML v1.0//EN
CALSCALE:GREGORIAN
METHOD:PUBLISH
X-WR-CALNAME:Catholic Archdiocese of Grouard-McLennan
X-ORIGINAL-URL:https://www.archgm.ca
X-WR-CALDESC:Events for Catholic Archdiocese of Grouard-McLennan
REFRESH-INTERVAL;VALUE=DURATION:PT1H
X-Robots-Tag:noindex
X-PUBLISHED-TTL:PT1H
BEGIN:VTIMEZONE
TZID:America/Edmonton
BEGIN:DAYLIGHT
TZOFFSETFROM:-0700
TZOFFSETTO:-0600
TZNAME:MDT
DTSTART:20240310T090000
END:DAYLIGHT
BEGIN:STANDARD
TZOFFSETFROM:-0600
TZOFFSETTO:-0700
TZNAME:MST
DTSTART:20241103T080000
END:STANDARD
BEGIN:DAYLIGHT
TZOFFSETFROM:-0700
TZOFFSETTO:-0600
TZNAME:MDT
DTSTART:20250309T090000
END:DAYLIGHT
BEGIN:STANDARD
TZOFFSETFROM:-0600
TZOFFSETTO:-0700
TZNAME:MST
DTSTART:20251102T080000
END:STANDARD
BEGIN:DAYLIGHT
TZOFFSETFROM:-0700
TZOFFSETTO:-0600
TZNAME:MDT
DTSTART:20260308T090000
END:DAYLIGHT
BEGIN:STANDARD
TZOFFSETFROM:-0600
TZOFFSETTO:-0700
TZNAME:MST
DTSTART:20261101T080000
END:STANDARD
END:VTIMEZONE
BEGIN:VEVENT
DTSTART;TZID=America/Edmonton:20250329T180000
DTEND;TZID=America/Edmonton:20250330T120000
DTSTAMP:20260419T200658
CREATED:20250324T143011Z
LAST-MODIFIED:20250324T143011Z
UID:13903-1743271200-1743336000@www.archgm.ca
SUMMARY:Lenten Retreat - St. Peter Celestin\, Slave Lake
DESCRIPTION:Mass and Lenten Retreat (following mass) \nLed by: Father Michael Diaz \nSlave Lake \nSaturday\, March 29:  7 pm \n Sunday\, March 30:  11 am \n  \nConfessions: \nSaturday March 29: 10 am to 12 pm and 6 to 7 pm \nSunday March 30: Following Lenten Retreat
URL:https://www.archgm.ca/event/lenten-retreat-st-peter-celestin-slave-lake/
LOCATION:St. Peter Celestin\, Slave Lake\, Grande Prairie\, AB
CATEGORIES:Events Calendar
END:VEVENT
BEGIN:VEVENT
DTSTART;TZID=America/Edmonton:20250328T183000
DTEND;TZID=America/Edmonton:20250328T183000
DTSTAMP:20260419T200658
CREATED:20250303T174658Z
LAST-MODIFIED:20250303T174658Z
UID:13669-1743186600-1743186600@www.archgm.ca
SUMMARY:Lenten Stations of the Cross - Our Lady of Good Counsel\, High Level
DESCRIPTION:
URL:https://www.archgm.ca/event/lenten-stations-of-the-cross-our-lady-of-good-counsel-high-level-4/
LOCATION:Our Lady of Good Counsel\, High Level\, Grande Prairie\, AB
CATEGORIES:Events Calendar
END:VEVENT
BEGIN:VEVENT
DTSTART;TZID=America/Edmonton:20250328T173000
DTEND;TZID=America/Edmonton:20250328T200000
DTSTAMP:20260419T200658
CREATED:20250303T214235Z
LAST-MODIFIED:20250303T214235Z
UID:13745-1743183000-1743192000@www.archgm.ca
SUMMARY:Lenten Supper & Stations of the Cross - St. Joseph Church\, Grande Prairie
DESCRIPTION:
URL:https://www.archgm.ca/event/lenten-supper-stations-of-the-cross-st-joseph-church-grande-prairie-15/
LOCATION:St. Joseph’s Church\, Grande Prairie\, Grande Prairie\, AB
CATEGORIES:Events Calendar
END:VEVENT
BEGIN:VEVENT
DTSTART;TZID=America/Edmonton:20250328T173000
DTEND;TZID=America/Edmonton:20250328T200000
DTSTAMP:20260419T200658
CREATED:20250206T213114Z
LAST-MODIFIED:20250206T213114Z
UID:13538-1743183000-1743192000@www.archgm.ca
SUMMARY:Lenten Supper & Stations of the Cross - St. Joseph Church\, Grande Prairie
DESCRIPTION:
URL:https://www.archgm.ca/event/lenten-supper-stations-of-the-cross-st-joseph-church-grande-prairie-10/
LOCATION:St. Joseph’s Church\, Grande Prairie\, Grande Prairie\, AB
CATEGORIES:Events Calendar
END:VEVENT
BEGIN:VEVENT
DTSTART;TZID=America/Edmonton:20250328T170000
DTEND;TZID=America/Edmonton:20250328T193000
DTSTAMP:20260419T200658
CREATED:20250303T182636Z
LAST-MODIFIED:20250303T182636Z
UID:13702-1743181200-1743190200@www.archgm.ca
SUMMARY:Stations of the Cross\, Lenten Soup & Bun\, Mass - St. Thomas More Church\, Fairview
DESCRIPTION:
URL:https://www.archgm.ca/event/stations-of-the-cross-lenten-soup-bun-mass-st-thomas-more-church-fairview-4/
LOCATION:St. Thomas More Church\, Fairview\, Grande Prairie\, AB
CATEGORIES:Events Calendar
END:VEVENT
BEGIN:VEVENT
DTSTART;TZID=America/Edmonton:20250328T070000
DTEND;TZID=America/Edmonton:20250328T070000
DTSTAMP:20260419T200658
CREATED:20250206T212039Z
LAST-MODIFIED:20250206T212039Z
UID:13526-1743145200-1743145200@www.archgm.ca
SUMMARY:Ultreya - St. Joseph Church\, Grande Prairie
DESCRIPTION:
URL:https://www.archgm.ca/event/ultreya-st-joseph-church-grande-prairie-3/
LOCATION:St. Joseph’s Church\, Grande Prairie\, Grande Prairie\, AB
CATEGORIES:Archbishop’s Calendar,Events Calendar
END:VEVENT
BEGIN:VEVENT
DTSTART;TZID=America/Edmonton:20250327T190000
DTEND;TZID=America/Edmonton:20250327T190000
DTSTAMP:20260419T200658
CREATED:20250331T155251Z
LAST-MODIFIED:20250331T155251Z
UID:13949-1743102000-1743102000@www.archgm.ca
SUMMARY:RCIA & Faith Formation - St. Mary's Church\, Beaverlodge
DESCRIPTION:
URL:https://www.archgm.ca/event/rcia-faith-formation-st-marys-church-beaverlodge/
LOCATION:St. Mary’s Church\, Beaverlodge\, Grande Prairie\, AB
CATEGORIES:Events Calendar
END:VEVENT
BEGIN:VEVENT
DTSTART;TZID=America/Edmonton:20250325T190000
DTEND;TZID=America/Edmonton:20250325T190000
DTSTAMP:20260419T200658
CREATED:20250324T143328Z
LAST-MODIFIED:20250324T143328Z
UID:13905-1742929200-1742929200@www.archgm.ca
SUMMARY:CWL Meeting - Golden Age Club\, McLennan
DESCRIPTION:
URL:https://www.archgm.ca/event/cwl-meeting-golden-age-club-mclennan/
LOCATION:Golden Age Club\, McLennan\, Grande Prairie\, AB
CATEGORIES:Events Calendar
END:VEVENT
BEGIN:VEVENT
DTSTART;TZID=America/Edmonton:20250323T090000
DTEND;TZID=America/Edmonton:20250323T123000
DTSTAMP:20260419T200658
CREATED:20250303T175046Z
LAST-MODIFIED:20250319T163504Z
UID:13678-1742720400-1742733000@www.archgm.ca
SUMMARY:KofC Initiation & Meeting - Our Lady of Good Counsel\, High Level
DESCRIPTION:Initiation at 9 am\nMeeting after Sunday Mass
URL:https://www.archgm.ca/event/kofc-initiation-meeting/
LOCATION:Our Lady of Good Counsel\, High Level\, Grande Prairie\, AB
CATEGORIES:Events Calendar
END:VEVENT
BEGIN:VEVENT
DTSTART;TZID=America/Edmonton:20250322T093000
DTEND;TZID=America/Edmonton:20250322T133000
DTSTAMP:20260419T200658
CREATED:20250228T152158Z
LAST-MODIFIED:20250228T152158Z
UID:13652-1742635800-1742650200@www.archgm.ca
SUMMARY:Hospitality and Accompaniment Workshop - St. Paul Church\, High Prairie
DESCRIPTION:  \nThe Office of Evangelization and Catechesis will host a Hospitality and Accompaniment Workshop for the communities of Deanery 4 on St. Paul Church in High Prairie\, on March 22nd. \nThe workshop begins with registration at 9:45 am\, and closing after lunch at 1:30 pm. \nRegister here.
URL:https://www.archgm.ca/event/hospitality-and-accompaniment-workshop-st-paul-church-high-prairie/
LOCATION:St. Paul’s Church\, High Prairie\, Grande Prairie\, AB
CATEGORIES:Events Calendar
END:VEVENT
BEGIN:VEVENT
DTSTART;TZID=America/Edmonton:20250321T190000
DTEND;TZID=America/Edmonton:20250321T190000
DTSTAMP:20260419T200658
CREATED:20250303T174939Z
LAST-MODIFIED:20250303T174939Z
UID:13675-1742583600-1742583600@www.archgm.ca
SUMMARY:KofC Fish Fry Fundraiser - Our Lady of Good Counsel\, High Level
DESCRIPTION:After Friday Mass at 7pm
URL:https://www.archgm.ca/event/kofc-fish-fry-fundraiser-our-lady-of-good-counsel-high-level/
LOCATION:Our Lady of Good Counsel\, High Level\, Grande Prairie\, AB
CATEGORIES:Events Calendar
END:VEVENT
BEGIN:VEVENT
DTSTART;TZID=America/Edmonton:20250321T183000
DTEND;TZID=America/Edmonton:20250321T183000
DTSTAMP:20260419T200658
CREATED:20250303T174631Z
LAST-MODIFIED:20250319T163413Z
UID:13667-1742581800-1742581800@www.archgm.ca
SUMMARY:Fish Fry Fundraiser and Lenten Stations of the Cross - Our Lady of Good Counsel\, High Level
DESCRIPTION:
URL:https://www.archgm.ca/event/lenten-stations-of-the-cross-our-lady-of-good-counsel-high-level-3/
LOCATION:Our Lady of Good Counsel\, High Level\, Grande Prairie\, AB
CATEGORIES:Events Calendar
END:VEVENT
BEGIN:VEVENT
DTSTART;TZID=America/Edmonton:20250321T173000
DTEND;TZID=America/Edmonton:20250321T200000
DTSTAMP:20260419T200658
CREATED:20250206T213040Z
LAST-MODIFIED:20250206T213040Z
UID:13536-1742578200-1742587200@www.archgm.ca
SUMMARY:Lenten Supper & Stations of the Cross - St. Joseph Church\, Grande Prairie
DESCRIPTION:
URL:https://www.archgm.ca/event/lenten-supper-stations-of-the-cross-st-joseph-church-grande-prairie-9/
LOCATION:St. Joseph’s Church\, Grande Prairie\, Grande Prairie\, AB
CATEGORIES:Archbishop’s Calendar,Events Calendar
END:VEVENT
BEGIN:VEVENT
DTSTART;TZID=America/Edmonton:20250321T170000
DTEND;TZID=America/Edmonton:20250321T193000
DTSTAMP:20260419T200658
CREATED:20250303T182607Z
LAST-MODIFIED:20250303T182607Z
UID:13700-1742576400-1742585400@www.archgm.ca
SUMMARY:Stations of the Cross\, Lenten Soup & Bun\, Mass - St. Thomas More Church\, Fairview
DESCRIPTION:
URL:https://www.archgm.ca/event/stations-of-the-cross-lenten-soup-bun-mass-st-thomas-more-church-fairview-3/
LOCATION:St. Thomas More Church\, Fairview\, Grande Prairie\, AB
CATEGORIES:Events Calendar
END:VEVENT
BEGIN:VEVENT
DTSTART;TZID=America/Edmonton:20250320T190000
DTEND;TZID=America/Edmonton:20250320T203000
DTSTAMP:20260419T200658
CREATED:20250303T214951Z
LAST-MODIFIED:20250303T214951Z
UID:13763-1742497200-1742502600@www.archgm.ca
SUMMARY:Mass & Healing Prayers- St. Joseph Church\, Grande Prairie
DESCRIPTION:
URL:https://www.archgm.ca/event/mass-healing-prayers-st-joseph-church-grande-prairie/
LOCATION:St. Joseph’s Church\, Grande Prairie\, Grande Prairie\, AB
CATEGORIES:Events Calendar
END:VEVENT
BEGIN:VEVENT
DTSTART;TZID=America/Edmonton:20250320T093000
DTEND;TZID=America/Edmonton:20250320T170000
DTSTAMP:20260419T200658
CREATED:20250206T211842Z
LAST-MODIFIED:20250206T211842Z
UID:13522-1742463000-1742490000@www.archgm.ca
SUMMARY:Curia Meeting - Chancery Office\, Grande Prairie
DESCRIPTION:
URL:https://www.archgm.ca/event/curia-meeting-chancery-office-grande-prairie-16/
LOCATION:Chancery Office\, Grande Prairie\, Grande Prairie\, AB
CATEGORIES:Archbishop’s Calendar,Events Calendar
END:VEVENT
BEGIN:VEVENT
DTSTART;TZID=America/Edmonton:20250319T180000
DTEND;TZID=America/Edmonton:20250319T180000
DTSTAMP:20260419T200658
CREATED:20250303T184311Z
LAST-MODIFIED:20250303T184311Z
UID:13715-1742407200-1742407200@www.archgm.ca
SUMMARY:PPC & PFC Meeting - St. Thomas More Church\, Fairview
DESCRIPTION:
URL:https://www.archgm.ca/event/ppc-pfc-meeting-st-thomas-more-church-fairview/
LOCATION:St. Thomas More Church\, Fairview\, Grande Prairie\, AB
CATEGORIES:Events Calendar
END:VEVENT
BEGIN:VEVENT
DTSTART;TZID=America/Edmonton:20250319T173000
DTEND;TZID=America/Edmonton:20250319T173000
DTSTAMP:20260419T200658
CREATED:20250319T170603Z
LAST-MODIFIED:20250319T170603Z
UID:13882-1742405400-1742405400@www.archgm.ca
SUMMARY:Feast Day Mass and Confirmation of Candidates - St. Joseph Church\, Grande Prairie
DESCRIPTION:
URL:https://www.archgm.ca/event/feast-day-mass-and-confirmation-of-candidates-st-joseph-church-grande-prairie/
LOCATION:St. Joseph’s Church\, Grande Prairie\, Grande Prairie\, AB
CATEGORIES:Events Calendar
END:VEVENT
BEGIN:VEVENT
DTSTART;TZID=America/Edmonton:20250317T103000
DTEND;TZID=America/Edmonton:20250317T103000
DTSTAMP:20260419T200658
CREATED:20250303T184201Z
LAST-MODIFIED:20250303T184201Z
UID:13713-1742207400-1742207400@www.archgm.ca
SUMMARY:CWL Meeting - St. Thomas More Church\, Fairview
DESCRIPTION:After 9:45 am Mass
URL:https://www.archgm.ca/event/cwl-meeting-st-thomas-more-church-fairview-2/
LOCATION:St. Thomas More Church\, Fairview\, Grande Prairie\, AB
CATEGORIES:Events Calendar
END:VEVENT
BEGIN:VEVENT
DTSTART;TZID=America/Edmonton:20250316T133000
DTEND;TZID=America/Edmonton:20250316T160000
DTSTAMP:20260419T200658
CREATED:20250303T214908Z
LAST-MODIFIED:20250303T214908Z
UID:13761-1742131800-1742140800@www.archgm.ca
SUMMARY:First Reconciliation Celebration - St. Joseph Church\, Grande Prairie
DESCRIPTION:
URL:https://www.archgm.ca/event/first-reconciliation-celebration-st-joseph-church-grande-prairie/
LOCATION:St. Joseph’s Church\, Grande Prairie\, Grande Prairie\, AB
CATEGORIES:Events Calendar
END:VEVENT
BEGIN:VEVENT
DTSTART;TZID=America/Edmonton:20250316T133000
DTEND;TZID=America/Edmonton:20250316T160000
DTSTAMP:20260419T200658
CREATED:20250206T213156Z
LAST-MODIFIED:20250206T213156Z
UID:13540-1742131800-1742140800@www.archgm.ca
SUMMARY:Celebrations of First Reconciliation - St. Joseph Church\, Grande Prairie
DESCRIPTION:
URL:https://www.archgm.ca/event/celebrations-of-first-reconciliation-st-joseph-church-grande-prairie/
LOCATION:St. Joseph’s Church\, Grande Prairie\, Grande Prairie\, AB
CATEGORIES:Events Calendar
END:VEVENT
BEGIN:VEVENT
DTSTART;TZID=America/Edmonton:20250315T173000
DTEND;TZID=America/Edmonton:20250315T220000
DTSTAMP:20260419T200658
CREATED:20250303T214739Z
LAST-MODIFIED:20250303T214739Z
UID:13757-1742059800-1742076000@www.archgm.ca
SUMMARY:Youth Choir & High School Youth Group - St. Joseph Church\, Grande Prairie
DESCRIPTION:
URL:https://www.archgm.ca/event/youth-choir-high-school-youth-group-st-joseph-church-grande-prairie-10/
LOCATION:St. Joseph’s Church\, Grande Prairie\, Grande Prairie\, AB
CATEGORIES:Events Calendar
END:VEVENT
BEGIN:VEVENT
DTSTART;TZID=America/Edmonton:20250314T190000
DTEND;TZID=America/Edmonton:20250314T190000
DTSTAMP:20260419T200658
CREATED:20250319T170528Z
LAST-MODIFIED:20250319T170528Z
UID:13880-1741978800-1741978800@www.archgm.ca
SUMMARY:World Day of Prayer Service - St. Joseph Church\, Spirit River
DESCRIPTION:
URL:https://www.archgm.ca/event/world-day-of-prayer-service-st-joseph-church-spirit-river/
LOCATION:St. Joseph’s Church\, Spirit River\, Grande Prairie\, AB
CATEGORIES:Events Calendar
END:VEVENT
BEGIN:VEVENT
DTSTART;TZID=America/Edmonton:20250314T190000
DTEND;TZID=America/Edmonton:20250314T190000
DTSTAMP:20260419T200658
CREATED:20250303T215259Z
LAST-MODIFIED:20250303T215259Z
UID:13767-1741978800-1741978800@www.archgm.ca
SUMMARY:World Day of Prayer (Hosted by CWL) - St. Joseph Church\, Spirit River
DESCRIPTION:Friday\, March 14th – 7pm\nChurches across the Spirit River area are encouraged to attend
URL:https://www.archgm.ca/event/world-day-of-prayer-hosted-by-cwl-st-joseph-church-spirit-river/
LOCATION:St. Joseph’s Church\, Spirit River\, Grande Prairie\, AB
CATEGORIES:Events Calendar
END:VEVENT
BEGIN:VEVENT
DTSTART;TZID=America/Edmonton:20250314T183000
DTEND;TZID=America/Edmonton:20250314T183000
DTSTAMP:20260419T200658
CREATED:20250303T174602Z
LAST-MODIFIED:20250303T174602Z
UID:13665-1741977000-1741977000@www.archgm.ca
SUMMARY:Lenten Stations of the Cross - Our Lady of Good Counsel\, High Level
DESCRIPTION:Lenten Stations of the Cross – Our Lady of Good Counsel\, High Level
URL:https://www.archgm.ca/event/lenten-stations-of-the-cross-our-lady-of-good-counsel-high-level-2/
LOCATION:Our Lady of Good Counsel\, High Level\, Grande Prairie\, AB
CATEGORIES:Events Calendar
END:VEVENT
BEGIN:VEVENT
DTSTART;TZID=America/Edmonton:20250314T173000
DTEND;TZID=America/Edmonton:20250314T200000
DTSTAMP:20260419T200658
CREATED:20250206T212450Z
LAST-MODIFIED:20250206T212450Z
UID:13534-1741973400-1741982400@www.archgm.ca
SUMMARY:Lenten Supper & Stations of the Cross - St. Joseph Church\, Grande Prairie
DESCRIPTION:
URL:https://www.archgm.ca/event/lenten-supper-stations-of-the-cross-st-joseph-church-grande-prairie-8/
LOCATION:St. Joseph’s Church\, Grande Prairie\, Grande Prairie\, AB
CATEGORIES:Events Calendar
END:VEVENT
BEGIN:VEVENT
DTSTART;TZID=America/Edmonton:20250314T170000
DTEND;TZID=America/Edmonton:20250314T193000
DTSTAMP:20260419T200658
CREATED:20250303T182516Z
LAST-MODIFIED:20250303T182516Z
UID:13698-1741971600-1741980600@www.archgm.ca
SUMMARY:Stations of the Cross\, Lenten Soup & Bun\, Mass - St. Thomas More Church\, Fairview
DESCRIPTION:Stations of the Cross\, Lenten Soup & Bun\, Mass – St. Thomas More Church\, Fairview
URL:https://www.archgm.ca/event/stations-of-the-cross-lenten-soup-bun-mass-st-thomas-more-church-fairview-2/
LOCATION:St. Thomas More Church\, Fairview\, Grande Prairie\, AB
CATEGORIES:Events Calendar
END:VEVENT
BEGIN:VEVENT
DTSTART;TZID=America/Edmonton:20250313T190000
DTEND;TZID=America/Edmonton:20250313T203000
DTSTAMP:20260419T200658
CREATED:20250303T214626Z
LAST-MODIFIED:20250303T214626Z
UID:13755-1741892400-1741897800@www.archgm.ca
SUMMARY:SALT - St. Joseph Church\, Grande Prairie
DESCRIPTION:SALT (Sharing and Learning Together) Youth Group Grade 3-6 Registration open. Email sjc-family@gpcsd.ca or see bulletin board at the back of the church for registration forms. \nSALT is a youth group for kids grade 3-6. We meet the 2nd and 4th Thursdays of the month in the SJPII Room\, upstairs on the office side of the Church. We play\, pray\, enjoy fellowship\, food and make new friends!! Everyone welcome!!
URL:https://www.archgm.ca/event/salt-st-joseph-church-grande-prairie-3/
LOCATION:St. Joseph’s Church\, Grande Prairie\, Grande Prairie\, AB
CATEGORIES:Events Calendar
END:VEVENT
BEGIN:VEVENT
DTSTART;TZID=America/Edmonton:20250312T190000
DTEND;TZID=America/Edmonton:20250312T190000
DTSTAMP:20260419T200658
CREATED:20250303T215551Z
LAST-MODIFIED:20250303T215551Z
UID:13771-1741806000-1741806000@www.archgm.ca
SUMMARY:CWL Meeting - Our Lady of Peace\, Peace River
DESCRIPTION:
URL:https://www.archgm.ca/event/cwl-meeting-our-lady-of-peace-peace-river-2/
LOCATION:Our Lady of Peace Church\, Peace River\, Grande Prairie\, AB
CATEGORIES:Events Calendar
END:VEVENT
BEGIN:VEVENT
DTSTART;TZID=America/Edmonton:20250312T190000
DTEND;TZID=America/Edmonton:20250312T190000
DTSTAMP:20260419T200658
CREATED:20250303T215410Z
LAST-MODIFIED:20250303T215410Z
UID:13769-1741806000-1741806000@www.archgm.ca
SUMMARY:Parish Council Meeting - St. Peter Celestin Church\, Slave Lake
DESCRIPTION:
URL:https://www.archgm.ca/event/parish-council-meeting-st-peter-celestin-church-slave-lake-2/
LOCATION:St. Peter Celestin\, Slave Lake\, Grande Prairie\, AB
CATEGORIES:Events Calendar
END:VEVENT
END:VCALENDAR