BEGIN:VCALENDAR
VERSION:2.0
PRODID:-//Catholic Archdiocese of Grouard-McLennan - ECPv6.15.20//NONSGML v1.0//EN
CALSCALE:GREGORIAN
METHOD:PUBLISH
X-WR-CALNAME:Catholic Archdiocese of Grouard-McLennan
X-ORIGINAL-URL:https://www.archgm.ca
X-WR-CALDESC:Events for Catholic Archdiocese of Grouard-McLennan
REFRESH-INTERVAL;VALUE=DURATION:PT1H
X-Robots-Tag:noindex
X-PUBLISHED-TTL:PT1H
BEGIN:VTIMEZONE
TZID:America/Edmonton
BEGIN:DAYLIGHT
TZOFFSETFROM:-0700
TZOFFSETTO:-0600
TZNAME:MDT
DTSTART:20240310T090000
END:DAYLIGHT
BEGIN:STANDARD
TZOFFSETFROM:-0600
TZOFFSETTO:-0700
TZNAME:MST
DTSTART:20241103T080000
END:STANDARD
BEGIN:DAYLIGHT
TZOFFSETFROM:-0700
TZOFFSETTO:-0600
TZNAME:MDT
DTSTART:20250309T090000
END:DAYLIGHT
BEGIN:STANDARD
TZOFFSETFROM:-0600
TZOFFSETTO:-0700
TZNAME:MST
DTSTART:20251102T080000
END:STANDARD
BEGIN:DAYLIGHT
TZOFFSETFROM:-0700
TZOFFSETTO:-0600
TZNAME:MDT
DTSTART:20260308T090000
END:DAYLIGHT
BEGIN:STANDARD
TZOFFSETFROM:-0600
TZOFFSETTO:-0700
TZNAME:MST
DTSTART:20261101T080000
END:STANDARD
END:VTIMEZONE
BEGIN:VEVENT
DTSTART;TZID=America/Edmonton:20250411T100000
DTEND;TZID=America/Edmonton:20250411T200000
DTSTAMP:20260419T162925
CREATED:20250331T155111Z
LAST-MODIFIED:20250331T155111Z
UID:13947-1744365600-1744401600@www.archgm.ca
SUMMARY:Lenten Reconciliation Service - St. Mary's Church\, Beaverlodge
DESCRIPTION:
URL:https://www.archgm.ca/event/lenten-reconciliation-service-st-marys-church-beaverlodge/
LOCATION:St. Mary’s Church\, Beaverlodge\, Grande Prairie\, AB
CATEGORIES:Events Calendar
END:VEVENT
BEGIN:VEVENT
DTSTART;TZID=America/Edmonton:20250409T190000
DTEND;TZID=America/Edmonton:20250409T190000
DTSTAMP:20260419T162925
CREATED:20250319T170722Z
LAST-MODIFIED:20250319T170722Z
UID:13884-1744225200-1744225200@www.archgm.ca
SUMMARY:Penitential Service and Confessions - St. Joseph Church\, Spirit River
DESCRIPTION:Fr. Michael Dias of Fairview will lead the Penitential services
URL:https://www.archgm.ca/event/penitential-service-and-confessions-st-joseph-church-spirit-river/
LOCATION:St. Joseph’s Church\, Spirit River\, Grande Prairie\, AB
CATEGORIES:Events Calendar
END:VEVENT
BEGIN:VEVENT
DTSTART;TZID=America/Edmonton:20250409T190000
DTEND;TZID=America/Edmonton:20250409T190000
DTSTAMP:20260419T162925
CREATED:20250319T163658Z
LAST-MODIFIED:20250319T163658Z
UID:13872-1744225200-1744225200@www.archgm.ca
SUMMARY:Pentitential Service and Mass - Our Lady of Good Counsel\, High Level
DESCRIPTION:
URL:https://www.archgm.ca/event/pentitential-service-and-mass-our-lady-of-good-counsel-high-level/
LOCATION:Our Lady of Good Counsel\, High Level\, Grande Prairie\, AB
CATEGORIES:Events Calendar
END:VEVENT
BEGIN:VEVENT
DTSTART;TZID=America/Edmonton:20250409T170000
DTEND;TZID=America/Edmonton:20250409T170000
DTSTAMP:20260419T162925
CREATED:20250319T170808Z
LAST-MODIFIED:20250319T170808Z
UID:13886-1744218000-1744218000@www.archgm.ca
SUMMARY:Penitential Service & Confessions - St. Peter & Paul\, Rycroft
DESCRIPTION:Fr. Michael Dias of Fairview will lead the Penitential services
URL:https://www.archgm.ca/event/penitential-service-confessions-st-peter-paul-rycroft/
LOCATION:St. Peter and Paul Church\, Rycroft\, Grande Prairie\, AB
CATEGORIES:Events Calendar
END:VEVENT
BEGIN:VEVENT
DTSTART;TZID=America/Edmonton:20250408T193000
DTEND;TZID=America/Edmonton:20250408T193000
DTSTAMP:20260419T162925
CREATED:20250331T153318Z
LAST-MODIFIED:20250331T153318Z
UID:13925-1744140600-1744140600@www.archgm.ca
SUMMARY:Penitential Service & Confessions - Ste. Anne\, Falher
DESCRIPTION:
URL:https://www.archgm.ca/event/penitential-service-confessions-ste-anne-falher/
LOCATION:St. Anne Church\, Falher\, Grande Prairie\, AB
CATEGORIES:Events Calendar
END:VEVENT
BEGIN:VEVENT
DTSTART;TZID=America/Edmonton:20250407T170000
DTEND;TZID=America/Edmonton:20250407T170000
DTSTAMP:20260419T162925
CREATED:20250319T163549Z
LAST-MODIFIED:20250319T163549Z
UID:13868-1744045200-1744045200@www.archgm.ca
SUMMARY:Loaves for Lent Pre-Order - Our Lady of Good Counsel\, High Level
DESCRIPTION:
URL:https://www.archgm.ca/event/loaves-for-lent-pre-order-our-lady-of-good-counsel-high-level/
LOCATION:Our Lady of Good Counsel\, High Level\, Grande Prairie\, AB
CATEGORIES:Events Calendar
END:VEVENT
BEGIN:VEVENT
DTSTART;TZID=America/Edmonton:20250406T190000
DTEND;TZID=America/Edmonton:20250409T203000
DTSTAMP:20260419T162925
CREATED:20250321T201735Z
LAST-MODIFIED:20250321T201824Z
UID:13898-1743966000-1744230600@www.archgm.ca
SUMMARY:Pilgrims of Hope Parish Mission - St. Joseph Church\, Grande Prairie
DESCRIPTION:Each event begins at 7:00 pm ending with a social at 8:30 pm\nApril 6th to 9th
URL:https://www.archgm.ca/event/pilgrims-of-hope-parish-mission-st-joseph-church-grande-prairie/
LOCATION:St. Joseph’s Church\, Grande Prairie\, Grande Prairie\, AB
CATEGORIES:Events Calendar
END:VEVENT
BEGIN:VEVENT
DTSTART;TZID=America/Edmonton:20250406T110000
DTEND;TZID=America/Edmonton:20250406T110000
DTSTAMP:20260419T162925
CREATED:20250303T185736Z
LAST-MODIFIED:20250303T185736Z
UID:13733-1743937200-1743937200@www.archgm.ca
SUMMARY:Youth Mass & Potluck - St. Mary's Church\, Beaverlodge
DESCRIPTION:
URL:https://www.archgm.ca/event/youth-mass-potluck-st-marys-church-beaverlodge-5/
LOCATION:St. Mary’s Church\, Beaverlodge\, Grande Prairie\, AB
CATEGORIES:Events Calendar
END:VEVENT
BEGIN:VEVENT
DTSTART;TZID=America/Edmonton:20250405T180000
DTEND;TZID=America/Edmonton:20250405T193000
DTSTAMP:20260419T162925
CREATED:20250331T155715Z
LAST-MODIFIED:20250331T155715Z
UID:13955-1743876000-1743881400@www.archgm.ca
SUMMARY:Catechism Class - St. Henri's\, Fort Vermillion
DESCRIPTION:
URL:https://www.archgm.ca/event/catechism-class-st-henris-fort-vermillion/
LOCATION:St. Henri’s\, Fort Vermillion\, Grande Prairie\, AB
CATEGORIES:Events Calendar
END:VEVENT
BEGIN:VEVENT
DTSTART;TZID=America/Edmonton:20250405T173000
DTEND;TZID=America/Edmonton:20250405T220000
DTSTAMP:20260419T162925
CREATED:20250303T214820Z
LAST-MODIFIED:20250303T214820Z
UID:13759-1743874200-1743890400@www.archgm.ca
SUMMARY:Youth Choir & High School Youth Group - St. Joseph Church\, Grande Prairie
DESCRIPTION:
URL:https://www.archgm.ca/event/youth-choir-high-school-youth-group-st-joseph-church-grande-prairie-11/
LOCATION:AB
CATEGORIES:Events Calendar
END:VEVENT
BEGIN:VEVENT
DTSTART;TZID=America/Edmonton:20250405T150000
DTEND;TZID=America/Edmonton:20250405T170000
DTSTAMP:20260419T162925
CREATED:20250303T181058Z
LAST-MODIFIED:20250303T181058Z
UID:13690-1743865200-1743872400@www.archgm.ca
SUMMARY:Reconciliation Service - St. Isidore Church\, St. Isidore
DESCRIPTION:Confession et Réconciliation : samedi le 5 avril à 3h00 suivi de la messe a 5h \n  \n\nConfession and Reconciliation: Saturday\, April 5 at 3:00 p.m. followed by Mass at 5:00 p.m.
URL:https://www.archgm.ca/event/reconciliation-service-st-isidore-church-st-isidore/
LOCATION:St. Isidore Church\, St. Isidore\, Grande Prairie\, AB
CATEGORIES:Events Calendar
END:VEVENT
BEGIN:VEVENT
DTSTART;TZID=America/Edmonton:20250405T150000
DTEND;TZID=America/Edmonton:20250405T150000
DTSTAMP:20260419T162925
CREATED:20250319T170101Z
LAST-MODIFIED:20250319T170101Z
UID:13878-1743865200-1743865200@www.archgm.ca
SUMMARY:Penitential Service and Reconciliation - St. Isidore Church\, St. Isidore
DESCRIPTION:
URL:https://www.archgm.ca/event/penitential-service-and-reconciliation-st-isidore-church-st-isidore/
LOCATION:St. Isidore Church\, St. Isidore\, Grande Prairie\, AB
CATEGORIES:Events Calendar
END:VEVENT
BEGIN:VEVENT
DTSTART;TZID=America/Edmonton:20250405T093000
DTEND;TZID=America/Edmonton:20250405T133000
DTSTAMP:20260419T162925
CREATED:20250303T184446Z
LAST-MODIFIED:20250303T184455Z
UID:13717-1743845400-1743859800@www.archgm.ca
SUMMARY:OCIA & Parish Renewal Workshop - Our Lady of Peace\, Peace River
DESCRIPTION:The Office of Evangelization and Catechesis will host an OCIA and Parish Renewal workshop for the church communities of Deanery 2\, held at Our Lady of Peace in Peace River on Saturday\, April 5th. \nTime: 9:45 am – 1:30 pm\, April 5th @ Our Lady of Peace (Parish Hall)\, Peace River \nRegistration
URL:https://www.archgm.ca/event/ocia-parish-renewal-workshop-our-lady-of-peace-peace-river/
LOCATION:Our Lady of Peace Church\, Peace River\, Grande Prairie\, AB
CATEGORIES:Events Calendar
END:VEVENT
BEGIN:VEVENT
DTSTART;TZID=America/Edmonton:20250404T183000
DTEND;TZID=America/Edmonton:20250404T183000
DTSTAMP:20260419T162925
CREATED:20250303T174723Z
LAST-MODIFIED:20250303T174723Z
UID:13671-1743791400-1743791400@www.archgm.ca
SUMMARY:Lenten Stations of the Cross - Our Lady of Good Counsel\, High Level
DESCRIPTION:
URL:https://www.archgm.ca/event/lenten-stations-of-the-cross-our-lady-of-good-counsel-high-level-5/
LOCATION:Our Lady of Good Counsel\, High Level\, Grande Prairie\, AB
CATEGORIES:Events Calendar
END:VEVENT
BEGIN:VEVENT
DTSTART;TZID=America/Edmonton:20250404T180000
DTEND;TZID=America/Edmonton:20250404T180000
DTSTAMP:20260419T162925
CREATED:20250331T155514Z
LAST-MODIFIED:20250331T155514Z
UID:13951-1743789600-1743789600@www.archgm.ca
SUMMARY:Stations of the Cross - St. Henry's\, Fort Vermillion
DESCRIPTION:Stations begin at 6:15 pm\, followed by Mass
URL:https://www.archgm.ca/event/stations-of-the-cross-st-henrys-fort-vermillion/
LOCATION:St. Henri’s\, Fort Vermillion\, Grande Prairie\, AB
CATEGORIES:Events Calendar
END:VEVENT
BEGIN:VEVENT
DTSTART;TZID=America/Edmonton:20250404T173000
DTEND;TZID=America/Edmonton:20250404T200000
DTSTAMP:20260419T162925
CREATED:20250303T214301Z
LAST-MODIFIED:20250303T214301Z
UID:13747-1743787800-1743796800@www.archgm.ca
SUMMARY:Lenten Supper & Stations of the Cross - St. Joseph Church\, Grande Prairie
DESCRIPTION:Lenten Supper & Stations of the Cross – St. Joseph Church\, Grande Prairie
URL:https://www.archgm.ca/event/lenten-supper-stations-of-the-cross-st-joseph-church-grande-prairie-16/
LOCATION:St. Joseph’s Church\, Grande Prairie\, Grande Prairie\, AB
CATEGORIES:Events Calendar
END:VEVENT
BEGIN:VEVENT
DTSTART;TZID=America/Edmonton:20250404T170000
DTEND;TZID=America/Edmonton:20250404T193000
DTSTAMP:20260419T162925
CREATED:20250303T182726Z
LAST-MODIFIED:20250303T182726Z
UID:13704-1743786000-1743795000@www.archgm.ca
SUMMARY:Stations of the Cross\, Lenten Soup & Bun\, Mass - St. Thomas More Church\, Fairview
DESCRIPTION:
URL:https://www.archgm.ca/event/stations-of-the-cross-lenten-soup-bun-mass-st-thomas-more-church-fairview-5/
LOCATION:St. Thomas More Church\, Fairview\, Grande Prairie\, AB
CATEGORIES:Events Calendar
END:VEVENT
BEGIN:VEVENT
DTSTART;TZID=America/Edmonton:20250404T100000
DTEND;TZID=America/Edmonton:20250404T150000
DTSTAMP:20260419T162925
CREATED:20250127T160552Z
LAST-MODIFIED:20250318T192510Z
UID:13297-1743760800-1743778800@www.archgm.ca
SUMMARY:Retraite Carême 2025 - St. Isidore Church\, St Isidore
DESCRIPTION:Retraite Carême 2025 LE 4 AVRIL 2025 \nVeuillez SVP me communiquer votre intention de participer\, soit en composant le 780-624-8661 ou par courriel à anitabelzile@gmail.com.\nVoici une excellente occasion d’approfondir ensemble notre foi. \nPrenons-en avantage! \n  \nhébergé par Caroline Maillet-Rao Ph.D \n  \nRegister by March 28th
URL:https://www.archgm.ca/event/retraite-careme-2025-st-isidore-church-st-isidore/
LOCATION:St. Isidore Church\, St. Isidore\, Grande Prairie\, AB
CATEGORIES:Events Calendar
END:VEVENT
BEGIN:VEVENT
DTSTART;TZID=America/Edmonton:20250403T093000
DTEND;TZID=America/Edmonton:20250403T170000
DTSTAMP:20260419T162925
CREATED:20250206T212117Z
LAST-MODIFIED:20250206T212117Z
UID:13528-1743672600-1743699600@www.archgm.ca
SUMMARY:Curia Meeting - Chancery Office\, Grande Prairie
DESCRIPTION:
URL:https://www.archgm.ca/event/curia-meeting-chancery-office-grande-prairie-17/
LOCATION:Chancery Office\, Grande Prairie\, Grande Prairie\, AB
CATEGORIES:Archbishop’s Calendar,Events Calendar
END:VEVENT
BEGIN:VEVENT
DTSTART;TZID=America/Edmonton:20250402T173000
DTEND;TZID=America/Edmonton:20250402T190000
DTSTAMP:20260419T162925
CREATED:20250319T162955Z
LAST-MODIFIED:20250319T162955Z
UID:13861-1743615000-1743620400@www.archgm.ca
SUMMARY:Talk by Bishop Jorge Izaguirre - St. Joseph Church\, Grande Prairie
DESCRIPTION:
URL:https://www.archgm.ca/event/talk-by-bishop-jorge-izaguirre-st-joseph-church-grande-prairie/
LOCATION:St. Joseph’s Church\, Grande Prairie\, Grande Prairie\, AB
CATEGORIES:Events Calendar
END:VEVENT
BEGIN:VEVENT
DTSTART;TZID=America/Edmonton:20250401T190000
DTEND;TZID=America/Edmonton:20250401T190000
DTSTAMP:20260419T162925
CREATED:20250319T162917Z
LAST-MODIFIED:20250319T162917Z
UID:13859-1743534000-1743534000@www.archgm.ca
SUMMARY:Mass celebrated by Bishop Jorge Izaguirre - St. Joseph Church\, Grande Prairie
DESCRIPTION:
URL:https://www.archgm.ca/event/mass-celebrated-by-bishop-jorge-izaguirre-st-joseph-church-grande-prairie/
LOCATION:St. Joseph’s Church\, Grande Prairie\, Grande Prairie\, AB
CATEGORIES:Archbishop’s Calendar,Events Calendar
END:VEVENT
BEGIN:VEVENT
DTSTART;TZID=America/Edmonton:20250331T190000
DTEND;TZID=America/Edmonton:20250331T190000
DTSTAMP:20260419T162925
CREATED:20250319T163024Z
LAST-MODIFIED:20250319T163024Z
UID:13863-1743447600-1743447600@www.archgm.ca
SUMMARY:Jubilee of Youth Committee - Online
DESCRIPTION:
URL:https://www.archgm.ca/event/jubilee-of-youth-committee-online/
LOCATION:Online\, Grande Prairie\, AB
CATEGORIES:Events Calendar
END:VEVENT
BEGIN:VEVENT
DTSTART;TZID=America/Edmonton:20250330T120000
DTEND;TZID=America/Edmonton:20250330T120000
DTSTAMP:20260419T162925
CREATED:20250319T165657Z
LAST-MODIFIED:20250319T165657Z
UID:13876-1743336000-1743336000@www.archgm.ca
SUMMARY:Beans & Rice Solidarity Meal - St. Mary's Church Hall\, Beaverlodge
DESCRIPTION:
URL:https://www.archgm.ca/event/beans-rice-solidarity-meal-st-marys-church-hall-beaverlodge/
LOCATION:St. Mary’s School\, Beaverlodge\, Grande Prairie\, AB
CATEGORIES:Events Calendar
END:VEVENT
BEGIN:VEVENT
DTSTART;TZID=America/Edmonton:20250329T200000
DTEND;TZID=America/Edmonton:20250330T130000
DTSTAMP:20260419T162925
CREATED:20250331T153009Z
LAST-MODIFIED:20250331T153009Z
UID:13923-1743278400-1743339600@www.archgm.ca
SUMMARY:CWL Bake Sale - St. Joseph Church\, Grande Prairie
DESCRIPTION:After Mass on Saturday evening and Sunday 9 am\, 11 am
URL:https://www.archgm.ca/event/cwl-bake-sale-st-joseph-church-grande-prairie/
LOCATION:St. Joseph’s Church\, Grande Prairie\, Grande Prairie\, AB
CATEGORIES:Events Calendar
END:VEVENT
BEGIN:VEVENT
DTSTART;TZID=America/Edmonton:20250329T180000
DTEND;TZID=America/Edmonton:20250330T120000
DTSTAMP:20260419T162925
CREATED:20250324T143011Z
LAST-MODIFIED:20250324T143011Z
UID:13903-1743271200-1743336000@www.archgm.ca
SUMMARY:Lenten Retreat - St. Peter Celestin\, Slave Lake
DESCRIPTION:Mass and Lenten Retreat (following mass) \nLed by: Father Michael Diaz \nSlave Lake \nSaturday\, March 29:  7 pm \n Sunday\, March 30:  11 am \n  \nConfessions: \nSaturday March 29: 10 am to 12 pm and 6 to 7 pm \nSunday March 30: Following Lenten Retreat
URL:https://www.archgm.ca/event/lenten-retreat-st-peter-celestin-slave-lake/
LOCATION:St. Peter Celestin\, Slave Lake\, Grande Prairie\, AB
CATEGORIES:Events Calendar
END:VEVENT
BEGIN:VEVENT
DTSTART;TZID=America/Edmonton:20250328T183000
DTEND;TZID=America/Edmonton:20250328T183000
DTSTAMP:20260419T162925
CREATED:20250303T174658Z
LAST-MODIFIED:20250303T174658Z
UID:13669-1743186600-1743186600@www.archgm.ca
SUMMARY:Lenten Stations of the Cross - Our Lady of Good Counsel\, High Level
DESCRIPTION:
URL:https://www.archgm.ca/event/lenten-stations-of-the-cross-our-lady-of-good-counsel-high-level-4/
LOCATION:Our Lady of Good Counsel\, High Level\, Grande Prairie\, AB
CATEGORIES:Events Calendar
END:VEVENT
BEGIN:VEVENT
DTSTART;TZID=America/Edmonton:20250328T173000
DTEND;TZID=America/Edmonton:20250328T200000
DTSTAMP:20260419T162925
CREATED:20250303T214235Z
LAST-MODIFIED:20250303T214235Z
UID:13745-1743183000-1743192000@www.archgm.ca
SUMMARY:Lenten Supper & Stations of the Cross - St. Joseph Church\, Grande Prairie
DESCRIPTION:
URL:https://www.archgm.ca/event/lenten-supper-stations-of-the-cross-st-joseph-church-grande-prairie-15/
LOCATION:St. Joseph’s Church\, Grande Prairie\, Grande Prairie\, AB
CATEGORIES:Events Calendar
END:VEVENT
BEGIN:VEVENT
DTSTART;TZID=America/Edmonton:20250328T173000
DTEND;TZID=America/Edmonton:20250328T200000
DTSTAMP:20260419T162925
CREATED:20250206T213114Z
LAST-MODIFIED:20250206T213114Z
UID:13538-1743183000-1743192000@www.archgm.ca
SUMMARY:Lenten Supper & Stations of the Cross - St. Joseph Church\, Grande Prairie
DESCRIPTION:
URL:https://www.archgm.ca/event/lenten-supper-stations-of-the-cross-st-joseph-church-grande-prairie-10/
LOCATION:St. Joseph’s Church\, Grande Prairie\, Grande Prairie\, AB
CATEGORIES:Events Calendar
END:VEVENT
BEGIN:VEVENT
DTSTART;TZID=America/Edmonton:20250328T170000
DTEND;TZID=America/Edmonton:20250328T193000
DTSTAMP:20260419T162925
CREATED:20250303T182636Z
LAST-MODIFIED:20250303T182636Z
UID:13702-1743181200-1743190200@www.archgm.ca
SUMMARY:Stations of the Cross\, Lenten Soup & Bun\, Mass - St. Thomas More Church\, Fairview
DESCRIPTION:
URL:https://www.archgm.ca/event/stations-of-the-cross-lenten-soup-bun-mass-st-thomas-more-church-fairview-4/
LOCATION:St. Thomas More Church\, Fairview\, Grande Prairie\, AB
CATEGORIES:Events Calendar
END:VEVENT
BEGIN:VEVENT
DTSTART;TZID=America/Edmonton:20250328T070000
DTEND;TZID=America/Edmonton:20250328T070000
DTSTAMP:20260419T162925
CREATED:20250206T212039Z
LAST-MODIFIED:20250206T212039Z
UID:13526-1743145200-1743145200@www.archgm.ca
SUMMARY:Ultreya - St. Joseph Church\, Grande Prairie
DESCRIPTION:
URL:https://www.archgm.ca/event/ultreya-st-joseph-church-grande-prairie-3/
LOCATION:St. Joseph’s Church\, Grande Prairie\, Grande Prairie\, AB
CATEGORIES:Archbishop’s Calendar,Events Calendar
END:VEVENT
END:VCALENDAR