BEGIN:VCALENDAR
VERSION:2.0
PRODID:-//Catholic Archdiocese of Grouard-McLennan - ECPv6.15.20//NONSGML v1.0//EN
CALSCALE:GREGORIAN
METHOD:PUBLISH
X-ORIGINAL-URL:https://www.archgm.ca
X-WR-CALDESC:Events for Catholic Archdiocese of Grouard-McLennan
REFRESH-INTERVAL;VALUE=DURATION:PT1H
X-Robots-Tag:noindex
X-PUBLISHED-TTL:PT1H
BEGIN:VTIMEZONE
TZID:America/Edmonton
BEGIN:DAYLIGHT
TZOFFSETFROM:-0700
TZOFFSETTO:-0600
TZNAME:MDT
DTSTART:20230312T090000
END:DAYLIGHT
BEGIN:STANDARD
TZOFFSETFROM:-0600
TZOFFSETTO:-0700
TZNAME:MST
DTSTART:20231105T080000
END:STANDARD
BEGIN:DAYLIGHT
TZOFFSETFROM:-0700
TZOFFSETTO:-0600
TZNAME:MDT
DTSTART:20240310T090000
END:DAYLIGHT
BEGIN:STANDARD
TZOFFSETFROM:-0600
TZOFFSETTO:-0700
TZNAME:MST
DTSTART:20241103T080000
END:STANDARD
BEGIN:DAYLIGHT
TZOFFSETFROM:-0700
TZOFFSETTO:-0600
TZNAME:MDT
DTSTART:20250309T090000
END:DAYLIGHT
BEGIN:STANDARD
TZOFFSETFROM:-0600
TZOFFSETTO:-0700
TZNAME:MST
DTSTART:20251102T080000
END:STANDARD
END:VTIMEZONE
BEGIN:VEVENT
DTSTART;TZID=America/Edmonton:20240915T120000
DTEND;TZID=America/Edmonton:20240915T133000
DTSTAMP:20260425T103533
CREATED:20240905T192714Z
LAST-MODIFIED:20240905T192751Z
UID:12388-1726401600-1726407000@www.archgm.ca
SUMMARY:BBQ Celebration for the Knights of Columbus Grande Prairie 75th Anniversary - St. Joseph Church\, Grande Prairie
DESCRIPTION:
URL:https://www.archgm.ca/event/bbq-celebration-for-the-knights-of-columbus-grande-prairie-75th-anniversary-st-joseph-church-grande-prairie/
LOCATION:St. Joseph’s Church\, Grande Prairie\, Grande Prairie\, AB
CATEGORIES:Archbishop’s Calendar,Events Calendar
END:VEVENT
BEGIN:VEVENT
DTSTART;TZID=America/Edmonton:20240916T130000
DTEND;TZID=America/Edmonton:20240916T130000
DTSTAMP:20260425T103533
CREATED:20240905T153043Z
LAST-MODIFIED:20240905T153043Z
UID:12322-1726491600-1726491600@www.archgm.ca
SUMMARY:CEFFA (Conseil de l'éducation de la foi catholique chez les francophones de l'Alberta) Meeting - Online
DESCRIPTION:
URL:https://www.archgm.ca/event/ceffa-conseil-de-leducation-de-la-foi-catholique-chez-les-francophones-de-lalberta-meeting-online/
LOCATION:Online\, Grande Prairie\, AB
CATEGORIES:Archbishop’s Calendar,Events Calendar
END:VEVENT
BEGIN:VEVENT
DTSTART;TZID=America/Edmonton:20240916T170000
DTEND;TZID=America/Edmonton:20240916T170000
DTSTAMP:20260425T103533
CREATED:20240905T154809Z
LAST-MODIFIED:20240905T154809Z
UID:12348-1726506000-1726506000@www.archgm.ca
SUMMARY:CWL Meeting - Our Lady of Good Counsel\, High Level
DESCRIPTION:
URL:https://www.archgm.ca/event/cwl-meeting-our-lady-of-good-counsel-high-level-4/
LOCATION:Our Lady of Good Counsel\, High Level\, Grande Prairie\, AB
CATEGORIES:Events Calendar
END:VEVENT
BEGIN:VEVENT
DTSTART;TZID=America/Edmonton:20240918T150000
DTEND;TZID=America/Edmonton:20240918T170000
DTSTAMP:20260425T103533
CREATED:20240905T155200Z
LAST-MODIFIED:20240905T155200Z
UID:12354-1726671600-1726678800@www.archgm.ca
SUMMARY:Children for Christ Club - Our Lady of Good Counsel\, High Level
DESCRIPTION:
URL:https://www.archgm.ca/event/children-for-christ-club-our-lady-of-good-counsel-high-level-7/
LOCATION:Our Lady of Good Counsel\, High Level\, Grande Prairie\, AB
CATEGORIES:Events Calendar
END:VEVENT
BEGIN:VEVENT
DTSTART;TZID=America/Edmonton:20240919T080000
DTEND;TZID=America/Edmonton:20240919T170000
DTSTAMP:20260425T103533
CREATED:20240905T153141Z
LAST-MODIFIED:20240905T153141Z
UID:12324-1726732800-1726765200@www.archgm.ca
SUMMARY:Curia Meeting - Chancery\, Grande Prairie
DESCRIPTION:
URL:https://www.archgm.ca/event/curia-meeting-chancery-grande-prairie/
LOCATION:Chancery Office\, Grande Prairie\, Grande Prairie\, AB
CATEGORIES:Archbishop’s Calendar,Events Calendar
END:VEVENT
BEGIN:VEVENT
DTSTART;TZID=America/Edmonton:20240920T190000
DTEND;TZID=America/Edmonton:20240920T190000
DTSTAMP:20260425T103533
CREATED:20240909T141220Z
LAST-MODIFIED:20240909T165817Z
UID:12422-1726858800-1726858800@www.archgm.ca
SUMMARY:Women\, Wine & the Word - St. Joseph Church\, Grande Prairie
DESCRIPTION:Friday\, Sept. 20th\n7:00pm-9:30pm\nTranquille Hall\nSt. Joseph Church \nFull details on the poster \nTickets are $30\, learn more at saintjoseph.ca
URL:https://www.archgm.ca/event/women-wine-the-word-st-joseph-church-grande-prairie/
LOCATION:St. Joseph’s Church\, Grande Prairie\, Grande Prairie\, AB
CATEGORIES:Events Calendar
END:VEVENT
BEGIN:VEVENT
DTSTART;TZID=America/Edmonton:20240921T140000
DTEND;TZID=America/Edmonton:20240921T160000
DTSTAMP:20260425T103533
CREATED:20240905T213035Z
LAST-MODIFIED:20240905T213035Z
UID:12399-1726927200-1726934400@www.archgm.ca
SUMMARY:KofC Meeting - St. Mary's Church\, Beaverlodge
DESCRIPTION:Knights of Columbus Meeting\nSeptember 21\, 2024\n2pm\nSt. Mary’s Church meeting room
URL:https://www.archgm.ca/event/kofc-meeting-st-marys-church-beaverlodge/
LOCATION:St. Mary’s Church\, Beaverlodge\, Grande Prairie\, AB
CATEGORIES:Events Calendar
END:VEVENT
BEGIN:VEVENT
DTSTART;TZID=America/Edmonton:20240921T170000
DTEND;TZID=America/Edmonton:20240921T213000
DTSTAMP:20260425T103533
CREATED:20240905T160401Z
LAST-MODIFIED:20240905T160425Z
UID:12377-1726938000-1726954200@www.archgm.ca
SUMMARY:Youth Choir & High School Youth Group - St. Joseph's\, Grande Prairie
DESCRIPTION:
URL:https://www.archgm.ca/event/youth-choir-high-school-youth-group-st-josephs-grande-prairie-2/
LOCATION:St. Joseph’s Church\, Grande Prairie\, Grande Prairie\, AB
CATEGORIES:Events Calendar
END:VEVENT
BEGIN:VEVENT
DTSTART;VALUE=DATE:20240922
DTEND;VALUE=DATE:20240928
DTSTAMP:20260425T103533
CREATED:20240905T153305Z
LAST-MODIFIED:20240905T153305Z
UID:12326-1726963200-1727481599@www.archgm.ca
SUMMARY:Canadian Conference of Catholic Bishops Plenary Meeting - Beaupre\, Quebec
DESCRIPTION:
URL:https://www.archgm.ca/event/canadian-conference-of-catholic-bishops-plenary-meeting-beaupre-quebec/
LOCATION:AB
CATEGORIES:Archbishop’s Calendar,Events Calendar
END:VEVENT
BEGIN:VEVENT
DTSTART;TZID=America/Edmonton:20240924T140000
DTEND;TZID=America/Edmonton:20240924T140000
DTSTAMP:20260425T103533
CREATED:20240925T152225Z
LAST-MODIFIED:20240925T152225Z
UID:12468-1727186400-1727186400@www.archgm.ca
SUMMARY:Parish Finance Meeting - St. Mary's Church\, Beaverlodge
DESCRIPTION:September 24: Tuesday\, St. Mary’s PFC meeting at 2pm\, St. Mary’s meeting room.
URL:https://www.archgm.ca/event/parish-finance-meeting-st-marys-church-beaverlodge/
LOCATION:St. Mary’s Church\, Beaverlodge\, Grande Prairie\, AB
CATEGORIES:Events Calendar
END:VEVENT
BEGIN:VEVENT
DTSTART;TZID=America/Edmonton:20240924T190000
DTEND;TZID=America/Edmonton:20240924T190000
DTSTAMP:20260425T103533
CREATED:20240909T140906Z
LAST-MODIFIED:20240909T140906Z
UID:12419-1727204400-1727204400@www.archgm.ca
SUMMARY:CWL Meeting - St. John the Baptist Cathedral\, McLennan
DESCRIPTION:
URL:https://www.archgm.ca/event/cwl-meeting-st-john-the-baptist-cathedral-mclennan/
LOCATION:McLennan Golden Age Centre\, Grande Prairie\, AB
CATEGORIES:Events Calendar
END:VEVENT
BEGIN:VEVENT
DTSTART;TZID=America/Edmonton:20240925T150000
DTEND;TZID=America/Edmonton:20240925T170000
DTSTAMP:20260425T103533
CREATED:20240905T155228Z
LAST-MODIFIED:20240905T155228Z
UID:12356-1727276400-1727283600@www.archgm.ca
SUMMARY:Children for Christ Club - Our Lady of Good Counsel\, High Level
DESCRIPTION:
URL:https://www.archgm.ca/event/children-for-christ-club-our-lady-of-good-counsel-high-level-8/
LOCATION:Our Lady of Good Counsel\, High Level\, Grande Prairie\, AB
CATEGORIES:Events Calendar
END:VEVENT
BEGIN:VEVENT
DTSTART;TZID=America/Edmonton:20240926T183000
DTEND;TZID=America/Edmonton:20240926T193000
DTSTAMP:20260425T103533
CREATED:20240925T153031Z
LAST-MODIFIED:20240925T153031Z
UID:12480-1727375400-1727379000@www.archgm.ca
SUMMARY:Bible Study - St. Peter Celestin\, Slave Lake
DESCRIPTION:
URL:https://www.archgm.ca/event/bible-study-st-peter-celestin-slave-lake/
LOCATION:St. Peter Celestin\, Slave Lake\, Grande Prairie\, AB
CATEGORIES:Events Calendar
END:VEVENT
BEGIN:VEVENT
DTSTART;TZID=America/Edmonton:20241002T153000
DTEND;TZID=America/Edmonton:20241002T170000
DTSTAMP:20260425T103533
CREATED:20240905T155249Z
LAST-MODIFIED:20240905T155249Z
UID:12358-1727883000-1727888400@www.archgm.ca
SUMMARY:Children for Christ Club - Our Lady of Good Counsel\, High Level
DESCRIPTION:
URL:https://www.archgm.ca/event/children-for-christ-club-our-lady-of-good-counsel-high-level-9/
LOCATION:Our Lady of Good Counsel\, High Level\, Grande Prairie\, AB
CATEGORIES:Events Calendar
END:VEVENT
BEGIN:VEVENT
DTSTART;TZID=America/Edmonton:20241002T180000
DTEND;TZID=America/Edmonton:20241002T203000
DTSTAMP:20260425T103533
CREATED:20240925T153517Z
LAST-MODIFIED:20240925T153517Z
UID:12482-1727892000-1727901000@www.archgm.ca
SUMMARY:CWL Annual Potluck - Our Lady of Peace\, Peace River
DESCRIPTION:Mass at 5:30 pm followed by supper at 6:00 pm and meeting at 7:30 pm. All ladies welcome
URL:https://www.archgm.ca/event/cwl-annual-potluck-our-lady-of-peace-peace-river/
LOCATION:Our Lady of Peace Church\, Peace River\, Grande Prairie\, AB
CATEGORIES:Events Calendar
END:VEVENT
BEGIN:VEVENT
DTSTART;VALUE=DATE:20241003
DTEND;VALUE=DATE:20241004
DTSTAMP:20260425T103533
CREATED:20240905T153433Z
LAST-MODIFIED:20240905T153433Z
UID:12328-1727913600-1727999999@www.archgm.ca
SUMMARY:Anniversary of the Dedication of the St. John the Baptist Cathedral\, McLennan
DESCRIPTION:
URL:https://www.archgm.ca/event/anniversary-of-the-dedication-of-the-st-john-the-baptist-cathedral-mclennan/
LOCATION:St. John the Baptist Cathedral\, McLennan\, Grande Prairie\, AB
CATEGORIES:Archbishop’s Calendar,Events Calendar
END:VEVENT
BEGIN:VEVENT
DTSTART;TZID=America/Edmonton:20241003T083000
DTEND;TZID=America/Edmonton:20241003T103000
DTSTAMP:20260425T103533
CREATED:20240905T153614Z
LAST-MODIFIED:20240905T153615Z
UID:12332-1727944200-1727951400@www.archgm.ca
SUMMARY:Alberta/NWT Bishops Meeting - Online
DESCRIPTION:
URL:https://www.archgm.ca/event/alberta-nwt-bishops-meeting-online/
LOCATION:Online\, Grande Prairie\, AB
CATEGORIES:Archbishop’s Calendar,Events Calendar
END:VEVENT
BEGIN:VEVENT
DTSTART;TZID=America/Edmonton:20241003T103000
DTEND;TZID=America/Edmonton:20241003T170000
DTSTAMP:20260425T103533
CREATED:20240905T153518Z
LAST-MODIFIED:20240905T153518Z
UID:12330-1727951400-1727974800@www.archgm.ca
SUMMARY:Curia Meeting - Chancery\, Grande Prairie
DESCRIPTION:
URL:https://www.archgm.ca/event/curia-meeting-chancery-grande-prairie-2/
LOCATION:Chancery Office\, Grande Prairie\, Grande Prairie\, AB
CATEGORIES:Archbishop’s Calendar,Events Calendar
END:VEVENT
BEGIN:VEVENT
DTSTART;TZID=America/Edmonton:20241005T170000
DTEND;TZID=America/Edmonton:20241005T213000
DTSTAMP:20260425T103533
CREATED:20240905T160507Z
LAST-MODIFIED:20240905T160507Z
UID:12379-1728147600-1728163800@www.archgm.ca
SUMMARY:Youth Choir & High School Youth Group - St. Joseph's\, Grande Prairie
DESCRIPTION:
URL:https://www.archgm.ca/event/youth-choir-high-school-youth-group-st-josephs-grande-prairie-3/
LOCATION:St. Joseph’s Church\, Grande Prairie\, Grande Prairie\, AB
CATEGORIES:Events Calendar
END:VEVENT
BEGIN:VEVENT
DTSTART;TZID=America/Edmonton:20241006T100000
DTEND;TZID=America/Edmonton:20241006T123000
DTSTAMP:20260425T103533
CREATED:20240905T155901Z
LAST-MODIFIED:20240905T155901Z
UID:12372-1728208800-1728217800@www.archgm.ca
SUMMARY:Bake Sale - Ste. Anne\, Falher
DESCRIPTION:
URL:https://www.archgm.ca/event/bake-sale-ste-anne-falher/
LOCATION:St. Anne Church\, Falher\, Grande Prairie\, AB
CATEGORIES:Events Calendar
END:VEVENT
BEGIN:VEVENT
DTSTART;TZID=America/Edmonton:20241006T110000
DTEND;TZID=America/Edmonton:20241006T130000
DTSTAMP:20260425T103533
CREATED:20240925T151959Z
LAST-MODIFIED:20240925T151959Z
UID:12466-1728212400-1728219600@www.archgm.ca
SUMMARY:Potluck & Meet and Greet with New Pastor - St. Mary's Church\, Beaverlodge
DESCRIPTION:Parish Potluck Sunday and Meet & Greet\nLet us join together for a special potluck and a warm welcome to our new parish priest\,\nFr. Lawrence Odoemena\nOctober 6\, 2024\nImmediately after the 11am Mass\nSt. Mary’s Church Hall
URL:https://www.archgm.ca/event/potluck-meet-and-greet-with-new-pastor-st-marys-church-beaverlodge/
LOCATION:St. Mary’s Church\, Beaverlodge\, Grande Prairie\, AB
CATEGORIES:Events Calendar
END:VEVENT
BEGIN:VEVENT
DTSTART;TZID=America/Edmonton:20241006T110000
DTEND;TZID=America/Edmonton:20241006T130000
DTSTAMP:20260425T103533
CREATED:20240925T152920Z
LAST-MODIFIED:20240925T152920Z
UID:12478-1728212400-1728219600@www.archgm.ca
SUMMARY:Potluck Sunday - St. Peter Celestin\, Slave Lake
DESCRIPTION:
URL:https://www.archgm.ca/event/potluck-sunday-st-peter-celestin-slave-lake/
LOCATION:St. Peter Celestin\, Slave Lake\, Grande Prairie\, AB
CATEGORIES:Events Calendar
END:VEVENT
BEGIN:VEVENT
DTSTART;TZID=America/Edmonton:20241008T100000
DTEND;TZID=America/Edmonton:20241008T100000
DTSTAMP:20260425T103533
CREATED:20240905T153827Z
LAST-MODIFIED:20240905T153827Z
UID:12334-1728381600-1728381600@www.archgm.ca
SUMMARY:Archbishop meeting with school board Superintendents - Chancery
DESCRIPTION:
URL:https://www.archgm.ca/event/archbishop-meeting-with-school-board-superintendents-chancery/
LOCATION:Chancery Office\, Grande Prairie\, Grande Prairie\, AB
CATEGORIES:Archbishop’s Calendar,Events Calendar
END:VEVENT
BEGIN:VEVENT
DTSTART;TZID=America/Edmonton:20241008T170000
DTEND;TZID=America/Edmonton:20241008T170000
DTSTAMP:20260425T103533
CREATED:20241007T145336Z
LAST-MODIFIED:20241007T145336Z
UID:12510-1728406800-1728406800@www.archgm.ca
SUMMARY:PPC Meeting - St. Mary's Church\, Beaverlodge
DESCRIPTION:October 8\, Tuesday:\nPPC meeting at 5pm St. Mary’s Church meeting room
URL:https://www.archgm.ca/event/ppc-meeting-st-marys-church-beaverlodge-6/
LOCATION:St. Mary’s Church\, Beaverlodge\, Grande Prairie\, AB
CATEGORIES:Events Calendar
END:VEVENT
BEGIN:VEVENT
DTSTART;TZID=America/Edmonton:20241008T170000
DTEND;TZID=America/Edmonton:20241008T170000
DTSTAMP:20260425T103533
CREATED:20241007T150701Z
LAST-MODIFIED:20241007T150701Z
UID:12525-1728406800-1728406800@www.archgm.ca
SUMMARY:Parish Council Meeting - Our Lady of Good Counsel\, High Level
DESCRIPTION:
URL:https://www.archgm.ca/event/parish-council-meeting-our-lady-of-good-counsel-high-level-3/
LOCATION:Our Lady of Good Counsel\, High Level\, Grande Prairie\, AB
CATEGORIES:Events Calendar
END:VEVENT
BEGIN:VEVENT
DTSTART;TZID=America/Edmonton:20241008T190000
DTEND;TZID=America/Edmonton:20241008T190000
DTSTAMP:20260425T103533
CREATED:20241007T152505Z
LAST-MODIFIED:20241007T152505Z
UID:12534-1728414000-1728414000@www.archgm.ca
SUMMARY:Grande Prairie CWL Meeting - St. Joseph Church\, Grande Prairie
DESCRIPTION:The Grande Prairie Catholic Women’s League meet following the 7pm mass in the Grouard Room on the 2nd Tuesday of every month. Please join us if you are a member or new members are always welcome!
URL:https://www.archgm.ca/event/grande-prairie-cwl-meeting-st-joseph-church-grande-prairie/
LOCATION:St. Joseph’s Church\, Grande Prairie\, Grande Prairie\, AB
CATEGORIES:Events Calendar
END:VEVENT
BEGIN:VEVENT
DTSTART;TZID=America/Edmonton:20241009T150000
DTEND;TZID=America/Edmonton:20241009T170000
DTSTAMP:20260425T103533
CREATED:20240905T155308Z
LAST-MODIFIED:20240905T155308Z
UID:12360-1728486000-1728493200@www.archgm.ca
SUMMARY:Children for Christ Club - Our Lady of Good Counsel\, High Level
DESCRIPTION:
URL:https://www.archgm.ca/event/children-for-christ-club-our-lady-of-good-counsel-high-level-10/
LOCATION:Our Lady of Good Counsel\, High Level\, Grande Prairie\, AB
CATEGORIES:Events Calendar
END:VEVENT
BEGIN:VEVENT
DTSTART;TZID=America/Edmonton:20241009T170000
DTEND;TZID=America/Edmonton:20241009T170000
DTSTAMP:20260425T103533
CREATED:20241007T152625Z
LAST-MODIFIED:20241007T152625Z
UID:12536-1728493200-1728493200@www.archgm.ca
SUMMARY:Ignite: Making Meals for St. Lawrence Centre - St. Joseph Church\, Grande Prairie
DESCRIPTION:“Join us in preparing meals for our shelters around town. We meet in the Tranquille Hall kitchen at 5pm until approximately 7pm.” \nIgnite is St. Joseph’s Catholic ministry for young adults (18 and over)
URL:https://www.archgm.ca/event/ignite-making-meals-for-st-lawrence-centre-st-joseph-church-grande-prairie/
LOCATION:St. Joseph’s Church\, Grande Prairie\, Grande Prairie\, AB
CATEGORIES:Events Calendar
END:VEVENT
BEGIN:VEVENT
DTSTART;TZID=America/Edmonton:20241010T173000
DTEND;TZID=America/Edmonton:20241010T173000
DTSTAMP:20260425T103533
CREATED:20241007T145441Z
LAST-MODIFIED:20241007T145441Z
UID:12512-1728581400-1728581400@www.archgm.ca
SUMMARY:Ward Review Community Consultation - St. Mary’s School\, Beaverlodge
DESCRIPTION:October 10\, Thursday: Ward Review Community Consultation\, St. Mary’s School at 5:30pm
URL:https://www.archgm.ca/event/ward-review-community-consultation-st-marys-school-beaverlodge/
LOCATION:St. Mary’s School\, Beaverlodge\, Grande Prairie\, AB
CATEGORIES:Events Calendar
END:VEVENT
BEGIN:VEVENT
DTSTART;TZID=America/Edmonton:20241010T173000
DTEND;TZID=America/Edmonton:20241010T173000
DTSTAMP:20260425T103533
CREATED:20241007T152719Z
LAST-MODIFIED:20241007T152719Z
UID:12538-1728581400-1728581400@www.archgm.ca
SUMMARY:Games Night - St. Joseph Church\, Grande Prairie
DESCRIPTION:Game Night presented by the Knights of Columbus is an evening full of food\, fellowship and fun. From crib tournaments and cards to board games\, there is fun for the whole family! \n  \nJoin us this month  for Macaroni and Cheese\, Caesar Salad\, & Mashed Potatoes sponsored by Mr. Mikes with cookies from Subway for dessert. Doors open 530\, games start around 7 or earlier if they want. Donations accepted with proceeds going to cooking for St. Lawrence.
URL:https://www.archgm.ca/event/games-night-st-joseph-church-grande-prairie-5/
LOCATION:St. Joseph’s Church\, Grande Prairie\, Grande Prairie\, AB
CATEGORIES:Events Calendar
END:VEVENT
END:VCALENDAR