BEGIN:VCALENDAR
VERSION:2.0
PRODID:-//Catholic Archdiocese of Grouard-McLennan - ECPv6.15.20//NONSGML v1.0//EN
CALSCALE:GREGORIAN
METHOD:PUBLISH
X-ORIGINAL-URL:https://www.archgm.ca
X-WR-CALDESC:Events for Catholic Archdiocese of Grouard-McLennan
REFRESH-INTERVAL;VALUE=DURATION:PT1H
X-Robots-Tag:noindex
X-PUBLISHED-TTL:PT1H
BEGIN:VTIMEZONE
TZID:America/Edmonton
BEGIN:DAYLIGHT
TZOFFSETFROM:-0700
TZOFFSETTO:-0600
TZNAME:MDT
DTSTART:20230312T090000
END:DAYLIGHT
BEGIN:STANDARD
TZOFFSETFROM:-0600
TZOFFSETTO:-0700
TZNAME:MST
DTSTART:20231105T080000
END:STANDARD
BEGIN:DAYLIGHT
TZOFFSETFROM:-0700
TZOFFSETTO:-0600
TZNAME:MDT
DTSTART:20240310T090000
END:DAYLIGHT
BEGIN:STANDARD
TZOFFSETFROM:-0600
TZOFFSETTO:-0700
TZNAME:MST
DTSTART:20241103T080000
END:STANDARD
BEGIN:DAYLIGHT
TZOFFSETFROM:-0700
TZOFFSETTO:-0600
TZNAME:MDT
DTSTART:20250309T090000
END:DAYLIGHT
BEGIN:STANDARD
TZOFFSETFROM:-0600
TZOFFSETTO:-0700
TZNAME:MST
DTSTART:20251102T080000
END:STANDARD
END:VTIMEZONE
BEGIN:VEVENT
DTSTART;VALUE=DATE:20240814
DTEND;VALUE=DATE:20240816
DTSTAMP:20260425T051944
CREATED:20240611T195051Z
LAST-MODIFIED:20240712T145228Z
UID:11814-1723593600-1723766399@www.archgm.ca
SUMMARY:Assumption Pilgrimage - Our Lady of Lourdes\, Girouxville
DESCRIPTION:The Feast of the Assumption Pilgrimage in Girouxville is coming up this August! \nThis annual archdiocesan Pilgrimage will be held in Girouxville’s Notre Dame de Lourdes church and grotto from Wednesday evening\, August 14th to Thursday afternoon\, August 15th. \nBeginning with Vespers at 7:30 pm\, a Vigil Mass\, followed by a Eucharistic Procession and Benediction\, will be held on August 14th\, with the Mass starting at 8:30 pm. On Thursday\, August 15th\, a penitential service followed by confessions will begin at 9:00 am. The Mass of the Assumption begins at 10:30 am. After a lunch at noon\, there will be a healing service at 1:00 pm\, followed by a procession with the state of the Blessed Virgin Mary at 2:00 pm and closing with a Chaplet of Divine Mercy. \n\n\nWednesday\, August 14th\n7:30 pm – Vespers\n8:30 pm – Vigil Mass\n9:30 pm – Procession with the Blessed Sacrament & Benediction \nThursday\, August 15th\n9:00 am – Penitential service\n9:30 am – Confessions and rosary\n10:30 am – Mass of the Assumption\n12:00 pm – Lunch\n1:00 pm – Healing service\n2:00 pm – Procession with the statue of the Blessed Virgin Mary\n3:00 pm – Chaplet of Divine Mercy & Closing remarks
URL:https://www.archgm.ca/event/assumption-pilgrimage-our-lady-of-lourdes-girouxville-2/
LOCATION:Our Lady of Lourdes Church\, Girouxville\, Grande Prairie\, AB
CATEGORIES:Archbishop’s Calendar,Events Calendar
END:VEVENT
BEGIN:VEVENT
DTSTART;VALUE=DATE:20240818
DTEND;VALUE=DATE:20240822
DTSTAMP:20260425T051944
CREATED:20240429T170003Z
LAST-MODIFIED:20240429T170003Z
UID:11509-1723939200-1724284799@www.archgm.ca
SUMMARY:Camp St. Martin: Elementary Week - Camp Artaban\, Alberta
DESCRIPTION:
URL:https://www.archgm.ca/event/camp-st-martin-elementary-week-camp-artaban-alberta/
LOCATION:Camp Artaban\, Alberta\, Grande Prairie\, AB
CATEGORIES:Events Calendar
END:VEVENT
BEGIN:VEVENT
DTSTART;VALUE=DATE:20240826
DTEND;VALUE=DATE:20240831
DTSTAMP:20260425T051944
CREATED:20240822T170157Z
LAST-MODIFIED:20240822T170157Z
UID:12176-1724630400-1725062399@www.archgm.ca
SUMMARY:Priests Retreat at Providence Renewal Centre
DESCRIPTION:
URL:https://www.archgm.ca/event/priests-retreat-at-providence-renewal-centre/
LOCATION:Providence Centre\, Edmonton\, Grande Prairie\, AB
CATEGORIES:Archbishop’s Calendar,Events Calendar
END:VEVENT
BEGIN:VEVENT
DTSTART;TZID=America/Edmonton:20240901T113000
DTEND;TZID=America/Edmonton:20240901T140000
DTSTAMP:20260425T051944
CREATED:20240905T154533Z
LAST-MODIFIED:20240905T154533Z
UID:12344-1725190200-1725199200@www.archgm.ca
SUMMARY:Potluck for Paul + Raffle draw - Our Lady of Good Counsel\, High Level
DESCRIPTION:
URL:https://www.archgm.ca/event/potluck-for-paul-raffle-draw-our-lady-of-good-counsel-high-level/
LOCATION:Our Lady of Good Counsel\, High Level\, Grande Prairie\, AB
CATEGORIES:Events Calendar
END:VEVENT
BEGIN:VEVENT
DTSTART;TZID=America/Edmonton:20240903T190000
DTEND;TZID=America/Edmonton:20240903T190000
DTSTAMP:20260425T051944
CREATED:20240905T154903Z
LAST-MODIFIED:20240905T154903Z
UID:12350-1725390000-1725390000@www.archgm.ca
SUMMARY:Anointing and Healing Mass - Our Lady of Good Counsel\, High Level
DESCRIPTION:
URL:https://www.archgm.ca/event/anointing-and-healing-mass-our-lady-of-good-counsel-high-level-4/
LOCATION:Our Lady of Good Counsel\, High Level\, Grande Prairie\, AB
CATEGORIES:Events Calendar
END:VEVENT
BEGIN:VEVENT
DTSTART;TZID=America/Edmonton:20240905T080000
DTEND;TZID=America/Edmonton:20240905T170000
DTSTAMP:20260425T051944
CREATED:20240905T152613Z
LAST-MODIFIED:20240905T152613Z
UID:12316-1725523200-1725555600@www.archgm.ca
SUMMARY:Curia Meeting - Chancery Office
DESCRIPTION:
URL:https://www.archgm.ca/event/curia-meeting-chancery-office-4/
LOCATION:Chancery Office\, Grande Prairie\, Grande Prairie\, AB
CATEGORIES:Archbishop’s Calendar,Events Calendar
END:VEVENT
BEGIN:VEVENT
DTSTART;TZID=America/Edmonton:20240905T180000
DTEND;TZID=America/Edmonton:20240905T180000
DTSTAMP:20260425T051944
CREATED:20240905T155501Z
LAST-MODIFIED:20240905T155501Z
UID:12368-1725559200-1725559200@www.archgm.ca
SUMMARY:Eucharist Adoration - Our Lady of Good Counsel\, High Level
DESCRIPTION:
URL:https://www.archgm.ca/event/eucharist-adoration-our-lady-of-good-counsel-high-level/
LOCATION:Our Lady of Good Counsel\, High Level\, Grande Prairie\, AB
CATEGORIES:Events Calendar
END:VEVENT
BEGIN:VEVENT
DTSTART;TZID=America/Edmonton:20240907T170000
DTEND;TZID=America/Edmonton:20240907T213000
DTSTAMP:20260425T051944
CREATED:20240905T160319Z
LAST-MODIFIED:20240905T160319Z
UID:12374-1725728400-1725744600@www.archgm.ca
SUMMARY:Youth Choir & High School Youth Group - St. Joseph's\, Grande Prairie
DESCRIPTION:
URL:https://www.archgm.ca/event/youth-choir-high-school-youth-group-st-josephs-grande-prairie/
LOCATION:St. Joseph’s Church\, Grande Prairie\, Grande Prairie\, AB
CATEGORIES:Events Calendar
END:VEVENT
BEGIN:VEVENT
DTSTART;TZID=America/Edmonton:20240908T100000
DTEND;TZID=America/Edmonton:20240908T100000
DTSTAMP:20260425T051944
CREATED:20240905T155832Z
LAST-MODIFIED:20240905T155832Z
UID:12370-1725789600-1725789600@www.archgm.ca
SUMMARY:Cash Calendar Draws - Ste. Anne\, Falher
DESCRIPTION:
URL:https://www.archgm.ca/event/cash-calendar-draws-ste-anne-falher/
LOCATION:St. Anne Church\, Falher\, Grande Prairie\, AB
CATEGORIES:Events Calendar
END:VEVENT
BEGIN:VEVENT
DTSTART;TZID=America/Edmonton:20240910T163000
DTEND;TZID=America/Edmonton:20240910T183000
DTSTAMP:20260425T051944
CREATED:20240905T212755Z
LAST-MODIFIED:20240905T212755Z
UID:12397-1725985800-1725993000@www.archgm.ca
SUMMARY:PPC Meeting - St. Mary's Church\, Beaverlodge
DESCRIPTION:September 10\, 2024\nCelebration of Mass at 4:30pm\nFollowed by the PPC meeting at 5pm\nSt. Mary’s Church meeting room.
URL:https://www.archgm.ca/event/ppc-meeting-st-marys-church-beaverlodge-5/
LOCATION:St. Mary’s Church\, Beaverlodge\, Grande Prairie\, AB
CATEGORIES:Events Calendar
END:VEVENT
BEGIN:VEVENT
DTSTART;TZID=America/Edmonton:20240910T170000
DTEND;TZID=America/Edmonton:20240910T170000
DTSTAMP:20260425T051944
CREATED:20240905T154619Z
LAST-MODIFIED:20240905T154619Z
UID:12346-1725987600-1725987600@www.archgm.ca
SUMMARY:Parish Council Meeting - Our Lady of Good Counsel\, High Level
DESCRIPTION:
URL:https://www.archgm.ca/event/parish-council-meeting-our-lady-of-good-counsel-high-level-2/
LOCATION:Our Lady of Good Counsel\, High Level\, Grande Prairie\, AB
CATEGORIES:Archbishop’s Calendar,Events Calendar
END:VEVENT
BEGIN:VEVENT
DTSTART;TZID=America/Edmonton:20240911T100000
DTEND;TZID=America/Edmonton:20240911T123000
DTSTAMP:20260425T051944
CREATED:20240905T152812Z
LAST-MODIFIED:20240905T152812Z
UID:12318-1726048800-1726057800@www.archgm.ca
SUMMARY:Archdiocesan Pastoral Executive Meeting - Chancery
DESCRIPTION:
URL:https://www.archgm.ca/event/archdiocesan-pastoral-executive-meeting-chancery/
LOCATION:Chancery Office\, Grande Prairie\, Grande Prairie\, AB
CATEGORIES:Archbishop’s Calendar,Events Calendar
END:VEVENT
BEGIN:VEVENT
DTSTART;TZID=America/Edmonton:20240911T150000
DTEND;TZID=America/Edmonton:20240911T170000
DTSTAMP:20260425T051944
CREATED:20240905T155140Z
LAST-MODIFIED:20240905T155140Z
UID:12352-1726066800-1726074000@www.archgm.ca
SUMMARY:Children for Christ Club - Our Lady of Good Counsel\, High Level
DESCRIPTION:
URL:https://www.archgm.ca/event/children-for-christ-club-our-lady-of-good-counsel-high-level-6/
LOCATION:Our Lady of Good Counsel\, High Level\, Grande Prairie\, AB
CATEGORIES:Events Calendar
END:VEVENT
BEGIN:VEVENT
DTSTART;TZID=America/Edmonton:20240913T090000
DTEND;TZID=America/Edmonton:20240913T103000
DTSTAMP:20260425T051944
CREATED:20240905T212650Z
LAST-MODIFIED:20240905T212650Z
UID:12395-1726218000-1726223400@www.archgm.ca
SUMMARY:St. Mary's School Mass - St. Mary's Church\, Beaverlodge
DESCRIPTION:
URL:https://www.archgm.ca/event/st-marys-school-mass-st-marys-church-beaverlodge-2/
LOCATION:St. Mary’s Church\, Beaverlodge\, Grande Prairie\, AB
CATEGORIES:Events Calendar
END:VEVENT
BEGIN:VEVENT
DTSTART;TZID=America/Edmonton:20240914T100000
DTEND;TZID=America/Edmonton:20240914T120000
DTSTAMP:20260425T051944
CREATED:20240905T152918Z
LAST-MODIFIED:20240905T152918Z
UID:12320-1726308000-1726315200@www.archgm.ca
SUMMARY:Vocations Committee Meeting - Online
DESCRIPTION:
URL:https://www.archgm.ca/event/vocations-committee-meeting-online/
LOCATION:Online\, Grande Prairie\, AB
CATEGORIES:Archbishop’s Calendar,Events Calendar
END:VEVENT
BEGIN:VEVENT
DTSTART;TZID=America/Edmonton:20240915T100000
DTEND;TZID=America/Edmonton:20240915T123000
DTSTAMP:20260425T051944
CREATED:20240913T215047Z
LAST-MODIFIED:20240913T215047Z
UID:12452-1726394400-1726403400@www.archgm.ca
SUMMARY:Youth Mass - St. Joseph Catholic Church\, Spirit River
DESCRIPTION:10:00 am – St. Joseph Church\, Spirit River\nSoup and Bun Luncheon afterwards\n(No Sunday Mass in Rycroft or Silver Valley)
URL:https://www.archgm.ca/event/youth-mass-st-joseph-catholic-church-spirit-river/
LOCATION:St. Joseph’s Church\, Spirit River\, Grande Prairie\, AB
CATEGORIES:Events Calendar
END:VEVENT
BEGIN:VEVENT
DTSTART;TZID=America/Edmonton:20240915T120000
DTEND;TZID=America/Edmonton:20240915T133000
DTSTAMP:20260425T051944
CREATED:20240905T192714Z
LAST-MODIFIED:20240905T192751Z
UID:12388-1726401600-1726407000@www.archgm.ca
SUMMARY:BBQ Celebration for the Knights of Columbus Grande Prairie 75th Anniversary - St. Joseph Church\, Grande Prairie
DESCRIPTION:
URL:https://www.archgm.ca/event/bbq-celebration-for-the-knights-of-columbus-grande-prairie-75th-anniversary-st-joseph-church-grande-prairie/
LOCATION:St. Joseph’s Church\, Grande Prairie\, Grande Prairie\, AB
CATEGORIES:Archbishop’s Calendar,Events Calendar
END:VEVENT
BEGIN:VEVENT
DTSTART;TZID=America/Edmonton:20240916T130000
DTEND;TZID=America/Edmonton:20240916T130000
DTSTAMP:20260425T051944
CREATED:20240905T153043Z
LAST-MODIFIED:20240905T153043Z
UID:12322-1726491600-1726491600@www.archgm.ca
SUMMARY:CEFFA (Conseil de l'éducation de la foi catholique chez les francophones de l'Alberta) Meeting - Online
DESCRIPTION:
URL:https://www.archgm.ca/event/ceffa-conseil-de-leducation-de-la-foi-catholique-chez-les-francophones-de-lalberta-meeting-online/
LOCATION:Online\, Grande Prairie\, AB
CATEGORIES:Archbishop’s Calendar,Events Calendar
END:VEVENT
BEGIN:VEVENT
DTSTART;TZID=America/Edmonton:20240916T170000
DTEND;TZID=America/Edmonton:20240916T170000
DTSTAMP:20260425T051944
CREATED:20240905T154809Z
LAST-MODIFIED:20240905T154809Z
UID:12348-1726506000-1726506000@www.archgm.ca
SUMMARY:CWL Meeting - Our Lady of Good Counsel\, High Level
DESCRIPTION:
URL:https://www.archgm.ca/event/cwl-meeting-our-lady-of-good-counsel-high-level-4/
LOCATION:Our Lady of Good Counsel\, High Level\, Grande Prairie\, AB
CATEGORIES:Events Calendar
END:VEVENT
BEGIN:VEVENT
DTSTART;TZID=America/Edmonton:20240918T150000
DTEND;TZID=America/Edmonton:20240918T170000
DTSTAMP:20260425T051944
CREATED:20240905T155200Z
LAST-MODIFIED:20240905T155200Z
UID:12354-1726671600-1726678800@www.archgm.ca
SUMMARY:Children for Christ Club - Our Lady of Good Counsel\, High Level
DESCRIPTION:
URL:https://www.archgm.ca/event/children-for-christ-club-our-lady-of-good-counsel-high-level-7/
LOCATION:Our Lady of Good Counsel\, High Level\, Grande Prairie\, AB
CATEGORIES:Events Calendar
END:VEVENT
BEGIN:VEVENT
DTSTART;TZID=America/Edmonton:20240919T080000
DTEND;TZID=America/Edmonton:20240919T170000
DTSTAMP:20260425T051944
CREATED:20240905T153141Z
LAST-MODIFIED:20240905T153141Z
UID:12324-1726732800-1726765200@www.archgm.ca
SUMMARY:Curia Meeting - Chancery\, Grande Prairie
DESCRIPTION:
URL:https://www.archgm.ca/event/curia-meeting-chancery-grande-prairie/
LOCATION:Chancery Office\, Grande Prairie\, Grande Prairie\, AB
CATEGORIES:Archbishop’s Calendar,Events Calendar
END:VEVENT
BEGIN:VEVENT
DTSTART;TZID=America/Edmonton:20240920T190000
DTEND;TZID=America/Edmonton:20240920T190000
DTSTAMP:20260425T051944
CREATED:20240909T141220Z
LAST-MODIFIED:20240909T165817Z
UID:12422-1726858800-1726858800@www.archgm.ca
SUMMARY:Women\, Wine & the Word - St. Joseph Church\, Grande Prairie
DESCRIPTION:Friday\, Sept. 20th\n7:00pm-9:30pm\nTranquille Hall\nSt. Joseph Church \nFull details on the poster \nTickets are $30\, learn more at saintjoseph.ca
URL:https://www.archgm.ca/event/women-wine-the-word-st-joseph-church-grande-prairie/
LOCATION:St. Joseph’s Church\, Grande Prairie\, Grande Prairie\, AB
CATEGORIES:Events Calendar
END:VEVENT
BEGIN:VEVENT
DTSTART;TZID=America/Edmonton:20240921T140000
DTEND;TZID=America/Edmonton:20240921T160000
DTSTAMP:20260425T051944
CREATED:20240905T213035Z
LAST-MODIFIED:20240905T213035Z
UID:12399-1726927200-1726934400@www.archgm.ca
SUMMARY:KofC Meeting - St. Mary's Church\, Beaverlodge
DESCRIPTION:Knights of Columbus Meeting\nSeptember 21\, 2024\n2pm\nSt. Mary’s Church meeting room
URL:https://www.archgm.ca/event/kofc-meeting-st-marys-church-beaverlodge/
LOCATION:St. Mary’s Church\, Beaverlodge\, Grande Prairie\, AB
CATEGORIES:Events Calendar
END:VEVENT
BEGIN:VEVENT
DTSTART;TZID=America/Edmonton:20240921T170000
DTEND;TZID=America/Edmonton:20240921T213000
DTSTAMP:20260425T051944
CREATED:20240905T160401Z
LAST-MODIFIED:20240905T160425Z
UID:12377-1726938000-1726954200@www.archgm.ca
SUMMARY:Youth Choir & High School Youth Group - St. Joseph's\, Grande Prairie
DESCRIPTION:
URL:https://www.archgm.ca/event/youth-choir-high-school-youth-group-st-josephs-grande-prairie-2/
LOCATION:St. Joseph’s Church\, Grande Prairie\, Grande Prairie\, AB
CATEGORIES:Events Calendar
END:VEVENT
BEGIN:VEVENT
DTSTART;VALUE=DATE:20240922
DTEND;VALUE=DATE:20240928
DTSTAMP:20260425T051944
CREATED:20240905T153305Z
LAST-MODIFIED:20240905T153305Z
UID:12326-1726963200-1727481599@www.archgm.ca
SUMMARY:Canadian Conference of Catholic Bishops Plenary Meeting - Beaupre\, Quebec
DESCRIPTION:
URL:https://www.archgm.ca/event/canadian-conference-of-catholic-bishops-plenary-meeting-beaupre-quebec/
LOCATION:AB
CATEGORIES:Archbishop’s Calendar,Events Calendar
END:VEVENT
BEGIN:VEVENT
DTSTART;TZID=America/Edmonton:20240924T140000
DTEND;TZID=America/Edmonton:20240924T140000
DTSTAMP:20260425T051944
CREATED:20240925T152225Z
LAST-MODIFIED:20240925T152225Z
UID:12468-1727186400-1727186400@www.archgm.ca
SUMMARY:Parish Finance Meeting - St. Mary's Church\, Beaverlodge
DESCRIPTION:September 24: Tuesday\, St. Mary’s PFC meeting at 2pm\, St. Mary’s meeting room.
URL:https://www.archgm.ca/event/parish-finance-meeting-st-marys-church-beaverlodge/
LOCATION:St. Mary’s Church\, Beaverlodge\, Grande Prairie\, AB
CATEGORIES:Events Calendar
END:VEVENT
BEGIN:VEVENT
DTSTART;TZID=America/Edmonton:20240924T190000
DTEND;TZID=America/Edmonton:20240924T190000
DTSTAMP:20260425T051944
CREATED:20240909T140906Z
LAST-MODIFIED:20240909T140906Z
UID:12419-1727204400-1727204400@www.archgm.ca
SUMMARY:CWL Meeting - St. John the Baptist Cathedral\, McLennan
DESCRIPTION:
URL:https://www.archgm.ca/event/cwl-meeting-st-john-the-baptist-cathedral-mclennan/
LOCATION:McLennan Golden Age Centre\, Grande Prairie\, AB
CATEGORIES:Events Calendar
END:VEVENT
BEGIN:VEVENT
DTSTART;TZID=America/Edmonton:20240925T150000
DTEND;TZID=America/Edmonton:20240925T170000
DTSTAMP:20260425T051944
CREATED:20240905T155228Z
LAST-MODIFIED:20240905T155228Z
UID:12356-1727276400-1727283600@www.archgm.ca
SUMMARY:Children for Christ Club - Our Lady of Good Counsel\, High Level
DESCRIPTION:
URL:https://www.archgm.ca/event/children-for-christ-club-our-lady-of-good-counsel-high-level-8/
LOCATION:Our Lady of Good Counsel\, High Level\, Grande Prairie\, AB
CATEGORIES:Events Calendar
END:VEVENT
BEGIN:VEVENT
DTSTART;TZID=America/Edmonton:20240926T183000
DTEND;TZID=America/Edmonton:20240926T193000
DTSTAMP:20260425T051944
CREATED:20240925T153031Z
LAST-MODIFIED:20240925T153031Z
UID:12480-1727375400-1727379000@www.archgm.ca
SUMMARY:Bible Study - St. Peter Celestin\, Slave Lake
DESCRIPTION:
URL:https://www.archgm.ca/event/bible-study-st-peter-celestin-slave-lake/
LOCATION:St. Peter Celestin\, Slave Lake\, Grande Prairie\, AB
CATEGORIES:Events Calendar
END:VEVENT
BEGIN:VEVENT
DTSTART;TZID=America/Edmonton:20241002T153000
DTEND;TZID=America/Edmonton:20241002T170000
DTSTAMP:20260425T051944
CREATED:20240905T155249Z
LAST-MODIFIED:20240905T155249Z
UID:12358-1727883000-1727888400@www.archgm.ca
SUMMARY:Children for Christ Club - Our Lady of Good Counsel\, High Level
DESCRIPTION:
URL:https://www.archgm.ca/event/children-for-christ-club-our-lady-of-good-counsel-high-level-9/
LOCATION:Our Lady of Good Counsel\, High Level\, Grande Prairie\, AB
CATEGORIES:Events Calendar
END:VEVENT
END:VCALENDAR