BEGIN:VCALENDAR
VERSION:2.0
PRODID:-//Catholic Archdiocese of Grouard-McLennan - ECPv6.15.20//NONSGML v1.0//EN
CALSCALE:GREGORIAN
METHOD:PUBLISH
X-WR-CALNAME:Catholic Archdiocese of Grouard-McLennan
X-ORIGINAL-URL:https://www.archgm.ca
X-WR-CALDESC:Events for Catholic Archdiocese of Grouard-McLennan
REFRESH-INTERVAL;VALUE=DURATION:PT1H
X-Robots-Tag:noindex
X-PUBLISHED-TTL:PT1H
BEGIN:VTIMEZONE
TZID:America/Edmonton
BEGIN:DAYLIGHT
TZOFFSETFROM:-0700
TZOFFSETTO:-0600
TZNAME:MDT
DTSTART:20230312T090000
END:DAYLIGHT
BEGIN:STANDARD
TZOFFSETFROM:-0600
TZOFFSETTO:-0700
TZNAME:MST
DTSTART:20231105T080000
END:STANDARD
BEGIN:DAYLIGHT
TZOFFSETFROM:-0700
TZOFFSETTO:-0600
TZNAME:MDT
DTSTART:20240310T090000
END:DAYLIGHT
BEGIN:STANDARD
TZOFFSETFROM:-0600
TZOFFSETTO:-0700
TZNAME:MST
DTSTART:20241103T080000
END:STANDARD
BEGIN:DAYLIGHT
TZOFFSETFROM:-0700
TZOFFSETTO:-0600
TZNAME:MDT
DTSTART:20250309T090000
END:DAYLIGHT
BEGIN:STANDARD
TZOFFSETFROM:-0600
TZOFFSETTO:-0700
TZNAME:MST
DTSTART:20251102T080000
END:STANDARD
END:VTIMEZONE
BEGIN:VEVENT
DTSTART;TZID=America/Edmonton:20240503T190000
DTEND;TZID=America/Edmonton:20240504T160000
DTSTAMP:20260423T174046
CREATED:20240209T214336Z
LAST-MODIFIED:20240402T150147Z
UID:11092-1714762800-1714838400@www.archgm.ca
SUMMARY:Women's Retreat - St. Joseph Church\, Grande Prairie
DESCRIPTION:Save the date: I am Enough Women’s Retreat Friday\, May 3\, 6:30 – 8:30 pm & Saturday\, May 4\, 9 am – 4 pm. Presented by CWL.
URL:https://www.archgm.ca/event/womens-retreat-st-joseph-church-grande-prairie-2/
LOCATION:St. Joseph’s Church\, Grande Prairie\, Grande Prairie\, AB
CATEGORIES:Archbishop’s Calendar,Events Calendar
END:VEVENT
BEGIN:VEVENT
DTSTART;TZID=America/Edmonton:20240504T090000
DTEND;TZID=America/Edmonton:20240504T120000
DTSTAMP:20260423T174046
CREATED:20240429T171334Z
LAST-MODIFIED:20240429T171334Z
UID:11528-1714813200-1714824000@www.archgm.ca
SUMMARY:KofC Roadside Clean-up - St. Mary's Church\, Beaverlodge
DESCRIPTION:
URL:https://www.archgm.ca/event/kofc-roadside-clean-up-st-marys-church-beaverlodge/
LOCATION:St. Mary’s Church\, Beaverlodge\, Grande Prairie\, AB
CATEGORIES:Events Calendar
END:VEVENT
BEGIN:VEVENT
DTSTART;TZID=America/Edmonton:20240504T093000
DTEND;TZID=America/Edmonton:20240504T130000
DTSTAMP:20260423T174046
CREATED:20240429T164631Z
LAST-MODIFIED:20240429T165324Z
UID:11493-1714815000-1714827600@www.archgm.ca
SUMMARY:Pastoral Planning Workshop: Deanery 2 - Our Lady of Peace\, Peace River
DESCRIPTION:OEC workshop for developing a five-year parish plan for staff and leaders. \nThe workshop for Deanery 2 is held at Our Lady of Peace Church in Peace River. Please register here. \n 
URL:https://www.archgm.ca/event/pastoral-planning-workshop-deanery-2-our-lady-of-peace-peace-river/
LOCATION:Our Lady of Peace Church\, Peace River\, Grande Prairie\, AB
CATEGORIES:Events Calendar
END:VEVENT
BEGIN:VEVENT
DTSTART;TZID=America/Edmonton:20240504T100000
DTEND;TZID=America/Edmonton:20240504T100000
DTSTAMP:20260423T174046
CREATED:20240402T143712Z
LAST-MODIFIED:20240402T144223Z
UID:11337-1714816800-1714816800@www.archgm.ca
SUMMARY:Highway Clean-up - Our Lady of Good Counsel\, High Level
DESCRIPTION:Our Parish will be participating in\nthe Annual Highway Cleanup fund\nraiser again this spring. The Cleanup day\nis Saturday May 4. We need 36 adults\nfrom our parish to make the event a\nsuccess. Please keep that morning open\non your calendar and add your name to\nthe signup sheet on the table in the\nchurch foyer.
URL:https://www.archgm.ca/event/highway-clean-up-our-lady-of-good-counsel-high-level/
LOCATION:Our Lady of Good Counsel\, High Level\, Grande Prairie\, AB
CATEGORIES:Events Calendar
END:VEVENT
BEGIN:VEVENT
DTSTART;TZID=America/Edmonton:20240504T100000
DTEND;TZID=America/Edmonton:20240504T100000
DTSTAMP:20260423T174046
CREATED:20240429T170725Z
LAST-MODIFIED:20240429T170725Z
UID:11517-1714816800-1714816800@www.archgm.ca
SUMMARY:CWL Meeting - St. Mary's\, Beaverlodge
DESCRIPTION:
URL:https://www.archgm.ca/event/cwl-meeting-st-marys-beaverlodge-3/
LOCATION:St. Mary’s Church\, Beaverlodge\, Grande Prairie\, AB
CATEGORIES:Events Calendar
END:VEVENT
BEGIN:VEVENT
DTSTART;TZID=America/Edmonton:20240504T100000
DTEND;TZID=America/Edmonton:20240505T160000
DTSTAMP:20260423T174046
CREATED:20240429T170632Z
LAST-MODIFIED:20240429T170632Z
UID:11515-1714816800-1714924800@www.archgm.ca
SUMMARY:Parish Garage Sale - Immaculate Conception\, Sexsmith
DESCRIPTION:
URL:https://www.archgm.ca/event/parish-garage-sale-immaculate-conception-sexsmith/
LOCATION:Immaculate Conception Church\, Sexsmith\, Grande Prairie\, AB
CATEGORIES:Events Calendar
END:VEVENT
BEGIN:VEVENT
DTSTART;TZID=America/Edmonton:20240504T113000
DTEND;TZID=America/Edmonton:20240504T113000
DTSTAMP:20260423T174046
CREATED:20240429T171428Z
LAST-MODIFIED:20240429T171428Z
UID:11530-1714822200-1714822200@www.archgm.ca
SUMMARY:Sacrament of Reconciliation & First Saturday Devotion - St. Edmund's\, Hythe
DESCRIPTION:
URL:https://www.archgm.ca/event/sacrament-of-reconciliation-first-saturday-devotion-st-edmunds-hythe/
LOCATION:St. Edmund’s Church\, Hythe\, Grande Prairie\, AB
CATEGORIES:Events Calendar
END:VEVENT
BEGIN:VEVENT
DTSTART;TZID=America/Edmonton:20240504T150000
DTEND;TZID=America/Edmonton:20240504T150000
DTSTAMP:20260423T174046
CREATED:20240429T173238Z
LAST-MODIFIED:20240429T173238Z
UID:11554-1714834800-1714834800@www.archgm.ca
SUMMARY:Choir Practice - Our Lady of Good Counsel\, High Level
DESCRIPTION:Choir practice is every Saturday at\n3:00 pm. All who are interested in\nsinging\, please join us in practice.\nIt is by practicing that we can raise\nour voices in worship in a prayerful\nmanner.
URL:https://www.archgm.ca/event/choir-practice-our-lady-of-good-counsel-high-level-2/
LOCATION:Our Lady of Good Counsel\, High Level\, Grande Prairie\, AB
CATEGORIES:Events Calendar
END:VEVENT
BEGIN:VEVENT
DTSTART;VALUE=DATE:20240505
DTEND;VALUE=DATE:20240511
DTSTAMP:20260423T174046
CREATED:20240429T172031Z
LAST-MODIFIED:20240501T191757Z
UID:11540-1714867200-1715385599@www.archgm.ca
SUMMARY:Catholic Education Week
DESCRIPTION:Catholic Education Week celebrates the vital role of publicly funded Catholic schools throughout Alberta and beyond. The event this year is set for May 5 to May 10\, 2024. May 9\, 2024\, is designated as World Catholic Education Day. \nAs society becomes increasingly secular and religious values less prevalent\, Catholic parents are in search of genuine\, publicly funded Catholic education for their children. Catholic Education Week stands as a testament to\nthe lasting strength that faith imparts within an everchanging cultural milieu. This significant time in the Catholic calendar is for recognizing the importance of Catholic education\, reinforcing community bonds\, and seeking spiritual guidance and blessings for what lies ahead. \nIt is also a time for prayer\, reflection\, and unity within the Catholic community\, including parents\, students\, educators\, school leaders\, trustees\, and clergy\, to jointly honor the role of Catholic schools in fostering the faith and education of the youth. Moreover\, it offers a chance for the Catholic community to unite and reaffirm the value of publicly funded Catholic education in Alberta and elsewhere\, acknowledging its influence on the lives of students and the broader society. \n  \nRead the letter from the Alberta/NWT Catholic Bishops on this year’s Catholic Education Week in English and French.
URL:https://www.archgm.ca/event/catholic-education-week-2/
LOCATION:AB
CATEGORIES:Archbishop’s Calendar,Events Calendar
END:VEVENT
BEGIN:VEVENT
DTSTART;TZID=America/Edmonton:20240505T090000
DTEND;TZID=America/Edmonton:20240505T090000
DTSTAMP:20260423T174046
CREATED:20240429T172815Z
LAST-MODIFIED:20240429T172815Z
UID:11546-1714899600-1714899600@www.archgm.ca
SUMMARY:Symbolon - Our Lady of Peace\, Peace River
DESCRIPTION:
URL:https://www.archgm.ca/event/symbolon-our-lady-of-peace-peace-river/
LOCATION:Our Lady of Peace Church\, Peace River\, Grande Prairie\, AB
CATEGORIES:Events Calendar
END:VEVENT
BEGIN:VEVENT
DTSTART;TZID=America/Edmonton:20240505T110000
DTEND;TZID=America/Edmonton:20240505T110000
DTSTAMP:20260423T174046
CREATED:20240429T171930Z
LAST-MODIFIED:20240429T171930Z
UID:11538-1714906800-1714906800@www.archgm.ca
SUMMARY:First Holy Communion - St. Mary's Church\, Beaverlodge
DESCRIPTION:This will be held on Sunday May 5\, at\n11:00AM – St. Mary’s Church\, Beaverlodge.\nI encourage you all to pray for all the kids who\nwill be making their First Sacrament of\nReconciliation (May 3\, 2024\, at 7:00PM) and First\nHoly Communion.\nSr. Conni Harken will be our guest speaker for\nthe day. This was discussed in our last PPC\nmeeting. She will be talking about over all\nparticipation and engagement within our\ncommunity\, if any one of you have any other\nsuggestion you are welcome to let me know by\nApril 26. More details to follow.\nThanks\nGod bless\nFr. Michael Dias
URL:https://www.archgm.ca/event/first-holy-communion-st-marys-church-beaverlodge/
LOCATION:St. Mary’s Church\, Beaverlodge\, Grande Prairie\, AB
CATEGORIES:Events Calendar
END:VEVENT
BEGIN:VEVENT
DTSTART;TZID=America/Edmonton:20240505T110000
DTEND;TZID=America/Edmonton:20240505T230000
DTSTAMP:20260423T174046
CREATED:20240429T175937Z
LAST-MODIFIED:20240429T175937Z
UID:11602-1714906800-1714950000@www.archgm.ca
SUMMARY:Mass & Potluck - St. Peter Celestin Church\, Slave Lake
DESCRIPTION:
URL:https://www.archgm.ca/event/mass-potluck-st-peter-celestin-church-slave-lake/
LOCATION:St. Peter Celestin\, Slave Lake\, Grande Prairie\, AB
CATEGORIES:Events Calendar
END:VEVENT
BEGIN:VEVENT
DTSTART;TZID=America/Edmonton:20240505T123000
DTEND;TZID=America/Edmonton:20240505T130000
DTSTAMP:20260423T174046
CREATED:20240502T194825Z
LAST-MODIFIED:20240502T194825Z
UID:11645-1714912200-1714914000@www.archgm.ca
SUMMARY:Talk by Sr Connie Harkin - St. Mary's Church\, Beaverlodge
DESCRIPTION:
URL:https://www.archgm.ca/event/talk-by-sr-connie-harkin-st-marys-church-beaverlodge/
LOCATION:St. Mary’s Church\, Beaverlodge\, Grande Prairie\, AB
CATEGORIES:Events Calendar
END:VEVENT
BEGIN:VEVENT
DTSTART;TZID=America/Edmonton:20240505T150000
DTEND;TZID=America/Edmonton:20240505T160000
DTSTAMP:20260423T174046
CREATED:20240429T175335Z
LAST-MODIFIED:20240429T175335Z
UID:11594-1714921200-1714924800@www.archgm.ca
SUMMARY:Christian Meditation Course - St. Joseph Church\, Grande Prairie
DESCRIPTION:Christian Meditation Course – St. Joseph Church\, Grande Prairie \nChristian Meditation course to introduce interested newcomers to this form of prayer. Sundays until May 26\, from 3 – 4 pm in the chapel and will run for 6 weeks. Meditation is central to the Christian experience and is deeply rooted in Christian tradition. It is a prayer of silence and listening\, also known as contemplative prayer. Email Mia\, miklge@telus.net for more information. No charge.
URL:https://www.archgm.ca/event/christian-meditation-course-st-joseph-church-grande-prairie/
LOCATION:St. Joseph’s Church\, Grande Prairie\, Grande Prairie\, AB
CATEGORIES:Events Calendar
END:VEVENT
BEGIN:VEVENT
DTSTART;TZID=America/Edmonton:20240506T190000
DTEND;TZID=America/Edmonton:20240506T190000
DTSTAMP:20260423T174046
CREATED:20240209T214148Z
LAST-MODIFIED:20240209T214148Z
UID:11088-1715022000-1715022000@www.archgm.ca
SUMMARY:Closing Ceremony of Canonical Visitation - St. Paul's Church\, High Prairie
DESCRIPTION:
URL:https://www.archgm.ca/event/closing-ceremony-of-canonical-visitation-st-pauls-church-high-prairie/
LOCATION:St. Paul’s Church\, High Prairie\, Grande Prairie\, AB
CATEGORIES:Archbishop’s Calendar,Events Calendar
END:VEVENT
BEGIN:VEVENT
DTSTART;TZID=America/Edmonton:20240507T100000
DTEND;TZID=America/Edmonton:20240507T100000
DTSTAMP:20260423T174046
CREATED:20240429T173057Z
LAST-MODIFIED:20240429T173057Z
UID:11552-1715076000-1715076000@www.archgm.ca
SUMMARY:Anointing and Healing Liturgy - Our Lady of Good Counsel\, High Level
DESCRIPTION:
URL:https://www.archgm.ca/event/anointing-and-healing-liturgy-our-lady-of-good-counsel-high-level-2/
LOCATION:Our Lady of Good Counsel\, High Level\, Grande Prairie\, AB
CATEGORIES:Events Calendar
END:VEVENT
BEGIN:VEVENT
DTSTART;TZID=America/Edmonton:20240508T170000
DTEND;TZID=America/Edmonton:20240508T170000
DTSTAMP:20260423T174046
CREATED:20240429T180035Z
LAST-MODIFIED:20240429T180035Z
UID:11604-1715187600-1715187600@www.archgm.ca
SUMMARY:Parish Council Meeting - St. Peter Celestin Church\, Slave Lake
DESCRIPTION:
URL:https://www.archgm.ca/event/parish-council-meeting-st-peter-celestin-church-slave-lake/
LOCATION:St. Peter Celestin\, Slave Lake\, Grande Prairie\, AB
CATEGORIES:Events Calendar
END:VEVENT
BEGIN:VEVENT
DTSTART;TZID=America/Edmonton:20240508T180000
DTEND;TZID=America/Edmonton:20240508T180000
DTSTAMP:20260423T174046
CREATED:20240507T142047Z
LAST-MODIFIED:20240507T142047Z
UID:11661-1715191200-1715191200@www.archgm.ca
SUMMARY:Parish Council Meeting - St. Peter Celestin\, Slave Lake
DESCRIPTION:
URL:https://www.archgm.ca/event/parish-council-meeting-st-peter-celestin-slave-lake/
LOCATION:St. Peter Celestin\, Slave Lake\, Grande Prairie\, AB
CATEGORIES:Events Calendar
END:VEVENT
BEGIN:VEVENT
DTSTART;TZID=America/Edmonton:20240508T183000
DTEND;TZID=America/Edmonton:20240508T183000
DTSTAMP:20260423T174046
CREATED:20240429T173603Z
LAST-MODIFIED:20240429T173603Z
UID:11564-1715193000-1715193000@www.archgm.ca
SUMMARY:Prayers to Our Lady of Perpetual Help - Our Lady of Good Counsel\, High Level
DESCRIPTION:Prayers to Our Lady of Perpetual Help – Our Lady of Good Counsel\, High Level\nBefore Mass every Wednesday at 6:40 pm
URL:https://www.archgm.ca/event/prayers-to-our-lady-of-perpetual-help-our-lady-of-good-counsel-high-level/
LOCATION:Our Lady of Good Counsel\, High Level\, Grande Prairie\, AB
CATEGORIES:Events Calendar
END:VEVENT
BEGIN:VEVENT
DTSTART;TZID=America/Edmonton:20240508T193000
DTEND;TZID=America/Edmonton:20240508T193000
DTSTAMP:20260423T174046
CREATED:20240429T170340Z
LAST-MODIFIED:20240429T170340Z
UID:11511-1715196600-1715196600@www.archgm.ca
SUMMARY:Confirmations - St. Anne\, Falher
DESCRIPTION:La célébration du sacrement de la CONFIRMATION aura lieu le mercredi 8 mai\, 19h30\,\nà l’église de Falher. Tous sont les bienvenus.\nEn ce jour où tu renouvelles et confirmes ton appartenance à la grande famille de Dieu\,\nque le Seigneur te remplisse de ses grâces\, de ses bontés et de son amour aujourd’hui\net tous les jours de ta vie.\nFélicitations à Zacharie Fournier\, Ali Veraart\, Melody Maisonneuve\, Zac Therriault\,\nXavier Anctil\, Tucker Turcotte\, Joseph Turcotte\, Cedric Turcotte\, Maëlle Salaün\,\nZoe Dubrûle\, Xavier Maisonneuve\, Dominic Blahun\, Mathieu Lavoie\, Anna Lavoie.
URL:https://www.archgm.ca/event/confirmations-st-anne-falher/
LOCATION:St. Anne Church\, Falher\, Grande Prairie\, AB
CATEGORIES:Events Calendar
END:VEVENT
BEGIN:VEVENT
DTSTART;VALUE=DATE:20240509
DTEND;VALUE=DATE:20240510
DTSTAMP:20260423T174046
CREATED:20240429T172100Z
LAST-MODIFIED:20240501T191827Z
UID:11542-1715212800-1715299199@www.archgm.ca
SUMMARY:World Catholic Education Day
DESCRIPTION:Catholic Education Week celebrates the vital role of publicly funded Catholic schools throughout Alberta and beyond. The event this year is set for May 5 to May 10\, 2024. May 9\, 2024\, is designated as World Catholic Education Day. \nAs society becomes increasingly secular and religious values less prevalent\, Catholic parents are in search of genuine\, publicly funded Catholic education for their children. Catholic Education Week stands as a testament to\nthe lasting strength that faith imparts within an everchanging cultural milieu. This significant time in the Catholic calendar is for recognizing the importance of Catholic education\, reinforcing community bonds\, and seeking spiritual guidance and blessings for what lies ahead. \nIt is also a time for prayer\, reflection\, and unity within the Catholic community\, including parents\, students\, educators\, school leaders\, trustees\, and clergy\, to jointly honor the role of Catholic schools in fostering the faith and education of the youth. Moreover\, it offers a chance for the Catholic community to unite and reaffirm the value of publicly funded Catholic education in Alberta and elsewhere\, acknowledging its influence on the lives of students and the broader society. \n  \nRead the letter from the Alberta/NWT Catholic Bishops on this year’s Catholic Education Week in English and French.
URL:https://www.archgm.ca/event/world-catholic-education-day/
LOCATION:AB
CATEGORIES:Archbishop’s Calendar,Events Calendar
END:VEVENT
BEGIN:VEVENT
DTSTART;TZID=America/Edmonton:20240509T080000
DTEND;TZID=America/Edmonton:20240509T170000
DTSTAMP:20260423T174046
CREATED:20240209T214224Z
LAST-MODIFIED:20240209T214224Z
UID:11090-1715241600-1715274000@www.archgm.ca
SUMMARY:Alberta March for Life - Edmonton
DESCRIPTION:
URL:https://www.archgm.ca/event/alberta-march-for-life-edmonton-3/
LOCATION:AB
CATEGORIES:Archbishop’s Calendar,Events Calendar
END:VEVENT
BEGIN:VEVENT
DTSTART;TZID=America/Edmonton:20240509T133000
DTEND;TZID=America/Edmonton:20240509T133000
DTSTAMP:20260423T174046
CREATED:20240507T142217Z
LAST-MODIFIED:20240507T142217Z
UID:11665-1715261400-1715261400@www.archgm.ca
SUMMARY:Living Rosary - St. Mary's School\, Slave Lake
DESCRIPTION:
URL:https://www.archgm.ca/event/living-rosary-st-marys-school-slave-lake/
LOCATION:St. Mary’s School\, Slave Lake\, Grande Prairie\, AB
CATEGORIES:Events Calendar
END:VEVENT
BEGIN:VEVENT
DTSTART;TZID=America/Edmonton:20240509T180000
DTEND;TZID=America/Edmonton:20240509T180000
DTSTAMP:20260423T174046
CREATED:20240429T173832Z
LAST-MODIFIED:20240429T173832Z
UID:11574-1715277600-1715277600@www.archgm.ca
SUMMARY:Eucharistic Adoration - Our Lady of Good Counsel\, High Level
DESCRIPTION:
URL:https://www.archgm.ca/event/eucharistic-adoration-our-lady-of-good-counsel-high-level-2/
LOCATION:Our Lady of Good Counsel\, High Level\, Grande Prairie\, AB
CATEGORIES:Events Calendar
END:VEVENT
BEGIN:VEVENT
DTSTART;TZID=America/Edmonton:20240509T180000
DTEND;TZID=America/Edmonton:20240509T200000
DTSTAMP:20260423T174046
CREATED:20240429T174453Z
LAST-MODIFIED:20240429T174453Z
UID:11584-1715277600-1715284800@www.archgm.ca
SUMMARY:Games Night - St. Joseph Church\, Grande Prairie
DESCRIPTION:
URL:https://www.archgm.ca/event/games-night-st-joseph-church-grande-prairie-3/
LOCATION:St. Joseph’s Church\, Grande Prairie\, Grande Prairie\, AB
CATEGORIES:Events Calendar
END:VEVENT
BEGIN:VEVENT
DTSTART;TZID=America/Edmonton:20240509T190000
DTEND;TZID=America/Edmonton:20240509T190000
DTSTAMP:20260423T174046
CREATED:20240507T142126Z
LAST-MODIFIED:20240507T142126Z
UID:11663-1715281200-1715281200@www.archgm.ca
SUMMARY:Parish Finance Committee Meeting - St. Peter Celestin\, Slave Lake
DESCRIPTION:
URL:https://www.archgm.ca/event/parish-finance-committee-meeting-st-peter-celestin-slave-lake/
LOCATION:St. Peter Celestin\, Slave Lake\, Grande Prairie\, AB
CATEGORIES:Events Calendar
END:VEVENT
BEGIN:VEVENT
DTSTART;TZID=America/Edmonton:20240511T090000
DTEND;TZID=America/Edmonton:20240511T120000
DTSTAMP:20260423T174046
CREATED:20240429T171552Z
LAST-MODIFIED:20240429T171552Z
UID:11532-1715418000-1715428800@www.archgm.ca
SUMMARY:Roadside Clean-up Fundraiser - St. Mary's Church\, Beaverlodge
DESCRIPTION:Roadside Clean-up Fundraisers\nWe are pleased to announce that St. Mary’s Church\,\nCWL and the K of C have all been selected for the\n2024 roadside cleanup program!\nWhen: K of C on Saturday\, May 4\nSt. Mary’s Church on Saturday\, May 11\nCWL date Saturday\, May 25\nAll groups will meet at 9am at St. Mary’s Church for\nmaps\, instructions\, and necessary items.\n*Please find the sign-up sheets located in the foyer of\nthe Church.
URL:https://www.archgm.ca/event/roadside-clean-up-fundraiser-st-marys-church-beaverlodge-2/
LOCATION:St. Mary’s Church\, Beaverlodge\, Grande Prairie\, AB
CATEGORIES:Events Calendar
END:VEVENT
BEGIN:VEVENT
DTSTART;TZID=America/Edmonton:20240511T100000
DTEND;TZID=America/Edmonton:20240511T150000
DTSTAMP:20260423T174046
CREATED:20240507T143719Z
LAST-MODIFIED:20240507T143719Z
UID:11676-1715421600-1715439600@www.archgm.ca
SUMMARY:APC Meeting - Catholic Conference Centre
DESCRIPTION:Archdiocesan Pastoral Council will meet at the Catholic Conference Centre in Peace River. This features representatives from various ministries\, committees and parishes in the archdiocese who advise the archbishop.
URL:https://www.archgm.ca/event/apc-meeting-catholic-conference-centre/
LOCATION:Catholic Conference Centre\, Peace River\, Grande Prairie\, AB
CATEGORIES:Events Calendar
END:VEVENT
BEGIN:VEVENT
DTSTART;TZID=America/Edmonton:20240511T150000
DTEND;TZID=America/Edmonton:20240511T170000
DTSTAMP:20260423T174046
CREATED:20240429T173345Z
LAST-MODIFIED:20240429T173345Z
UID:11556-1715439600-1715446800@www.archgm.ca
SUMMARY:Choir Practice – Our Lady of Good Counsel\, High Level
DESCRIPTION:
URL:https://www.archgm.ca/event/choir-practice-our-lady-of-good-counsel-high-level-3/
LOCATION:Our Lady of Good Counsel\, High Level\, Grande Prairie\, AB
CATEGORIES:Events Calendar
END:VEVENT
BEGIN:VEVENT
DTSTART;TZID=America/Edmonton:20240512T090000
DTEND;TZID=America/Edmonton:20240512T090000
DTSTAMP:20260423T174046
CREATED:20240429T172839Z
LAST-MODIFIED:20240429T172839Z
UID:11548-1715504400-1715504400@www.archgm.ca
SUMMARY:Symbolon - Our Lady of Peace\, Peace River
DESCRIPTION:
URL:https://www.archgm.ca/event/symbolon-our-lady-of-peace-peace-river-2/
LOCATION:Our Lady of Peace Church\, Peace River\, Grande Prairie\, AB
CATEGORIES:Events Calendar
END:VEVENT
END:VCALENDAR