BEGIN:VCALENDAR
VERSION:2.0
PRODID:-//Catholic Archdiocese of Grouard-McLennan - ECPv6.15.20//NONSGML v1.0//EN
CALSCALE:GREGORIAN
METHOD:PUBLISH
X-ORIGINAL-URL:https://www.archgm.ca
X-WR-CALDESC:Events for Catholic Archdiocese of Grouard-McLennan
REFRESH-INTERVAL;VALUE=DURATION:PT1H
X-Robots-Tag:noindex
X-PUBLISHED-TTL:PT1H
BEGIN:VTIMEZONE
TZID:America/Edmonton
BEGIN:DAYLIGHT
TZOFFSETFROM:-0700
TZOFFSETTO:-0600
TZNAME:MDT
DTSTART:20230312T090000
END:DAYLIGHT
BEGIN:STANDARD
TZOFFSETFROM:-0600
TZOFFSETTO:-0700
TZNAME:MST
DTSTART:20231105T080000
END:STANDARD
BEGIN:DAYLIGHT
TZOFFSETFROM:-0700
TZOFFSETTO:-0600
TZNAME:MDT
DTSTART:20240310T090000
END:DAYLIGHT
BEGIN:STANDARD
TZOFFSETFROM:-0600
TZOFFSETTO:-0700
TZNAME:MST
DTSTART:20241103T080000
END:STANDARD
BEGIN:DAYLIGHT
TZOFFSETFROM:-0700
TZOFFSETTO:-0600
TZNAME:MDT
DTSTART:20250309T090000
END:DAYLIGHT
BEGIN:STANDARD
TZOFFSETFROM:-0600
TZOFFSETTO:-0700
TZNAME:MST
DTSTART:20251102T080000
END:STANDARD
END:VTIMEZONE
BEGIN:VEVENT
DTSTART;TZID=America/Edmonton:20240525T090000
DTEND;TZID=America/Edmonton:20240525T120000
DTSTAMP:20260425T060813
CREATED:20240429T171652Z
LAST-MODIFIED:20240429T171652Z
UID:11534-1716627600-1716638400@www.archgm.ca
SUMMARY:Roadside Clean-up Fundraiser (CWL) - St. Mary's Church\, Beaverlodge
DESCRIPTION:Roadside Clean-up Fundraisers\nWe are pleased to announce that St. Mary’s Church\,\nCWL and the K of C have all been selected for the\n2024 roadside cleanup program!\nWhen: K of C on Saturday\, May 4\nSt. Mary’s Church on Saturday\, May 11\nCWL date Saturday\, May 25\nAll groups will meet at 9am at St. Mary’s Church for\nmaps\, instructions\, and necessary items.\n*Please find the sign-up sheets located in the foyer of\nthe Church.
URL:https://www.archgm.ca/event/roadside-clean-up-fundraiser-cwl-st-marys-church-beaverlodge/
LOCATION:St. Mary’s Church\, Beaverlodge\, Grande Prairie\, AB
CATEGORIES:Events Calendar
END:VEVENT
BEGIN:VEVENT
DTSTART;TZID=America/Edmonton:20240525T093000
DTEND;TZID=America/Edmonton:20240525T130000
DTSTAMP:20260425T060813
CREATED:20240429T164743Z
LAST-MODIFIED:20240429T164743Z
UID:11495-1716629400-1716642000@www.archgm.ca
SUMMARY:Pastoral Planning Workshop: Deanery 1 - St. John the Baptist\, McLennan
DESCRIPTION:OEC workshop for developing a five-year parish plan for staff and leaders. \nThe workshop for Deanery 1 is held at St. John the Baptist Cathedral in McLennan. Please register here. \n 
URL:https://www.archgm.ca/event/pastoral-planning-workshop-deanery-1-st-john-the-baptist-mclennan/
LOCATION:St. John the Baptist Cathedral\, McLennan\, Grande Prairie\, AB
CATEGORIES:Events Calendar
END:VEVENT
BEGIN:VEVENT
DTSTART;TZID=America/Edmonton:20240525T150000
DTEND;TZID=America/Edmonton:20240525T170000
DTSTAMP:20260425T060813
CREATED:20240429T173455Z
LAST-MODIFIED:20240429T173455Z
UID:11562-1716649200-1716656400@www.archgm.ca
SUMMARY:Choir Practice – Our Lady of Good Counsel\, High Level
DESCRIPTION:
URL:https://www.archgm.ca/event/choir-practice-our-lady-of-good-counsel-high-level-6/
LOCATION:Our Lady of Good Counsel\, High Level\, Grande Prairie\, AB
CATEGORIES:Events Calendar
END:VEVENT
BEGIN:VEVENT
DTSTART;TZID=America/Edmonton:20240526T110000
DTEND;TZID=America/Edmonton:20240526T110000
DTSTAMP:20260425T060813
CREATED:20240429T172717Z
LAST-MODIFIED:20240429T172717Z
UID:11544-1716721200-1716721200@www.archgm.ca
SUMMARY:First Eucharist Celebration - Our Lady of Peace\, Peace River
DESCRIPTION:
URL:https://www.archgm.ca/event/first-eucharist-celebration-our-lady-of-peace-peace-river/
LOCATION:Our Lady of Peace Church\, Peace River\, Grande Prairie\, AB
CATEGORIES:Events Calendar
END:VEVENT
BEGIN:VEVENT
DTSTART;TZID=America/Edmonton:20240526T150000
DTEND;TZID=America/Edmonton:20240526T160000
DTSTAMP:20260425T060813
CREATED:20240429T175511Z
LAST-MODIFIED:20240429T175511Z
UID:11600-1716735600-1716739200@www.archgm.ca
SUMMARY:Christian Meditation Course - St. Joseph Church\, Grande Prairie
DESCRIPTION:Christian Meditation Course – St. Joseph Church\, Grande Prairie \nChristian Meditation course to introduce interested newcomers to this form of prayer. Sundays until May 26\, from 3 – 4 pm in the chapel and will run for 6 weeks. Meditation is central to the Christian experience and is deeply rooted in Christian tradition. It is a prayer of silence and listening\, also known as contemplative prayer. Email Mia\, miklge@telus.net for more information. No charge.
URL:https://www.archgm.ca/event/christian-meditation-course-st-joseph-church-grande-prairie-4/
LOCATION:St. Joseph’s Church\, Grande Prairie\, Grande Prairie\, AB
CATEGORIES:Events Calendar
END:VEVENT
BEGIN:VEVENT
DTSTART;TZID=America/Edmonton:20240526T183000
DTEND;TZID=America/Edmonton:20240526T183000
DTSTAMP:20260425T060813
CREATED:20240507T142434Z
LAST-MODIFIED:20240507T142434Z
UID:11672-1716748200-1716748200@www.archgm.ca
SUMMARY:Weekly Bible Study (Begins) - St. Peter Celestin\, Slave Lake
DESCRIPTION:
URL:https://www.archgm.ca/event/weekly-bible-study-begins-st-peter-celestin-slave-lake/
LOCATION:St. Peter Celestin\, Slave Lake\, Grande Prairie\, AB
CATEGORIES:Events Calendar
END:VEVENT
BEGIN:VEVENT
DTSTART;TZID=America/Edmonton:20240527T190000
DTEND;TZID=America/Edmonton:20240527T190000
DTSTAMP:20260425T060813
CREATED:20240529T151948Z
LAST-MODIFIED:20240529T151948Z
UID:11777-1716836400-1716836400@www.archgm.ca
SUMMARY:Parish Ad Hoc Committee Meeting - St. Mary's Church\, Beaverlodge
DESCRIPTION:Parish Ad Hoc Committee Meeting\nMonday\, May 27th at 7:00PM\nSt. Mary’s Church meeting room
URL:https://www.archgm.ca/event/parish-ad-hoc-committee-meeting-st-marys-church-beaverlodge/
LOCATION:St. Mary’s Church\, Beaverlodge\, Grande Prairie\, AB
CATEGORIES:Events Calendar
END:VEVENT
BEGIN:VEVENT
DTSTART;TZID=America/Edmonton:20240529T150000
DTEND;TZID=America/Edmonton:20240529T170000
DTSTAMP:20260425T060813
CREATED:20240529T150724Z
LAST-MODIFIED:20240529T150724Z
UID:11761-1716994800-1717002000@www.archgm.ca
SUMMARY:Children for Christ Club - Our Lady of Good Counsel\, High Level
DESCRIPTION:
URL:https://www.archgm.ca/event/children-for-christ-club-our-lady-of-good-counsel-high-level/
LOCATION:Our Lady of Good Counsel\, High Level\, Grande Prairie\, AB
CATEGORIES:Events Calendar
END:VEVENT
BEGIN:VEVENT
DTSTART;TZID=America/Edmonton:20240529T183000
DTEND;TZID=America/Edmonton:20240529T183000
DTSTAMP:20260425T060813
CREATED:20240429T173727Z
LAST-MODIFIED:20240429T173727Z
UID:11570-1717007400-1717007400@www.archgm.ca
SUMMARY:Prayers to Our Lady of Perpetual Help - Our Lady of Good Counsel\, High Level
DESCRIPTION:Prayers to Our Lady of Perpetual Help – Our Lady of Good Counsel\, High Level\nBefore Mass every Wednesday at 6:40 pm
URL:https://www.archgm.ca/event/prayers-to-our-lady-of-perpetual-help-our-lady-of-good-counsel-high-level-4/
LOCATION:Our Lady of Good Counsel\, High Level\, Grande Prairie\, AB
CATEGORIES:Events Calendar
END:VEVENT
BEGIN:VEVENT
DTSTART;TZID=America/Edmonton:20240530T090000
DTEND;TZID=America/Edmonton:20240530T090000
DTSTAMP:20260425T060813
CREATED:20240529T151832Z
LAST-MODIFIED:20240529T151832Z
UID:11775-1717059600-1717059600@www.archgm.ca
SUMMARY:St. Mary's School Mass - St. Mary's Church\, Beaverlodge
DESCRIPTION:Thursday\, May 30th\n9:00 am\nAll are welcome!
URL:https://www.archgm.ca/event/st-marys-school-mass-st-marys-church-beaverlodge/
LOCATION:St. Mary’s Church\, Beaverlodge\, Grande Prairie\, AB
CATEGORIES:Events Calendar
END:VEVENT
BEGIN:VEVENT
DTSTART;TZID=America/Edmonton:20240530T100000
DTEND;TZID=America/Edmonton:20240530T120000
DTSTAMP:20260425T060813
CREATED:20240429T201518Z
LAST-MODIFIED:20240429T201518Z
UID:11608-1717063200-1717070400@www.archgm.ca
SUMMARY:Church Cleanup and Lunch - St. James the Major\, Manning
DESCRIPTION:St James Church Interior & Window Cleaning Thursday May 30 @ 10 am.\n\n\nOn Thursday May 30th we will be doing a spring cleaning of the inside of our Church. Lunch will be provided. Please consider helping\, it will be greatly appreciated– more hands make less work. It will be a fun\, social work bee!
URL:https://www.archgm.ca/event/church-cleanup-and-lunch-st-james-the-major-manning/
LOCATION:St. James the Major\, Manning\, Grande Prairie\, AB
CATEGORIES:Events Calendar
END:VEVENT
BEGIN:VEVENT
DTSTART;TZID=America/Edmonton:20240530T180000
DTEND;TZID=America/Edmonton:20240530T180000
DTSTAMP:20260425T060813
CREATED:20240429T173941Z
LAST-MODIFIED:20240429T173941Z
UID:11580-1717092000-1717092000@www.archgm.ca
SUMMARY:Eucharistic Adoration - Our Lady of Good Counsel\, High Level
DESCRIPTION:
URL:https://www.archgm.ca/event/eucharistic-adoration-our-lady-of-good-counsel-high-level-5/
LOCATION:Our Lady of Good Counsel\, High Level\, Grande Prairie\, AB
CATEGORIES:Events Calendar
END:VEVENT
BEGIN:VEVENT
DTSTART;TZID=America/Edmonton:20240601T093000
DTEND;TZID=America/Edmonton:20240601T130000
DTSTAMP:20260425T060813
CREATED:20240429T164857Z
LAST-MODIFIED:20240429T164857Z
UID:11497-1717234200-1717246800@www.archgm.ca
SUMMARY:Pastoral Planning Workshop: Deanery 4 - St. Paul's\, High Prairie
DESCRIPTION:OEC workshop for developing a five-year parish plan for staff and leaders. \nThe workshop for Deanery 4 is held at St. Paul’s Church in High Prairie. Please register here.
URL:https://www.archgm.ca/event/pastoral-planning-workshop-deanery-4-st-pauls-high-prairie/
LOCATION:St. Paul’s Church\, High Prairie\, Grande Prairie\, AB
CATEGORIES:Events Calendar
END:VEVENT
BEGIN:VEVENT
DTSTART;TZID=America/Edmonton:20240601T173000
DTEND;TZID=America/Edmonton:20240601T220000
DTSTAMP:20260425T060813
CREATED:20240429T174821Z
LAST-MODIFIED:20240429T174821Z
UID:11592-1717263000-1717279200@www.archgm.ca
SUMMARY:Youth Choir & High School Youth Group - St. Joseph Church\, Grande Prairie
DESCRIPTION:
URL:https://www.archgm.ca/event/youth-choir-high-school-youth-group-st-joseph-church-grande-prairie-4/
LOCATION:St. Joseph’s Church\, Grande Prairie\, Grande Prairie\, AB
CATEGORIES:Events Calendar
END:VEVENT
BEGIN:VEVENT
DTSTART;TZID=America/Edmonton:20240602T100000
DTEND;TZID=America/Edmonton:20240602T120000
DTSTAMP:20260425T060813
CREATED:20240429T165801Z
LAST-MODIFIED:20240429T165801Z
UID:11503-1717322400-1717329600@www.archgm.ca
SUMMARY:First Communion Celebration - St. John the Baptist Cathedral\, McLennan
DESCRIPTION:
URL:https://www.archgm.ca/event/first-communion-celebration-st-john-the-baptist-cathedral-mclennan/
LOCATION:St. John the Baptist Cathedral\, McLennan\, Grande Prairie\, AB
CATEGORIES:Events Calendar
END:VEVENT
BEGIN:VEVENT
DTSTART;TZID=America/Edmonton:20240602T110000
DTEND;TZID=America/Edmonton:20240602T110000
DTSTAMP:20260425T060813
CREATED:20240507T143251Z
LAST-MODIFIED:20240507T143322Z
UID:11674-1717326000-1717326000@www.archgm.ca
SUMMARY:Potluck and Fellowship - St. Peter Celestin\, Slave Lake
DESCRIPTION:
URL:https://www.archgm.ca/event/potluck-and-fellowship-st-peter-celestin-slave-lake/
LOCATION:St. Peter Celestin\, Slave Lake\, Grande Prairie\, AB
CATEGORIES:Events Calendar
END:VEVENT
BEGIN:VEVENT
DTSTART;TZID=America/Edmonton:20240603T173000
DTEND;TZID=America/Edmonton:20240603T173000
DTSTAMP:20260425T060813
CREATED:20240529T145651Z
LAST-MODIFIED:20240529T145651Z
UID:11747-1717435800-1717435800@www.archgm.ca
SUMMARY:CWL Meeting - Our Lady of Good Counsel\, High Level
DESCRIPTION:5:30 pm on June 3rd\nMeeting in the parish
URL:https://www.archgm.ca/event/cwl-meeting-our-lady-of-good-counsel-high-level-3/
LOCATION:Our Lady of Good Counsel\, High Level\, Grande Prairie\, AB
CATEGORIES:Events Calendar
END:VEVENT
BEGIN:VEVENT
DTSTART;TZID=America/Edmonton:20240605T150000
DTEND;TZID=America/Edmonton:20240605T170000
DTSTAMP:20260425T060813
CREATED:20240529T150747Z
LAST-MODIFIED:20240529T150747Z
UID:11763-1717599600-1717606800@www.archgm.ca
SUMMARY:Children for Christ Club - Our Lady of Good Counsel\, High Level
DESCRIPTION:
URL:https://www.archgm.ca/event/children-for-christ-club-our-lady-of-good-counsel-high-level-2/
LOCATION:Our Lady of Good Counsel\, High Level\, Grande Prairie\, AB
CATEGORIES:Events Calendar
END:VEVENT
BEGIN:VEVENT
DTSTART;TZID=America/Edmonton:20240606T170000
DTEND;TZID=America/Edmonton:20240606T170000
DTSTAMP:20260425T060813
CREATED:20240529T151146Z
LAST-MODIFIED:20240529T151146Z
UID:11771-1717693200-1717693200@www.archgm.ca
SUMMARY:Dinner for Seniors - St. Isidore Church\, St. Isidore
DESCRIPTION:Le 6 juin 2024 – Souper pour la semaine des aînés suivis de l’AGA et la collecte de cotisation pour\nl’année 2024-2025. Si vous voulez manger avec nous\, donnez-nous votre nom. Payer votre\ncotisation de 15 $ et 20 $ pour le souper avant le 31 mai 2024. Vous pouvez payer soit en personne\,\nà un membre du comité ou par un e-transfer à leclubdubontemps2021@gmail.com  \n 
URL:https://www.archgm.ca/event/dinner-for-seniors-st-isidore-church-st-isidore/
LOCATION:St. Isidore Church\, St. Isidore\, Grande Prairie\, AB
CATEGORIES:Events Calendar
END:VEVENT
BEGIN:VEVENT
DTSTART;TZID=America/Edmonton:20240606T173000
DTEND;TZID=America/Edmonton:20240606T193000
DTSTAMP:20260425T060813
CREATED:20240529T153619Z
LAST-MODIFIED:20240529T153619Z
UID:11792-1717695000-1717702200@www.archgm.ca
SUMMARY:Games Night - St. Joseph Church\, Grande Prairie
DESCRIPTION:Games Night\, Thursday\, June 6\, 5:30 – 7:30 pm Family Bingo! Coffee\, tea & cookies (note: there is no meal). Donations to support the parish outreach program\, Samaritan’s Basket. All are welcome!
URL:https://www.archgm.ca/event/games-night-st-joseph-church-grande-prairie-4/
LOCATION:St. Joseph’s Church\, Grande Prairie\, Grande Prairie\, AB
CATEGORIES:Events Calendar
END:VEVENT
BEGIN:VEVENT
DTSTART;TZID=America/Edmonton:20240607T090000
DTEND;TZID=America/Edmonton:20240607T130000
DTSTAMP:20260425T060813
CREATED:20240529T152529Z
LAST-MODIFIED:20240529T152529Z
UID:11783-1717750800-1717765200@www.archgm.ca
SUMMARY:First Friday Mass & Adoration - St. Mary's Church\, Beaverlodge
DESCRIPTION:
URL:https://www.archgm.ca/event/first-friday-mass-adoration-st-marys-church-beaverlodge/
LOCATION:St. Mary’s Church\, Beaverlodge\, Grande Prairie\, AB
CATEGORIES:Events Calendar
END:VEVENT
BEGIN:VEVENT
DTSTART;TZID=America/Edmonton:20240608T093000
DTEND;TZID=America/Edmonton:20240608T130000
DTSTAMP:20260425T060813
CREATED:20240429T165052Z
LAST-MODIFIED:20240429T165052Z
UID:11499-1717839000-1717851600@www.archgm.ca
SUMMARY:Hospitality and Accompaniment Workshop: Deanery 3 - St. Joseph\, Grande Prairie
DESCRIPTION:The Office of Evangelization and Catechesis’ first Hospitality and Accompaniment Workshop will be held June 8th\, for our church communities in Deanery 3. \nTime: 9:45 am – 12:45 pm @ St. Joseph Church (Tranquille Hall)\, Grande Prairie \nRegister here.
URL:https://www.archgm.ca/event/hospitality-and-accompaniment-workshop-deanery-3-st-joseph-grande-prairie/
LOCATION:St. Joseph’s Church\, Grande Prairie\, Grande Prairie\, AB
CATEGORIES:Events Calendar
END:VEVENT
BEGIN:VEVENT
DTSTART;TZID=America/Edmonton:20240608T100000
DTEND;TZID=America/Edmonton:20240608T100000
DTSTAMP:20260425T060813
CREATED:20240529T145905Z
LAST-MODIFIED:20240529T145905Z
UID:11749-1717840800-1717840800@www.archgm.ca
SUMMARY:KofC Breakfast - Our Lady of Good Counsel\, High Level
DESCRIPTION:Saturday morning. Please contact the parish for further details
URL:https://www.archgm.ca/event/kofc-breakfast-our-lady-of-good-counsel-high-level/
LOCATION:Our Lady of Good Counsel\, High Level\, Grande Prairie\, AB
CATEGORIES:Events Calendar
END:VEVENT
BEGIN:VEVENT
DTSTART;TZID=America/Edmonton:20240609T110000
DTEND;TZID=America/Edmonton:20240609T130000
DTSTAMP:20260425T060813
CREATED:20240529T145951Z
LAST-MODIFIED:20240529T145951Z
UID:11751-1717930800-1717938000@www.archgm.ca
SUMMARY:KofC Meeting - Our Lady of Good Counsel\, High Level
DESCRIPTION:After Sunday Mass
URL:https://www.archgm.ca/event/kofc-meeting-our-lady-of-good-counsel-high-level/
LOCATION:Our Lady of Good Counsel\, High Level\, Grande Prairie\, AB
CATEGORIES:Events Calendar
END:VEVENT
BEGIN:VEVENT
DTSTART;TZID=America/Edmonton:20240609T160000
DTEND;TZID=America/Edmonton:20240609T170000
DTSTAMP:20260425T060813
CREATED:20240529T153240Z
LAST-MODIFIED:20240529T153240Z
UID:11790-1717948800-1717952400@www.archgm.ca
SUMMARY:Filipino Mass - St. Joseph Church\, Grande Prairie
DESCRIPTION:Filipino Mass\, Sunday\, June 9\, 4 pm After Mass\, join us for fellowship in Tranquille Hall followed by the FAGPA AGM.
URL:https://www.archgm.ca/event/filipino-mass-st-joseph-church-grande-prairie-2/
LOCATION:St. Joseph’s Church\, Grande Prairie\, Grande Prairie\, AB
CATEGORIES:Events Calendar
END:VEVENT
BEGIN:VEVENT
DTSTART;TZID=America/Edmonton:20240610T173000
DTEND;TZID=America/Edmonton:20240610T173000
DTSTAMP:20260425T060813
CREATED:20240529T150141Z
LAST-MODIFIED:20240529T150141Z
UID:11754-1718040600-1718040600@www.archgm.ca
SUMMARY:Parish Council Meeting - Our Lady of Good Counsel\, High Level
DESCRIPTION:
URL:https://www.archgm.ca/event/parish-council-meeting-our-lady-of-good-counsel-high-level/
LOCATION:Our Lady of Good Counsel\, High Level\, Grande Prairie\, AB
CATEGORIES:Events Calendar
END:VEVENT
BEGIN:VEVENT
DTSTART;TZID=America/Edmonton:20240612T150000
DTEND;TZID=America/Edmonton:20240612T170000
DTSTAMP:20260425T060813
CREATED:20240529T150817Z
LAST-MODIFIED:20240529T150817Z
UID:11765-1718204400-1718211600@www.archgm.ca
SUMMARY:Children for Christ Club - Our Lady of Good Counsel\, High Level
DESCRIPTION:
URL:https://www.archgm.ca/event/children-for-christ-club-our-lady-of-good-counsel-high-level-3/
LOCATION:Our Lady of Good Counsel\, High Level\, Grande Prairie\, AB
CATEGORIES:Events Calendar
END:VEVENT
BEGIN:VEVENT
DTSTART;TZID=America/Edmonton:20240615T090000
DTEND;TZID=America/Edmonton:20240615T090000
DTSTAMP:20260425T060813
CREATED:20240529T152154Z
LAST-MODIFIED:20240529T152154Z
UID:11779-1718442000-1718442000@www.archgm.ca
SUMMARY:Roadside Clean-up Fundraiser (CWL) - St. Mary's Church\, Beaverlodge
DESCRIPTION:Roadside Clean-up Fundraisers\nWe are pleased to announce that St. Mary’s Church\,\nCWL and the K of C have all been selected for the\n2024 roadside cleanup program! \nThanks to those who volunteered for K Of C\,\nSt. Mary’s Church Roadside Clean up!\nCWL date Saturday\, June 15\nAll groups will meet at 9am at St. Mary’s Church for\nmaps\, instructions\, and necessary items.\n*Please find the sign-up sheets located in the foyer of\nthe Church. SIGN-UP TODAY!
URL:https://www.archgm.ca/event/roadside-clean-up-fundraiser-cwl-st-marys-church-beaverlodge-2/
LOCATION:St. Mary’s Church\, Beaverlodge\, Grande Prairie\, AB
CATEGORIES:Events Calendar
END:VEVENT
BEGIN:VEVENT
DTSTART;TZID=America/Edmonton:20240616T090000
DTEND;TZID=America/Edmonton:20240616T120000
DTSTAMP:20260425T060813
CREATED:20240529T151449Z
LAST-MODIFIED:20240529T151449Z
UID:11773-1718528400-1718539200@www.archgm.ca
SUMMARY:Annual General Meeting + Potluck - St. Anne\, Falher
DESCRIPTION:Réunion Annuelle de la paroisse le dimanche 16 juin 2024 après la messe. – Début de la\nmesse: 9H00\, suivie d’un repas à la fortune du pot dans le sous-sol. \nJune 16\, 2024 Parish Annual General meeting after mass.\nMass will be at 9 a.m. followed by a pot luck lunch.
URL:https://www.archgm.ca/event/annual-general-meeting-potluck-st-anne-falher/
LOCATION:St. Anne Church\, Falher\, Grande Prairie\, AB
CATEGORIES:Events Calendar
END:VEVENT
BEGIN:VEVENT
DTSTART;TZID=America/Edmonton:20240616T110000
DTEND;TZID=America/Edmonton:20240616T133000
DTSTAMP:20260425T060813
CREATED:20240529T150253Z
LAST-MODIFIED:20240529T150253Z
UID:11756-1718535600-1718544600@www.archgm.ca
SUMMARY:Father's Day Family Picnic - Our Lady of Good Counsel\, High Level
DESCRIPTION:Father’s Day – Family Picnic\nwith Raffle and 50/50 Draw\nAfter Mass
URL:https://www.archgm.ca/event/fathers-day-family-picnic-our-lady-of-good-counsel-high-level/
LOCATION:Our Lady of Good Counsel\, High Level\, Grande Prairie\, AB
CATEGORIES:Events Calendar
END:VEVENT
END:VCALENDAR