BEGIN:VCALENDAR
VERSION:2.0
PRODID:-//Catholic Archdiocese of Grouard-McLennan - ECPv6.15.20//NONSGML v1.0//EN
CALSCALE:GREGORIAN
METHOD:PUBLISH
X-ORIGINAL-URL:https://www.archgm.ca
X-WR-CALDESC:Events for Catholic Archdiocese of Grouard-McLennan
REFRESH-INTERVAL;VALUE=DURATION:PT1H
X-Robots-Tag:noindex
X-PUBLISHED-TTL:PT1H
BEGIN:VTIMEZONE
TZID:America/Edmonton
BEGIN:DAYLIGHT
TZOFFSETFROM:-0700
TZOFFSETTO:-0600
TZNAME:MDT
DTSTART:20230312T090000
END:DAYLIGHT
BEGIN:STANDARD
TZOFFSETFROM:-0600
TZOFFSETTO:-0700
TZNAME:MST
DTSTART:20231105T080000
END:STANDARD
BEGIN:DAYLIGHT
TZOFFSETFROM:-0700
TZOFFSETTO:-0600
TZNAME:MDT
DTSTART:20240310T090000
END:DAYLIGHT
BEGIN:STANDARD
TZOFFSETFROM:-0600
TZOFFSETTO:-0700
TZNAME:MST
DTSTART:20241103T080000
END:STANDARD
BEGIN:DAYLIGHT
TZOFFSETFROM:-0700
TZOFFSETTO:-0600
TZNAME:MDT
DTSTART:20250309T090000
END:DAYLIGHT
BEGIN:STANDARD
TZOFFSETFROM:-0600
TZOFFSETTO:-0700
TZNAME:MST
DTSTART:20251102T080000
END:STANDARD
END:VTIMEZONE
BEGIN:VEVENT
DTSTART;TZID=America/Edmonton:20240319T190000
DTEND;TZID=America/Edmonton:20240319T190000
DTSTAMP:20260423T105726
CREATED:20240226T185136Z
LAST-MODIFIED:20240226T185136Z
UID:11164-1710874800-1710874800@www.archgm.ca
SUMMARY:Patron Saint Mass & St. Joe's Got Talent - St. Joseph Church\, Grande Prairie
DESCRIPTION:Join us for mass and a gathering and St. Joe’s Got Talent to follow in celebration of the feast day of our patron: St. Joseph.
URL:https://www.archgm.ca/event/patron-saint-mass-st-joes-got-talent-st-joseph-church-grande-prairie/
LOCATION:St. Joseph’s Church\, Grande Prairie\, Grande Prairie\, AB
CATEGORIES:Events Calendar
END:VEVENT
BEGIN:VEVENT
DTSTART;TZID=America/Edmonton:20240320T183000
DTEND;TZID=America/Edmonton:20240320T183000
DTSTAMP:20260423T105726
CREATED:20240205T162138Z
LAST-MODIFIED:20240205T162138Z
UID:10997-1710959400-1710959400@www.archgm.ca
SUMMARY:Lent Workshop: Basics of our Faith – St. Rita’s\, Valleyview
DESCRIPTION:Workshop will be held every Wednesday of Lent (Feb. 21st-March 20th)\, beginning with Mass at 6:45 pm. Refreshments provided.
URL:https://www.archgm.ca/event/lent-workshop-basics-of-our-faith-st-ritas-valleyview-5/
LOCATION:St. Rita’s\, Valleyview\, Grande Prairie\, AB
CATEGORIES:Events Calendar
END:VEVENT
BEGIN:VEVENT
DTSTART;TZID=America/Edmonton:20240320T190000
DTEND;TZID=America/Edmonton:20240320T190000
DTSTAMP:20260423T105726
CREATED:20240205T161829Z
LAST-MODIFIED:20240205T161829Z
UID:10987-1710961200-1710961200@www.archgm.ca
SUMMARY:Into the Breach - St. Mary's Church\, Beaverlodge
DESCRIPTION:Into The Breach\nThe Knights of Columbus\, Holy Family Council 11495\nof Beaverlodge\, is inviting all men to come and\nexperience a brotherhood of fellow Christian men\,\nthrough a faith filled series by Bishop Olmsted called\n” Into the Breach”\, to help men deepen their\nunderstanding of living a truly masculine life in Christ\nand practice their commitments to this life.\nIt will run for 12 weeks on every Wednesday at 7 pm\nstarting on Feb 21\, 2024\, at St Mary’s Church meeting\nroom in Beaverlodge.
URL:https://www.archgm.ca/event/into-the-breach-st-marys-church-beaverlodge-4/
LOCATION:St. Mary’s Church\, Beaverlodge\, Grande Prairie\, AB
CATEGORIES:Events Calendar
END:VEVENT
BEGIN:VEVENT
DTSTART;TZID=America/Edmonton:20240321T080000
DTEND;TZID=America/Edmonton:20240321T170000
DTSTAMP:20260423T105726
CREATED:20240202T223516Z
LAST-MODIFIED:20240202T223516Z
UID:10951-1711008000-1711040400@www.archgm.ca
SUMMARY:Curia Meeting - Chancery Office\, Grande Prairie
DESCRIPTION:
URL:https://www.archgm.ca/event/curia-meeting-chancery-office-grande-prairie-10/
LOCATION:Chancery Office\, Grande Prairie\, Grande Prairie\, AB
CATEGORIES:Archbishop’s Calendar,Events Calendar
END:VEVENT
BEGIN:VEVENT
DTSTART;TZID=America/Edmonton:20240321T183000
DTEND;TZID=America/Edmonton:20240321T183000
DTSTAMP:20260423T105726
CREATED:20240229T160043Z
LAST-MODIFIED:20240229T160043Z
UID:11207-1711045800-1711045800@www.archgm.ca
SUMMARY:Way of the Cross - St. Peter & Paul Church\, Rycroft
DESCRIPTION:Beginning at 6:40 pm every Thursday of Lent
URL:https://www.archgm.ca/event/way-of-the-cross-st-peter-paul-church-rycroft/
LOCATION:St. Peter and Paul Church\, Rycroft\, Grande Prairie\, AB
CATEGORIES:Events Calendar
END:VEVENT
BEGIN:VEVENT
DTSTART;TZID=America/Edmonton:20240321T190000
DTEND;TZID=America/Edmonton:20240321T190000
DTSTAMP:20260423T105726
CREATED:20240223T151204Z
LAST-MODIFIED:20240223T151204Z
UID:11162-1711047600-1711047600@www.archgm.ca
SUMMARY:Knights of Columbus Meeting - Our Lady of Peace\, Peace River
DESCRIPTION:
URL:https://www.archgm.ca/event/knights-of-columbus-meeting-our-lady-of-peace-peace-river/
LOCATION:Our Lady of Peace Church\, Peace River\, Grande Prairie\, AB
CATEGORIES:Events Calendar
END:VEVENT
BEGIN:VEVENT
DTSTART;TZID=America/Edmonton:20240322T173000
DTEND;TZID=America/Edmonton:20240322T173000
DTSTAMP:20260423T105726
CREATED:20240205T202653Z
LAST-MODIFIED:20240205T202653Z
UID:11041-1711128600-1711128600@www.archgm.ca
SUMMARY:Lenten Supper & Stations of the Cross - St. Joseph Church\, Grande Prairie
DESCRIPTION:Join us for a Lenten meal in Tranquille Hall (provided by the CWL)\, a short presentation provided by the Social Justice committee\, and praying the Stations of the Cross in the church.
URL:https://www.archgm.ca/event/lenten-supper-stations-of-the-cross-st-joseph-church-grande-prairie-6/
LOCATION:St. Joseph’s Church\, Grande Prairie\, Grande Prairie\, AB
CATEGORIES:Events Calendar
END:VEVENT
BEGIN:VEVENT
DTSTART;TZID=America/Edmonton:20240322T180000
DTEND;TZID=America/Edmonton:20240322T180000
DTSTAMP:20260423T105726
CREATED:20240131T225008Z
LAST-MODIFIED:20240131T225008Z
UID:10912-1711130400-1711130400@www.archgm.ca
SUMMARY:Soup and Stations of the Cross – St. Mary’s\, Beaverlodge
DESCRIPTION:Soup and Stations of the Cross – St. Mary’s\, Beaverlodge \nEvery Friday during lent beginning at 6pm with a Lenten meal in the church hall followed by the Stations of the Cross in the Church Nave. Please note *March 1 Soup and Stations will begin at 5pm
URL:https://www.archgm.ca/event/soup-and-stations-of-the-cross-st-marys-beaverlodge-6/
LOCATION:St. Mary’s Church\, Beaverlodge\, Grande Prairie\, AB
CATEGORIES:Events Calendar
END:VEVENT
BEGIN:VEVENT
DTSTART;TZID=America/Edmonton:20240322T190000
DTEND;TZID=America/Edmonton:20240322T190000
DTSTAMP:20260423T105726
CREATED:20240227T223517Z
LAST-MODIFIED:20240227T223517Z
UID:11181-1711134000-1711134000@www.archgm.ca
SUMMARY:Palm Weaving & Potluck Supper - Our Lady of Peace\, Peace River
DESCRIPTION:Palm weaving and potluck supper to follow after March 22nd Mass and Stations of the Cross
URL:https://www.archgm.ca/event/palm-weaving-potluck-supper-our-lady-of-peace-peace-river/
LOCATION:Our Lady of Peace Church\, Peace River\, Grande Prairie\, AB
CATEGORIES:Events Calendar
END:VEVENT
BEGIN:VEVENT
DTSTART;TZID=America/Edmonton:20240323T100000
DTEND;TZID=America/Edmonton:20240323T140000
DTSTAMP:20260423T105726
CREATED:20240308T213505Z
LAST-MODIFIED:20240308T213505Z
UID:11238-1711188000-1711202400@www.archgm.ca
SUMMARY:Synodal Reflection 2024 - Catholic Conference Centre\, Peace River
DESCRIPTION:On Saturday March 23rd\, our archdiocese is hosting a gathering to reflect on the first synthesis report of the Synod on Synodality. The gathering will be held at the Catholic Conference Centre in Peace River\, from 10:00am to 2:00 pm\, with lunch provided. Fr. Ed Eherer\, CSsR will lead the gathering. \nParticipants will be asked to reflect on the Vatican’s official synthesis report from the first Synod on Synodality session in 2023\, and we will discern our response as the Synod prepares for its concluding session later this year. Get the full details and learn how you can participate at www.archgm.ca/synod-2022-2024
URL:https://www.archgm.ca/event/synodal-reflection-2024-catholic-conference-centre-peace-river/
LOCATION:Catholic Conference Centre\, Peace River\, Grande Prairie\, AB
CATEGORIES:Events Calendar
END:VEVENT
BEGIN:VEVENT
DTSTART;VALUE=DATE:20240324
DTEND;VALUE=DATE:20240325
DTSTAMP:20260423T105726
CREATED:20240202T223700Z
LAST-MODIFIED:20240202T223700Z
UID:10953-1711238400-1711324799@www.archgm.ca
SUMMARY:Palm Sunday
DESCRIPTION:
URL:https://www.archgm.ca/event/palm-sunday/
LOCATION:AB
CATEGORIES:Archbishop’s Calendar,Events Calendar
END:VEVENT
BEGIN:VEVENT
DTSTART;TZID=America/Edmonton:20240326T193000
DTEND;TZID=America/Edmonton:20240326T193000
DTSTAMP:20260423T105726
CREATED:20240202T174900Z
LAST-MODIFIED:20240202T174900Z
UID:10918-1711481400-1711481400@www.archgm.ca
SUMMARY:Chrism Mass - St. John the Baptist Cathedral\, McLennan
DESCRIPTION:Chrism Mass\, March 26th\, 7:30 pm\nSt. John the Baptist Cathedral\, McLennan \nParishioners from throughout the archdiocese are invited to join with His Excellency Archbishop Pettipas and clergy for the Chrism Mass\, held at St. John the Baptist Cathedral on Tuesday\, March 26th. At this special liturgy\, the clergy will renew their commitment of service and ministry to the people of God in our diocese. Then the oils used in the Sacramental life of the church will be blessed – the Oil of Catechumens used in baptism; Oil of the Sick to strengthen\, heal and console the sick and the dying; and the consecration of Chrism\, used in the sacraments of baptism\, confirmation and Holy Orders\, and in the dedication and consecration of churches and altars. \nMass will begin at 7:30 pm\, with food and fellowship in the cathedral hall afterwards. We encourage you to make it part of your Holy Week celebrations!
URL:https://www.archgm.ca/event/chrism-mass-st-john-the-baptist-cathedral-mclennan/
LOCATION:St. John the Baptist Cathedral\, McLennan\, Grande Prairie\, AB
CATEGORIES:Archbishop’s Calendar,Events Calendar
END:VEVENT
BEGIN:VEVENT
DTSTART;TZID=America/Edmonton:20240327T190000
DTEND;TZID=America/Edmonton:20240327T190000
DTSTAMP:20260423T105726
CREATED:20240205T161908Z
LAST-MODIFIED:20240205T161908Z
UID:10989-1711566000-1711566000@www.archgm.ca
SUMMARY:Into the Breach - St. Mary's Church\, Beaverlodge
DESCRIPTION:Into The Breach\nThe Knights of Columbus\, Holy Family Council 11495\nof Beaverlodge\, is inviting all men to come and\nexperience a brotherhood of fellow Christian men\,\nthrough a faith filled series by Bishop Olmsted called\n” Into the Breach”\, to help men deepen their\nunderstanding of living a truly masculine life in Christ\nand practice their commitments to this life.\nIt will run for 12 weeks on every Wednesday at 7 pm\nstarting on Feb 21\, 2024\, at St Mary’s Church meeting\nroom in Beaverlodge.
URL:https://www.archgm.ca/event/into-the-breach-st-marys-church-beaverlodge-5/
LOCATION:St. Mary’s Church\, Beaverlodge\, Grande Prairie\, AB
CATEGORIES:Events Calendar
END:VEVENT
BEGIN:VEVENT
DTSTART;VALUE=DATE:20240328
DTEND;VALUE=DATE:20240329
DTSTAMP:20260423T105726
CREATED:20240202T224133Z
LAST-MODIFIED:20240202T224133Z
UID:10957-1711584000-1711670399@www.archgm.ca
SUMMARY:Holy Thursday
DESCRIPTION:
URL:https://www.archgm.ca/event/holy-thursday-2/
LOCATION:AB
CATEGORIES:Archbishop’s Calendar,Events Calendar
END:VEVENT
BEGIN:VEVENT
DTSTART;VALUE=DATE:20240329
DTEND;VALUE=DATE:20240330
DTSTAMP:20260423T105726
CREATED:20240202T224149Z
LAST-MODIFIED:20240202T224149Z
UID:10959-1711670400-1711756799@www.archgm.ca
SUMMARY:Good Friday
DESCRIPTION:
URL:https://www.archgm.ca/event/good-friday-2/
LOCATION:AB
CATEGORIES:Archbishop’s Calendar,Events Calendar
END:VEVENT
BEGIN:VEVENT
DTSTART;TZID=America/Edmonton:20240329T100000
DTEND;TZID=America/Edmonton:20240329T100000
DTSTAMP:20260423T105726
CREATED:20240222T213958Z
LAST-MODIFIED:20240222T213958Z
UID:11153-1711706400-1711706400@www.archgm.ca
SUMMARY:Ecumenical Way of the Cross - Beaverlodge
DESCRIPTION:Ecumenical Stations for the Cross at 10:00AM Beginning at St.  Mary’s Church\, Beaverlodge concluding at United Church\, Beaverlodge followed by Fellowship at St. Luke’s Anglican Hall\, Beaverlodge
URL:https://www.archgm.ca/event/ecumenical-way-of-the-cross-beaverlodge/
LOCATION:St. Mary’s Church\, Beaverlodge\, Grande Prairie\, AB
CATEGORIES:Events Calendar
END:VEVENT
BEGIN:VEVENT
DTSTART;VALUE=DATE:20240330
DTEND;VALUE=DATE:20240331
DTSTAMP:20260423T105726
CREATED:20240202T224211Z
LAST-MODIFIED:20240202T224211Z
UID:10961-1711756800-1711843199@www.archgm.ca
SUMMARY:Holy Saturday
DESCRIPTION:
URL:https://www.archgm.ca/event/holy-saturday/
LOCATION:AB
CATEGORIES:Archbishop’s Calendar,Events Calendar
END:VEVENT
BEGIN:VEVENT
DTSTART;VALUE=DATE:20240331
DTEND;VALUE=DATE:20240401
DTSTAMP:20260423T105726
CREATED:20240202T224229Z
LAST-MODIFIED:20240202T224229Z
UID:10963-1711843200-1711929599@www.archgm.ca
SUMMARY:Easter Sunday
DESCRIPTION:
URL:https://www.archgm.ca/event/easter-sunday-2/
LOCATION:AB
CATEGORIES:Archbishop’s Calendar,Events Calendar
END:VEVENT
BEGIN:VEVENT
DTSTART;TZID=America/Edmonton:20240402T190000
DTEND;TZID=America/Edmonton:20240402T190000
DTSTAMP:20260423T105726
CREATED:20240402T143818Z
LAST-MODIFIED:20240402T143818Z
UID:11339-1712084400-1712084400@www.archgm.ca
SUMMARY:Anointing and Healing Liturgy - Our Lady of Good Counsel\, High Level
DESCRIPTION:
URL:https://www.archgm.ca/event/anointing-and-healing-liturgy-our-lady-of-good-counsel-high-level/
LOCATION:Our Lady of Good Counsel\, High Level\, Grande Prairie\, AB
CATEGORIES:Events Calendar
END:VEVENT
BEGIN:VEVENT
DTSTART;TZID=America/Edmonton:20240403T190000
DTEND;TZID=America/Edmonton:20240403T190000
DTSTAMP:20260423T105726
CREATED:20240402T174444Z
LAST-MODIFIED:20240402T174444Z
UID:11367-1712170800-1712170800@www.archgm.ca
SUMMARY:Into the Breach – St. Mary’s Church\, Beaverlodge
DESCRIPTION:Into The Breach\nThe Knights of Columbus\, Holy Family Council 11495\nof Beaverlodge\, is inviting all men to come and\nexperience a brotherhood of fellow Christian men\,\nthrough a faith filled series by Bishop Olmsted called\n” Into the Breach”\, to help men deepen their\nunderstanding of living a truly masculine life in Christ\nand practice their commitments to this life.\nIt will run for 12 weeks on every Wednesday at 7 pm\nstarting on Feb 21\, 2024\, at St Mary’s Church meeting\nroom in Beaverlodge.
URL:https://www.archgm.ca/event/into-the-breach-st-marys-church-beaverlodge-6/
LOCATION:St. Mary’s Church\, Beaverlodge\, Grande Prairie\, AB
CATEGORIES:Events Calendar
END:VEVENT
BEGIN:VEVENT
DTSTART;TZID=America/Edmonton:20240404T080000
DTEND;TZID=America/Edmonton:20240404T170000
DTSTAMP:20260423T105726
CREATED:20240209T213322Z
LAST-MODIFIED:20240209T213322Z
UID:11076-1712217600-1712250000@www.archgm.ca
SUMMARY:Curia Meeting - Chancery Office\, Grande Prairie
DESCRIPTION:
URL:https://www.archgm.ca/event/curia-meeting-chancery-office-grande-prairie-11/
LOCATION:Chancery Office\, Grande Prairie\, Grande Prairie\, AB
CATEGORIES:Archbishop’s Calendar,Events Calendar
END:VEVENT
BEGIN:VEVENT
DTSTART;TZID=America/Edmonton:20240404T173000
DTEND;TZID=America/Edmonton:20240407T170000
DTSTAMP:20260423T105726
CREATED:20240226T202012Z
LAST-MODIFIED:20240402T150926Z
UID:11170-1712251800-1712509200@www.archgm.ca
SUMMARY:Women’s Cursillo Weekend - St. Joseph Catholic School\, Grande Prairie
DESCRIPTION:This Women’s Cursillo is a 3 day retreat weekend beginning on Thursday evening\, April 4th\, until Sunday afternoon\, April 7th. During the weekend\, there will be talks (given by different Cursillo community members)\, discussion\, sharing\, prayer\, lots of laughter and good food. Our goal is to help you to know that you are loved by God and to build supportive Christian community. \nFull details at: https://www.cursillo.archgm.ca/ \nCursillo Application and sponsor form revised 2023 ii
URL:https://www.archgm.ca/event/womens-cursillo-weekend-2/
LOCATION:AB
CATEGORIES:Archbishop’s Calendar,Events Calendar
END:VEVENT
BEGIN:VEVENT
DTSTART;TZID=America/Edmonton:20240405T090000
DTEND;TZID=America/Edmonton:20240405T130000
DTSTAMP:20260423T105726
CREATED:20240402T144416Z
LAST-MODIFIED:20240402T144416Z
UID:11345-1712307600-1712322000@www.archgm.ca
SUMMARY:Adoration & First Friday Devotion - St. Mary's\, Beaverlodge
DESCRIPTION:We will be having Eucharistic Adoration on ever\nFirst Friday of each month from\n10am to 1pm at\nSt. Mary’s Church\, Beaverlodge \n(Mass celebrated at 9 am) \nPlease sign-up for your hour\n(at least two people for each hour must attend).
URL:https://www.archgm.ca/event/adoration-first-friday-devotion-st-marys-beaverlodge/
LOCATION:St. Mary’s Church\, Beaverlodge\, Grande Prairie\, AB
CATEGORIES:Events Calendar
END:VEVENT
BEGIN:VEVENT
DTSTART;TZID=America/Edmonton:20240406T110000
DTEND;TZID=America/Edmonton:20240406T110000
DTSTAMP:20260423T105726
CREATED:20240209T213951Z
LAST-MODIFIED:20240209T213951Z
UID:11086-1712401200-1712401200@www.archgm.ca
SUMMARY:Opening of Canonical Visitation - St. Peter Celestin Church\, Slave Lake
DESCRIPTION:
URL:https://www.archgm.ca/event/opening-of-canonical-visitation-st-peter-celestin-church-slave-lake/
LOCATION:St. Peter Celestin\, Slave Lake\, Grande Prairie\, AB
CATEGORIES:Archbishop’s Calendar,Events Calendar
END:VEVENT
BEGIN:VEVENT
DTSTART;TZID=America/Edmonton:20240407T100000
DTEND;TZID=America/Edmonton:20240407T100000
DTSTAMP:20260423T105726
CREATED:20240402T145457Z
LAST-MODIFIED:20240402T145457Z
UID:11355-1712484000-1712484000@www.archgm.ca
SUMMARY:CWL Meeting - St. Mary's Church\, Beaverlodge
DESCRIPTION:Saturday at 10am\nSt. Mary’s Church Meeting Room\nAll Ladies are Welcome!
URL:https://www.archgm.ca/event/cwl-meeting-st-marys-church-beaverlodge-4/
LOCATION:St. Mary’s Church\, Beaverlodge\, Grande Prairie\, AB
CATEGORIES:Events Calendar
END:VEVENT
BEGIN:VEVENT
DTSTART;TZID=America/Edmonton:20240407T110000
DTEND;TZID=America/Edmonton:20240407T130000
DTSTAMP:20260423T105726
CREATED:20240402T145052Z
LAST-MODIFIED:20240402T145052Z
UID:11351-1712487600-1712494800@www.archgm.ca
SUMMARY:Potluck and Presentation on GrACE - St. Mary's Church\, Beaverlodge
DESCRIPTION:Catholic Family\, Education and Grace \nRuss Noble one of the Members of Catholic\nEducation Board of Trustees will be visiting St.\nMary’s Parish\, Beaverlodge on Sunday April 7. He\nwill talk about Catholic families\, the importance of\nCatholic Education and what the Grace Program is\nall about. \nThis will take place immediately after the 11:00AM\nMass in the church hall and will coincide with our\nregular Potluck Sunday. \nTopic- Supporting Parents in Catholic Faith\nFormation\nContact: Fr. Michael Dias -780-354-2415\nJoin us for Food and Resources\nCoordinators: Trustees Michelle Gemmell\,\nRuss Noble\nLink: grace.director@users.smore.com
URL:https://www.archgm.ca/event/potluck-and-presentation-on-grace-st-marys-church-beaverlodge/
LOCATION:AB
CATEGORIES:Events Calendar
END:VEVENT
BEGIN:VEVENT
DTSTART;TZID=America/Edmonton:20240407T133000
DTEND;TZID=America/Edmonton:20240407T160000
DTSTAMP:20260423T105726
CREATED:20240402T144714Z
LAST-MODIFIED:20240402T144714Z
UID:11347-1712496600-1712505600@www.archgm.ca
SUMMARY:Divine Mercy Service & Reconciliation - St. Mary's\, Beaverlodge
DESCRIPTION:St. Mary’s Church\nDivine Mercy Service\nSunday\, April 7\n3:00PM \n~Divine Mercy Novena Chaplet~\n~Silent adoration & Benediction~ ~Veneration\nof the Divine Mercy Picture~\nNine days of Divine Mercy Novena\nThe Divine Mercy Novena is prayed nine days\nprior to Divine Mercy Sunday\, beginning on Good\nFriday\, March 29\, 2024. The Novena will be prayed\ndaily after the morning Mass except on the Easter\nweekend\, when the Novena prayers are said at\nhome.\nSacrament of Reconciliation: 1:30PM – 2:45PM\nDivine Mercy Novena Chaplet pamphlets are\navailable at the back of the church.\nWe encourage you to join us in prayer together with\nyour family.
URL:https://www.archgm.ca/event/divine-mercy-service-reconciliation-st-marys-beaverlodge/
LOCATION:St. Mary’s Church\, Beaverlodge\, Grande Prairie\, AB
CATEGORIES:Events Calendar
END:VEVENT
BEGIN:VEVENT
DTSTART;TZID=America/Edmonton:20240409T163000
DTEND;TZID=America/Edmonton:20240409T180000
DTSTAMP:20260423T105726
CREATED:20240402T145548Z
LAST-MODIFIED:20240402T145548Z
UID:11357-1712680200-1712685600@www.archgm.ca
SUMMARY:PPC Meeting - St. Mary's Church\, Beaverlodge
DESCRIPTION:Next Parish Pastoral Council Meeting\nApril 9\, 2024 Beginning with the Celebration of Mass at 4:30pm Followed by the meeting at 5pm St. Mary’s Church Meeting Room
URL:https://www.archgm.ca/event/ppc-meeting-st-marys-church-beaverlodge-4/
LOCATION:St. Mary’s Church\, Beaverlodge\, Grande Prairie\, AB
CATEGORIES:Events Calendar
END:VEVENT
BEGIN:VEVENT
DTSTART;TZID=America/Edmonton:20240410T190000
DTEND;TZID=America/Edmonton:20240410T190000
DTSTAMP:20260423T105726
CREATED:20240402T174511Z
LAST-MODIFIED:20240402T174511Z
UID:11369-1712775600-1712775600@www.archgm.ca
SUMMARY:Into the Breach – St. Mary’s Church\, Beaverlodge
DESCRIPTION:Into The Breach\nThe Knights of Columbus\, Holy Family Council 11495\nof Beaverlodge\, is inviting all men to come and\nexperience a brotherhood of fellow Christian men\,\nthrough a faith filled series by Bishop Olmsted called\n” Into the Breach”\, to help men deepen their\nunderstanding of living a truly masculine life in Christ\nand practice their commitments to this life.\nIt will run for 12 weeks on every Wednesday at 7 pm\nstarting on Feb 21\, 2024\, at St Mary’s Church meeting\nroom in Beaverlodge.
URL:https://www.archgm.ca/event/into-the-breach-st-marys-church-beaverlodge-7/
LOCATION:St. Mary’s Church\, Beaverlodge\, Grande Prairie\, AB
CATEGORIES:Events Calendar
END:VEVENT
BEGIN:VEVENT
DTSTART;TZID=America/Edmonton:20240411T173000
DTEND;TZID=America/Edmonton:20240411T200000
DTSTAMP:20260423T105726
CREATED:20240402T150307Z
LAST-MODIFIED:20240402T150307Z
UID:11362-1712856600-1712865600@www.archgm.ca
SUMMARY:Parish Games Night - St. Joseph Church\, Grande Prairie
DESCRIPTION:Parish Games Night\, Thursday\, Apr 11\,\nTranquille Hall 5:30 pm:\nSupper – Butter chicken\, Caeser salad\, naan bread and dessert from Majors Restaurant\n7 pm: Games You are welcome to come for one or both parts of the evening. Cost by donation (to support the St. Lawrence Centre) Event hosted by the Knights of Columbus
URL:https://www.archgm.ca/event/parish-games-night-st-joseph-church-grande-prairie-2/
LOCATION:St. Joseph’s Church\, Grande Prairie\, Grande Prairie\, AB
CATEGORIES:Events Calendar
END:VEVENT
END:VCALENDAR