BEGIN:VCALENDAR
VERSION:2.0
PRODID:-//Catholic Archdiocese of Grouard-McLennan - ECPv6.15.20//NONSGML v1.0//EN
CALSCALE:GREGORIAN
METHOD:PUBLISH
X-WR-CALNAME:Catholic Archdiocese of Grouard-McLennan
X-ORIGINAL-URL:https://www.archgm.ca
X-WR-CALDESC:Events for Catholic Archdiocese of Grouard-McLennan
REFRESH-INTERVAL;VALUE=DURATION:PT1H
X-Robots-Tag:noindex
X-PUBLISHED-TTL:PT1H
BEGIN:VTIMEZONE
TZID:America/Edmonton
BEGIN:DAYLIGHT
TZOFFSETFROM:-0700
TZOFFSETTO:-0600
TZNAME:MDT
DTSTART:20230312T090000
END:DAYLIGHT
BEGIN:STANDARD
TZOFFSETFROM:-0600
TZOFFSETTO:-0700
TZNAME:MST
DTSTART:20231105T080000
END:STANDARD
BEGIN:DAYLIGHT
TZOFFSETFROM:-0700
TZOFFSETTO:-0600
TZNAME:MDT
DTSTART:20240310T090000
END:DAYLIGHT
BEGIN:STANDARD
TZOFFSETFROM:-0600
TZOFFSETTO:-0700
TZNAME:MST
DTSTART:20241103T080000
END:STANDARD
BEGIN:DAYLIGHT
TZOFFSETFROM:-0700
TZOFFSETTO:-0600
TZNAME:MDT
DTSTART:20250309T090000
END:DAYLIGHT
BEGIN:STANDARD
TZOFFSETFROM:-0600
TZOFFSETTO:-0700
TZNAME:MST
DTSTART:20251102T080000
END:STANDARD
END:VTIMEZONE
BEGIN:VEVENT
DTSTART;TZID=America/Edmonton:20240303T110000
DTEND;TZID=America/Edmonton:20240303T110000
DTSTAMP:20260423T073038
CREATED:20240131T224427Z
LAST-MODIFIED:20240131T224427Z
UID:10900-1709463600-1709463600@www.archgm.ca
SUMMARY:Youth Mass & Potluck - St. Mary's\, Beaverlodge
DESCRIPTION:
URL:https://www.archgm.ca/event/youth-mass-potluck-st-marys-beaverlodge-4/
LOCATION:St. Mary’s Church\, Beaverlodge\, Grande Prairie\, AB
CATEGORIES:Events Calendar
END:VEVENT
BEGIN:VEVENT
DTSTART;TZID=America/Edmonton:20240304T070000
DTEND;TZID=America/Edmonton:20240304T070000
DTSTAMP:20260423T073038
CREATED:20240202T220249Z
LAST-MODIFIED:20240202T220249Z
UID:10947-1709535600-1709535600@www.archgm.ca
SUMMARY:Archbishop Meeting with Cursillo Group
DESCRIPTION:
URL:https://www.archgm.ca/event/archbishop-meeting-with-cursillo-group-2/
LOCATION:St. Joseph’s Church\, Grande Prairie\, Grande Prairie\, AB
CATEGORIES:Archbishop’s Calendar,Events Calendar
END:VEVENT
BEGIN:VEVENT
DTSTART;TZID=America/Edmonton:20240305T183000
DTEND;TZID=America/Edmonton:20240305T183000
DTSTAMP:20260423T073038
CREATED:20240229T155225Z
LAST-MODIFIED:20240229T155225Z
UID:11193-1709663400-1709663400@www.archgm.ca
SUMMARY:Way of the Cross - St. Joseph Church\, Spirit River
DESCRIPTION:Beginning at 6:40 pm every Tuesday of Lent
URL:https://www.archgm.ca/event/way-of-the-cross-st-joseph-church-spirit-river/
LOCATION:St. Joseph’s Church\, Spirit River\, Grande Prairie\, AB
CATEGORIES:Events Calendar
END:VEVENT
BEGIN:VEVENT
DTSTART;TZID=America/Edmonton:20240306T183000
DTEND;TZID=America/Edmonton:20240306T183000
DTSTAMP:20260423T073038
CREATED:20240205T162040Z
LAST-MODIFIED:20240205T162040Z
UID:10993-1709749800-1709749800@www.archgm.ca
SUMMARY:Lent Workshop: Basics of our Faith – St. Rita’s\, Valleyview
DESCRIPTION:Workshop will be held every Wednesday of Lent (Feb. 21st-March 20th)\, beginning with Mass at 6:45 pm. Refreshments provided.
URL:https://www.archgm.ca/event/lent-workshop-basics-of-our-faith-st-ritas-valleyview-3/
LOCATION:St. Rita’s\, Valleyview\, Grande Prairie\, AB
CATEGORIES:Events Calendar
END:VEVENT
BEGIN:VEVENT
DTSTART;TZID=America/Edmonton:20240306T190000
DTEND;TZID=America/Edmonton:20240306T190000
DTSTAMP:20260423T073038
CREATED:20240205T161650Z
LAST-MODIFIED:20240205T161650Z
UID:10983-1709751600-1709751600@www.archgm.ca
SUMMARY:Into the Breach - St. Mary's Church\, Beaverlodge
DESCRIPTION:Into The Breach\nThe Knights of Columbus\, Holy Family Council 11495\nof Beaverlodge\, is inviting all men to come and\nexperience a brotherhood of fellow Christian men\,\nthrough a faith filled series by Bishop Olmsted called\n” Into the Breach”\, to help men deepen their\nunderstanding of living a truly masculine life in Christ\nand practice their commitments to this life.\nIt will run for 12 weeks on every Wednesday at 7 pm\nstarting on Feb 21\, 2024\, at St Mary’s Church meeting\nroom in Beaverlodge.
URL:https://www.archgm.ca/event/into-the-breach-st-marys-church-beaverlodge-2/
LOCATION:St. Mary’s Church\, Beaverlodge\, Grande Prairie\, AB
CATEGORIES:Events Calendar
END:VEVENT
BEGIN:VEVENT
DTSTART;TZID=America/Edmonton:20240307T173000
DTEND;TZID=America/Edmonton:20240310T173000
DTSTAMP:20260423T073038
CREATED:20240226T201714Z
LAST-MODIFIED:20240226T201811Z
UID:11167-1709832600-1710091800@www.archgm.ca
SUMMARY:Men’s Cursillo Weekend - St. Mary's School\, Beaverlodge
DESCRIPTION:This Men’s Cursillo is a 3 day retreat weekend beginning on Thursday evening\, March 7\, until Sunday afternoon\, March 10. During the weekend\, there will be talks (given by different Cursillo community members)\, discussion\, sharing\, prayer\, lots of laughter and good food. Our goal is to help you to know that you are loved by God and to build supportive Christian community. \n  \nCursillo Application and sponsor form revised 2023 ii
URL:https://www.archgm.ca/event/mens-cursillo-weekend-st-marys-school-beaverlodge/
LOCATION:St. Mary’s School\, Beaverlodge\, Grande Prairie\, AB
CATEGORIES:Archbishop’s Calendar,Events Calendar
END:VEVENT
BEGIN:VEVENT
DTSTART;TZID=America/Edmonton:20240307T183000
DTEND;TZID=America/Edmonton:20240307T183000
DTSTAMP:20260423T073038
CREATED:20240229T155750Z
LAST-MODIFIED:20240229T160124Z
UID:11201-1709836200-1709836200@www.archgm.ca
SUMMARY:Way of the Cross - St. Peter & Paul Church\, Rycroft
DESCRIPTION:Beginning at 6:40 pm every Thursday of Lent
URL:https://www.archgm.ca/event/way-of-the-cross-st-peter-paul-church-spirit-river-2/
LOCATION:St. Peter and Paul Church\, Rycroft\, Grande Prairie\, AB
CATEGORIES:Events Calendar
END:VEVENT
BEGIN:VEVENT
DTSTART;TZID=America/Edmonton:20240308T173000
DTEND;TZID=America/Edmonton:20240308T173000
DTSTAMP:20260423T073038
CREATED:20240205T202559Z
LAST-MODIFIED:20240205T202559Z
UID:11037-1709919000-1709919000@www.archgm.ca
SUMMARY:Lenten Supper & Stations of the Cross - St. Joseph Church\, Grande Prairie
DESCRIPTION:Join us for a Lenten meal in Tranquille Hall (provided by the CWL)\, a short presentation provided by the Social Justice committee\, and praying the Stations of the Cross in the church.
URL:https://www.archgm.ca/event/lenten-supper-stations-of-the-cross-st-joseph-church-grande-prairie-4/
LOCATION:St. Joseph’s Church\, Grande Prairie\, Grande Prairie\, AB
CATEGORIES:Events Calendar
END:VEVENT
BEGIN:VEVENT
DTSTART;TZID=America/Edmonton:20240308T180000
DTEND;TZID=America/Edmonton:20240308T180000
DTSTAMP:20260423T073038
CREATED:20240131T224849Z
LAST-MODIFIED:20240131T224849Z
UID:10908-1709920800-1709920800@www.archgm.ca
SUMMARY:Soup and Stations of the Cross - St. Mary's\, Beaverlodge
DESCRIPTION:Soup and Stations of the Cross – St. Mary’s\, Beaverlodge \nEvery Friday during lent beginning at 6pm with a Lenten meal in the church hall followed by the Stations of the Cross in the Church Nave. Please note *March 1 Soup and Stations will begin at 5pm
URL:https://www.archgm.ca/event/soup-and-stations-of-the-cross-st-marys-beaverlodge-4/
LOCATION:St. Mary’s Church\, Beaverlodge\, Grande Prairie\, AB
CATEGORIES:Events Calendar
END:VEVENT
BEGIN:VEVENT
DTSTART;TZID=America/Edmonton:20240309T110000
DTEND;TZID=America/Edmonton:20240309T110000
DTSTAMP:20260423T073038
CREATED:20240202T214651Z
LAST-MODIFIED:20240202T214651Z
UID:10925-1709982000-1709982000@www.archgm.ca
SUMMARY:Celebration of First Reconciliation (Grade 2 students) - Our Lady of Peace\, Peace River
DESCRIPTION:
URL:https://www.archgm.ca/event/celebration-of-first-reconciliation-grade-2-students-our-lady-of-peace-peace-river/
LOCATION:Our Lady of Peace Church\, Peace River\, Grande Prairie\, AB
CATEGORIES:Events Calendar
END:VEVENT
BEGIN:VEVENT
DTSTART;VALUE=DATE:20240311
DTEND;VALUE=DATE:20240315
DTSTAMP:20260423T073038
CREATED:20231117T145553Z
LAST-MODIFIED:20231117T145553Z
UID:10460-1710115200-1710460799@www.archgm.ca
SUMMARY:Retreat for Clergy - Diocese of Keewatin-LePas
DESCRIPTION:Archbishop Pettipas will be in Muenster\, Saskatchewan for retreat of clergy from Keewatin-LePas March 11-14
URL:https://www.archgm.ca/event/retreat-for-clergy-diocese-of-keewatin-lepas/
LOCATION:AB
CATEGORIES:Archbishop’s Calendar,Events Calendar
END:VEVENT
BEGIN:VEVENT
DTSTART;VALUE=DATE:20240311
DTEND;VALUE=DATE:20240315
DTSTAMP:20260423T073038
CREATED:20240202T220140Z
LAST-MODIFIED:20240202T220140Z
UID:10944-1710115200-1710460799@www.archgm.ca
SUMMARY:Archbishop Pettipas preaching for Priests Retreat in Archdiocese of Keewatin-LePas
DESCRIPTION:
URL:https://www.archgm.ca/event/archbishop-pettipas-preaching-for-priests-retreat-in-archdiocese-of-keewatin-lepas/
LOCATION:St. Peter’s Abbey\, Meunster\, Grande Prairie\, AB
CATEGORIES:Archbishop’s Calendar,Events Calendar
END:VEVENT
BEGIN:VEVENT
DTSTART;TZID=America/Edmonton:20240312T183000
DTEND;TZID=America/Edmonton:20240312T183000
DTSTAMP:20260423T073038
CREATED:20240229T155342Z
LAST-MODIFIED:20240229T155342Z
UID:11195-1710268200-1710268200@www.archgm.ca
SUMMARY:Way of the Cross - St. Joseph Church\, Spirit River
DESCRIPTION:Beginning at 6:40 pm every Tuesday of Lent
URL:https://www.archgm.ca/event/way-of-the-cross-st-joseph-church-spirit-river-2/
LOCATION:St. Joseph’s Church\, Spirit River\, Grande Prairie\, AB
CATEGORIES:Events Calendar
END:VEVENT
BEGIN:VEVENT
DTSTART;TZID=America/Edmonton:20240313T120000
DTEND;TZID=America/Edmonton:20240313T190000
DTSTAMP:20260423T073038
CREATED:20240227T223414Z
LAST-MODIFIED:20240227T223414Z
UID:11179-1710331200-1710356400@www.archgm.ca
SUMMARY:Day of Reconciliation - Our Lady of Peace\, Peace River
DESCRIPTION:Wednesday\, March 13th\nReconciliations available from 12pm to 6pm\nMass at 7 pm \nOur Lady of Peace Church\, Peace River
URL:https://www.archgm.ca/event/day-of-reconciliation-our-lady-of-peace-peace-river-2/
LOCATION:Our Lady of Peace Church\, Peace River\, Grande Prairie\, AB
CATEGORIES:Events Calendar
END:VEVENT
BEGIN:VEVENT
DTSTART;TZID=America/Edmonton:20240313T183000
DTEND;TZID=America/Edmonton:20240313T183000
DTSTAMP:20260423T073038
CREATED:20240205T162111Z
LAST-MODIFIED:20240205T162111Z
UID:10995-1710354600-1710354600@www.archgm.ca
SUMMARY:Lent Workshop: Basics of our Faith – St. Rita’s\, Valleyview
DESCRIPTION:Workshop will be held every Wednesday of Lent (Feb. 21st-March 20th)\, beginning with Mass at 6:45 pm. Refreshments provided.
URL:https://www.archgm.ca/event/lent-workshop-basics-of-our-faith-st-ritas-valleyview-4/
LOCATION:St. Rita’s\, Valleyview\, Grande Prairie\, AB
CATEGORIES:Events Calendar
END:VEVENT
BEGIN:VEVENT
DTSTART;TZID=America/Edmonton:20240313T190000
DTEND;TZID=America/Edmonton:20240313T190000
DTSTAMP:20260423T073038
CREATED:20240205T161721Z
LAST-MODIFIED:20240205T161721Z
UID:10985-1710356400-1710356400@www.archgm.ca
SUMMARY:Into the Breach - St. Mary's Church\, Beaverlodge
DESCRIPTION:Into The Breach\nThe Knights of Columbus\, Holy Family Council 11495\nof Beaverlodge\, is inviting all men to come and\nexperience a brotherhood of fellow Christian men\,\nthrough a faith filled series by Bishop Olmsted called\n” Into the Breach”\, to help men deepen their\nunderstanding of living a truly masculine life in Christ\nand practice their commitments to this life.\nIt will run for 12 weeks on every Wednesday at 7 pm\nstarting on Feb 21\, 2024\, at St Mary’s Church meeting\nroom in Beaverlodge.
URL:https://www.archgm.ca/event/into-the-breach-st-marys-church-beaverlodge-3/
LOCATION:St. Mary’s Church\, Beaverlodge\, Grande Prairie\, AB
CATEGORIES:Events Calendar
END:VEVENT
BEGIN:VEVENT
DTSTART;TZID=America/Edmonton:20240314T183000
DTEND;TZID=America/Edmonton:20240314T183000
DTSTAMP:20260423T073038
CREATED:20240229T155830Z
LAST-MODIFIED:20240229T160006Z
UID:11203-1710441000-1710441000@www.archgm.ca
SUMMARY:Way of the Cross - St. Peter & Paul Church\, Rycroft
DESCRIPTION:Beginning at 6:40 pm every Thursday of Lent
URL:https://www.archgm.ca/event/11203/
LOCATION:St. Peter and Paul Church\, Rycroft\, Grande Prairie\, AB
CATEGORIES:Events Calendar
END:VEVENT
BEGIN:VEVENT
DTSTART;TZID=America/Edmonton:20240315T173000
DTEND;TZID=America/Edmonton:20240315T173000
DTSTAMP:20260423T073038
CREATED:20240205T202626Z
LAST-MODIFIED:20240205T202626Z
UID:11039-1710523800-1710523800@www.archgm.ca
SUMMARY:Lenten Supper & Stations of the Cross - St. Joseph Church\, Grande Prairie
DESCRIPTION:Join us for a Lenten meal in Tranquille Hall (provided by the CWL)\, a short presentation provided by the Social Justice committee\, and praying the Stations of the Cross in the church.
URL:https://www.archgm.ca/event/lenten-supper-stations-of-the-cross-st-joseph-church-grande-prairie-5/
LOCATION:St. Joseph’s Church\, Grande Prairie\, Grande Prairie\, AB
CATEGORIES:Events Calendar
END:VEVENT
BEGIN:VEVENT
DTSTART;TZID=America/Edmonton:20240315T180000
DTEND;TZID=America/Edmonton:20240315T180000
DTSTAMP:20260423T073038
CREATED:20240131T224924Z
LAST-MODIFIED:20240131T224924Z
UID:10910-1710525600-1710525600@www.archgm.ca
SUMMARY:Soup and Stations of the Cross - St. Mary's\, Beaverlodge
DESCRIPTION:Soup and Stations of the Cross – St. Mary’s\, Beaverlodge \nEvery Friday during lent beginning at 6pm with a Lenten meal in the church hall followed by the Stations of the Cross in the Church Nave. Please note *March 1 Soup and Stations will begin at 5pm
URL:https://www.archgm.ca/event/soup-and-stations-of-the-cross-st-marys-beaverlodge-5/
LOCATION:St. Mary’s Church\, Beaverlodge\, Grande Prairie\, AB
CATEGORIES:Events Calendar
END:VEVENT
BEGIN:VEVENT
DTSTART;TZID=America/Edmonton:20240317T100000
DTEND;TZID=America/Edmonton:20240317T100000
DTSTAMP:20260423T073038
CREATED:20240229T163800Z
LAST-MODIFIED:20240229T163800Z
UID:11212-1710669600-1710669600@www.archgm.ca
SUMMARY:Youth Mass & Lenten Reflection - St. Joseph\, Spirit River
DESCRIPTION:
URL:https://www.archgm.ca/event/youth-mass-lenten-reflection-st-joseph-spirit-river/
LOCATION:St. Joseph’s Church\, Spirit River\, Grande Prairie\, AB
CATEGORIES:Events Calendar
END:VEVENT
BEGIN:VEVENT
DTSTART;TZID=America/Edmonton:20240317T103000
DTEND;TZID=America/Edmonton:20240317T103000
DTSTAMP:20260423T073038
CREATED:20240202T223436Z
LAST-MODIFIED:20240202T223442Z
UID:10949-1710671400-1710671400@www.archgm.ca
SUMMARY:Archbishop's Mass - St. John the Baptist Cathedral\, McLennan
DESCRIPTION:
URL:https://www.archgm.ca/event/archbishops-mass-st-john-the-baptist-cathedral-mclennan-5/
LOCATION:St. John the Baptist Cathedral\, McLennan\, Grande Prairie\, AB
CATEGORIES:Archbishop’s Calendar,Events Calendar
END:VEVENT
BEGIN:VEVENT
DTSTART;TZID=America/Edmonton:20240317T110000
DTEND;TZID=America/Edmonton:20240317T110000
DTSTAMP:20260423T073038
CREATED:20240308T213201Z
LAST-MODIFIED:20240308T213201Z
UID:11236-1710673200-1710673200@www.archgm.ca
SUMMARY:St. Patrick's Day Breakfast - St. James the Major\, Manning
DESCRIPTION:Breakfast held after 10:00 am Sunday Mass\, begins at 11:00 am.
URL:https://www.archgm.ca/event/st-patricks-day-breakfast-st-james-the-major-manning/
LOCATION:St. James the Major\, Manning\, Grande Prairie\, AB
CATEGORIES:Events Calendar
END:VEVENT
BEGIN:VEVENT
DTSTART;TZID=America/Edmonton:20240319T100000
DTEND;TZID=America/Edmonton:20240319T170000
DTSTAMP:20260423T073038
CREATED:20240202T223837Z
LAST-MODIFIED:20240202T223837Z
UID:10955-1710842400-1710867600@www.archgm.ca
SUMMARY:Council of Priests Meeting - Our Lady of Peace\, Peace River
DESCRIPTION:
URL:https://www.archgm.ca/event/council-of-priests-meeting-our-lady-of-peace-peace-river-4/
LOCATION:Our Lady of Peace Church\, Peace River\, Grande Prairie\, AB
CATEGORIES:Archbishop’s Calendar,Events Calendar
END:VEVENT
BEGIN:VEVENT
DTSTART;TZID=America/Edmonton:20240319T183000
DTEND;TZID=America/Edmonton:20240319T183000
DTSTAMP:20260423T073038
CREATED:20240229T155457Z
LAST-MODIFIED:20240229T155457Z
UID:11197-1710873000-1710873000@www.archgm.ca
SUMMARY:Way of the Cross - St. Joseph Church\, Spirit River
DESCRIPTION:Beginning at 6:40 pm every Tuesday of Lent
URL:https://www.archgm.ca/event/way-of-the-cross-st-joseph-church-spirit-river-3/
LOCATION:St. Joseph’s Church\, Spirit River\, Grande Prairie\, AB
CATEGORIES:Events Calendar
END:VEVENT
BEGIN:VEVENT
DTSTART;TZID=America/Edmonton:20240319T190000
DTEND;TZID=America/Edmonton:20240319T190000
DTSTAMP:20260423T073038
CREATED:20240226T185136Z
LAST-MODIFIED:20240226T185136Z
UID:11164-1710874800-1710874800@www.archgm.ca
SUMMARY:Patron Saint Mass & St. Joe's Got Talent - St. Joseph Church\, Grande Prairie
DESCRIPTION:Join us for mass and a gathering and St. Joe’s Got Talent to follow in celebration of the feast day of our patron: St. Joseph.
URL:https://www.archgm.ca/event/patron-saint-mass-st-joes-got-talent-st-joseph-church-grande-prairie/
LOCATION:St. Joseph’s Church\, Grande Prairie\, Grande Prairie\, AB
CATEGORIES:Events Calendar
END:VEVENT
BEGIN:VEVENT
DTSTART;TZID=America/Edmonton:20240320T183000
DTEND;TZID=America/Edmonton:20240320T183000
DTSTAMP:20260423T073038
CREATED:20240205T162138Z
LAST-MODIFIED:20240205T162138Z
UID:10997-1710959400-1710959400@www.archgm.ca
SUMMARY:Lent Workshop: Basics of our Faith – St. Rita’s\, Valleyview
DESCRIPTION:Workshop will be held every Wednesday of Lent (Feb. 21st-March 20th)\, beginning with Mass at 6:45 pm. Refreshments provided.
URL:https://www.archgm.ca/event/lent-workshop-basics-of-our-faith-st-ritas-valleyview-5/
LOCATION:St. Rita’s\, Valleyview\, Grande Prairie\, AB
CATEGORIES:Events Calendar
END:VEVENT
BEGIN:VEVENT
DTSTART;TZID=America/Edmonton:20240320T190000
DTEND;TZID=America/Edmonton:20240320T190000
DTSTAMP:20260423T073038
CREATED:20240205T161829Z
LAST-MODIFIED:20240205T161829Z
UID:10987-1710961200-1710961200@www.archgm.ca
SUMMARY:Into the Breach - St. Mary's Church\, Beaverlodge
DESCRIPTION:Into The Breach\nThe Knights of Columbus\, Holy Family Council 11495\nof Beaverlodge\, is inviting all men to come and\nexperience a brotherhood of fellow Christian men\,\nthrough a faith filled series by Bishop Olmsted called\n” Into the Breach”\, to help men deepen their\nunderstanding of living a truly masculine life in Christ\nand practice their commitments to this life.\nIt will run for 12 weeks on every Wednesday at 7 pm\nstarting on Feb 21\, 2024\, at St Mary’s Church meeting\nroom in Beaverlodge.
URL:https://www.archgm.ca/event/into-the-breach-st-marys-church-beaverlodge-4/
LOCATION:St. Mary’s Church\, Beaverlodge\, Grande Prairie\, AB
CATEGORIES:Events Calendar
END:VEVENT
BEGIN:VEVENT
DTSTART;TZID=America/Edmonton:20240321T080000
DTEND;TZID=America/Edmonton:20240321T170000
DTSTAMP:20260423T073038
CREATED:20240202T223516Z
LAST-MODIFIED:20240202T223516Z
UID:10951-1711008000-1711040400@www.archgm.ca
SUMMARY:Curia Meeting - Chancery Office\, Grande Prairie
DESCRIPTION:
URL:https://www.archgm.ca/event/curia-meeting-chancery-office-grande-prairie-10/
LOCATION:Chancery Office\, Grande Prairie\, Grande Prairie\, AB
CATEGORIES:Archbishop’s Calendar,Events Calendar
END:VEVENT
BEGIN:VEVENT
DTSTART;TZID=America/Edmonton:20240321T183000
DTEND;TZID=America/Edmonton:20240321T183000
DTSTAMP:20260423T073038
CREATED:20240229T160043Z
LAST-MODIFIED:20240229T160043Z
UID:11207-1711045800-1711045800@www.archgm.ca
SUMMARY:Way of the Cross - St. Peter & Paul Church\, Rycroft
DESCRIPTION:Beginning at 6:40 pm every Thursday of Lent
URL:https://www.archgm.ca/event/way-of-the-cross-st-peter-paul-church-rycroft/
LOCATION:St. Peter and Paul Church\, Rycroft\, Grande Prairie\, AB
CATEGORIES:Events Calendar
END:VEVENT
BEGIN:VEVENT
DTSTART;TZID=America/Edmonton:20240321T190000
DTEND;TZID=America/Edmonton:20240321T190000
DTSTAMP:20260423T073038
CREATED:20240223T151204Z
LAST-MODIFIED:20240223T151204Z
UID:11162-1711047600-1711047600@www.archgm.ca
SUMMARY:Knights of Columbus Meeting - Our Lady of Peace\, Peace River
DESCRIPTION:
URL:https://www.archgm.ca/event/knights-of-columbus-meeting-our-lady-of-peace-peace-river/
LOCATION:Our Lady of Peace Church\, Peace River\, Grande Prairie\, AB
CATEGORIES:Events Calendar
END:VEVENT
END:VCALENDAR