BEGIN:VCALENDAR
VERSION:2.0
PRODID:-//Catholic Archdiocese of Grouard-McLennan - ECPv6.15.20//NONSGML v1.0//EN
CALSCALE:GREGORIAN
METHOD:PUBLISH
X-ORIGINAL-URL:https://www.archgm.ca
X-WR-CALDESC:Events for Catholic Archdiocese of Grouard-McLennan
REFRESH-INTERVAL;VALUE=DURATION:PT1H
X-Robots-Tag:noindex
X-PUBLISHED-TTL:PT1H
BEGIN:VTIMEZONE
TZID:America/Edmonton
BEGIN:DAYLIGHT
TZOFFSETFROM:-0700
TZOFFSETTO:-0600
TZNAME:MDT
DTSTART:20230312T090000
END:DAYLIGHT
BEGIN:STANDARD
TZOFFSETFROM:-0600
TZOFFSETTO:-0700
TZNAME:MST
DTSTART:20231105T080000
END:STANDARD
BEGIN:DAYLIGHT
TZOFFSETFROM:-0700
TZOFFSETTO:-0600
TZNAME:MDT
DTSTART:20240310T090000
END:DAYLIGHT
BEGIN:STANDARD
TZOFFSETFROM:-0600
TZOFFSETTO:-0700
TZNAME:MST
DTSTART:20241103T080000
END:STANDARD
BEGIN:DAYLIGHT
TZOFFSETFROM:-0700
TZOFFSETTO:-0600
TZNAME:MDT
DTSTART:20250309T090000
END:DAYLIGHT
BEGIN:STANDARD
TZOFFSETFROM:-0600
TZOFFSETTO:-0700
TZNAME:MST
DTSTART:20251102T080000
END:STANDARD
END:VTIMEZONE
BEGIN:VEVENT
DTSTART;TZID=America/Edmonton:20240512T090000
DTEND;TZID=America/Edmonton:20240512T090000
DTSTAMP:20260425T051832
CREATED:20240429T172839Z
LAST-MODIFIED:20240429T172839Z
UID:11548-1715504400-1715504400@www.archgm.ca
SUMMARY:Symbolon - Our Lady of Peace\, Peace River
DESCRIPTION:
URL:https://www.archgm.ca/event/symbolon-our-lady-of-peace-peace-river-2/
LOCATION:Our Lady of Peace Church\, Peace River\, Grande Prairie\, AB
CATEGORIES:Events Calendar
END:VEVENT
BEGIN:VEVENT
DTSTART;TZID=America/Edmonton:20240512T110000
DTEND;TZID=America/Edmonton:20240512T110000
DTSTAMP:20260425T051832
CREATED:20240507T142300Z
LAST-MODIFIED:20240507T142300Z
UID:11668-1715511600-1715511600@www.archgm.ca
SUMMARY:First Communion - St. Peter Celestin\, Slave Lake
DESCRIPTION:
URL:https://www.archgm.ca/event/first-communion-st-peter-celestin-slave-lake/
LOCATION:St. Peter Celestin\, Slave Lake\, Grande Prairie\, AB
CATEGORIES:Events Calendar
END:VEVENT
BEGIN:VEVENT
DTSTART;TZID=America/Edmonton:20240512T150000
DTEND;TZID=America/Edmonton:20240512T160000
DTSTAMP:20260425T051832
CREATED:20240429T175410Z
LAST-MODIFIED:20240429T175410Z
UID:11596-1715526000-1715529600@www.archgm.ca
SUMMARY:Christian Meditation Course - St. Joseph Church\, Grande Prairie
DESCRIPTION:Christian Meditation Course – St. Joseph Church\, Grande Prairie \nChristian Meditation course to introduce interested newcomers to this form of prayer. Sundays until May 26\, from 3 – 4 pm in the chapel and will run for 6 weeks. Meditation is central to the Christian experience and is deeply rooted in Christian tradition. It is a prayer of silence and listening\, also known as contemplative prayer. Email Mia\, miklge@telus.net for more information. No charge.
URL:https://www.archgm.ca/event/christian-meditation-course-st-joseph-church-grande-prairie-2/
LOCATION:St. Joseph’s Church\, Grande Prairie\, Grande Prairie\, AB
CATEGORIES:Events Calendar
END:VEVENT
BEGIN:VEVENT
DTSTART;TZID=America/Edmonton:20240514T170000
DTEND;TZID=America/Edmonton:20240514T170000
DTSTAMP:20260425T051832
CREATED:20240429T170536Z
LAST-MODIFIED:20240429T170536Z
UID:11513-1715706000-1715706000@www.archgm.ca
SUMMARY:Parish Pastoral Council Meeting - St. Mary's\, Beaverlodge
DESCRIPTION:
URL:https://www.archgm.ca/event/parish-pastoral-council-meeting-st-marys-beaverlodge-2/
LOCATION:St. Mary’s Church\, Beaverlodge\, Grande Prairie\, AB
CATEGORIES:Events Calendar
END:VEVENT
BEGIN:VEVENT
DTSTART;TZID=America/Edmonton:20240515T183000
DTEND;TZID=America/Edmonton:20240515T183000
DTSTAMP:20260425T051832
CREATED:20240429T173632Z
LAST-MODIFIED:20240429T173632Z
UID:11566-1715797800-1715797800@www.archgm.ca
SUMMARY:Prayers to Our Lady of Perpetual Help - Our Lady of Good Counsel\, High Level
DESCRIPTION:Prayers to Our Lady of Perpetual Help – Our Lady of Good Counsel\, High Level\nBefore Mass every Wednesday at 6:40 pm
URL:https://www.archgm.ca/event/prayers-to-our-lady-of-perpetual-help-our-lady-of-good-counsel-high-level-2/
LOCATION:Our Lady of Good Counsel\, High Level\, Grande Prairie\, AB
CATEGORIES:Events Calendar
END:VEVENT
BEGIN:VEVENT
DTSTART;TZID=America/Edmonton:20240515T190000
DTEND;TZID=America/Edmonton:20240515T190000
DTSTAMP:20260425T051832
CREATED:20240501T163051Z
LAST-MODIFIED:20240501T163051Z
UID:11637-1715799600-1715799600@www.archgm.ca
SUMMARY:Faith Formation Committee Meeting - Online
DESCRIPTION:
URL:https://www.archgm.ca/event/faith-formation-committee-meeting-online/
LOCATION:Online\, Grande Prairie\, AB
CATEGORIES:Archbishop’s Calendar,Events Calendar
END:VEVENT
BEGIN:VEVENT
DTSTART;TZID=America/Edmonton:20240516T180000
DTEND;TZID=America/Edmonton:20240516T180000
DTSTAMP:20260425T051832
CREATED:20240429T173858Z
LAST-MODIFIED:20240429T173858Z
UID:11576-1715882400-1715882400@www.archgm.ca
SUMMARY:Eucharistic Adoration - Our Lady of Good Counsel\, High Level
DESCRIPTION:
URL:https://www.archgm.ca/event/eucharistic-adoration-our-lady-of-good-counsel-high-level-3/
LOCATION:Our Lady of Good Counsel\, High Level\, Grande Prairie\, AB
CATEGORIES:Events Calendar
END:VEVENT
BEGIN:VEVENT
DTSTART;TZID=America/Edmonton:20240516T193000
DTEND;TZID=America/Edmonton:20240516T193000
DTSTAMP:20260425T051832
CREATED:20240429T174600Z
LAST-MODIFIED:20240429T174600Z
UID:11586-1715887800-1715887800@www.archgm.ca
SUMMARY:Prayers for Healing - St. Joseph Church\, Grande Prairie
DESCRIPTION:After 7pm Mass\, May 16th
URL:https://www.archgm.ca/event/prayers-for-healing-st-joseph-church-grande-prairie-4/
LOCATION:St. Joseph’s Church\, Grande Prairie\, Grande Prairie\, AB
CATEGORIES:Events Calendar
END:VEVENT
BEGIN:VEVENT
DTSTART;TZID=America/Edmonton:20240517T190000
DTEND;TZID=America/Edmonton:20240517T190000
DTSTAMP:20260425T051832
CREATED:20240429T174334Z
LAST-MODIFIED:20240429T174334Z
UID:11582-1715972400-1715972400@www.archgm.ca
SUMMARY:Adoration - St. Joseph Church\, Grande Prairie
DESCRIPTION:
URL:https://www.archgm.ca/event/adoration-st-joseph-church-grande-prairie-2/
LOCATION:St. Joseph’s Church\, Grande Prairie\, Grande Prairie\, AB
CATEGORIES:Events Calendar
END:VEVENT
BEGIN:VEVENT
DTSTART;TZID=America/Edmonton:20240517T190000
DTEND;TZID=America/Edmonton:20240517T203000
DTSTAMP:20260425T051832
CREATED:20240429T174655Z
LAST-MODIFIED:20240429T174655Z
UID:11588-1715972400-1715977800@www.archgm.ca
SUMMARY:EDGE - St. Joseph Church\, Grande Prairie
DESCRIPTION:Grades 7-9 welcome to join us to grow in friendship with each other and God. Tons of games\, snacks & fun. 1st & 3rd Fridays from 7-8:30pm in SJPII Room
URL:https://www.archgm.ca/event/edge-st-joseph-church-grande-prairie-4/
LOCATION:St. Joseph’s Church\, Grande Prairie\, Grande Prairie\, AB
CATEGORIES:Events Calendar
END:VEVENT
BEGIN:VEVENT
DTSTART;TZID=America/Edmonton:20240518T140000
DTEND;TZID=America/Edmonton:20240518T140000
DTSTAMP:20260425T051832
CREATED:20240429T170815Z
LAST-MODIFIED:20240429T170815Z
UID:11519-1716040800-1716040800@www.archgm.ca
SUMMARY:Knights of Columbus Meeting - St. Mary's\, Beaverlodge
DESCRIPTION:
URL:https://www.archgm.ca/event/knights-of-columbus-meeting-st-marys-beaverlodge-3/
LOCATION:St. Mary’s Church\, Beaverlodge\, Grande Prairie\, AB
CATEGORIES:Events Calendar
END:VEVENT
BEGIN:VEVENT
DTSTART;TZID=America/Edmonton:20240518T150000
DTEND;TZID=America/Edmonton:20240518T170000
DTSTAMP:20260425T051832
CREATED:20240429T173411Z
LAST-MODIFIED:20240429T173411Z
UID:11558-1716044400-1716051600@www.archgm.ca
SUMMARY:Choir Practice – Our Lady of Good Counsel\, High Level
DESCRIPTION:
URL:https://www.archgm.ca/event/choir-practice-our-lady-of-good-counsel-high-level-4/
LOCATION:Our Lady of Good Counsel\, High Level\, Grande Prairie\, AB
CATEGORIES:Events Calendar
END:VEVENT
BEGIN:VEVENT
DTSTART;TZID=America/Edmonton:20240518T150000
DTEND;TZID=America/Edmonton:20240518T170000
DTSTAMP:20260425T051832
CREATED:20240429T173435Z
LAST-MODIFIED:20240429T173435Z
UID:11560-1716044400-1716051600@www.archgm.ca
SUMMARY:Choir Practice – Our Lady of Good Counsel\, High Level
DESCRIPTION:
URL:https://www.archgm.ca/event/choir-practice-our-lady-of-good-counsel-high-level-5/
LOCATION:Our Lady of Good Counsel\, High Level\, Grande Prairie\, AB
CATEGORIES:Events Calendar
END:VEVENT
BEGIN:VEVENT
DTSTART;TZID=America/Edmonton:20240518T173000
DTEND;TZID=America/Edmonton:20240518T220000
DTSTAMP:20260425T051832
CREATED:20240429T174745Z
LAST-MODIFIED:20240429T174745Z
UID:11590-1716053400-1716069600@www.archgm.ca
SUMMARY:Youth Choir & High School Youth Group - St. Joseph Church\, Grande Prairie
DESCRIPTION:
URL:https://www.archgm.ca/event/youth-choir-high-school-youth-group-st-joseph-church-grande-prairie-3/
LOCATION:St. Joseph’s Church\, Grande Prairie\, Grande Prairie\, AB
CATEGORIES:Events Calendar
END:VEVENT
BEGIN:VEVENT
DTSTART;TZID=America/Edmonton:20240519T150000
DTEND;TZID=America/Edmonton:20240519T160000
DTSTAMP:20260425T051832
CREATED:20240429T175445Z
LAST-MODIFIED:20240429T175445Z
UID:11598-1716130800-1716134400@www.archgm.ca
SUMMARY:Christian Meditation Course - St. Joseph Church\, Grande Prairie
DESCRIPTION:Christian Meditation Course – St. Joseph Church\, Grande Prairie \nChristian Meditation course to introduce interested newcomers to this form of prayer. Sundays until May 26\, from 3 – 4 pm in the chapel and will run for 6 weeks. Meditation is central to the Christian experience and is deeply rooted in Christian tradition. It is a prayer of silence and listening\, also known as contemplative prayer. Email Mia\, miklge@telus.net for more information. No charge.
URL:https://www.archgm.ca/event/christian-meditation-course-st-joseph-church-grande-prairie-3/
LOCATION:St. Joseph’s Church\, Grande Prairie\, Grande Prairie\, AB
CATEGORIES:Events Calendar
END:VEVENT
BEGIN:VEVENT
DTSTART;TZID=America/Edmonton:20240519T160000
DTEND;TZID=America/Edmonton:20240519T170000
DTSTAMP:20260425T051832
CREATED:20240507T142340Z
LAST-MODIFIED:20240507T142340Z
UID:11670-1716134400-1716138000@www.archgm.ca
SUMMARY:Youth Group Meeting - St. Peter Celestin\, Slave Lake
DESCRIPTION:
URL:https://www.archgm.ca/event/youth-group-meeting-st-peter-celestin-slave-lake/
LOCATION:St. Peter Celestin\, Slave Lake\, Grande Prairie\, AB
CATEGORIES:Events Calendar
END:VEVENT
BEGIN:VEVENT
DTSTART;TZID=America/Edmonton:20240522T183000
DTEND;TZID=America/Edmonton:20240522T183000
DTSTAMP:20260425T051832
CREATED:20240429T173659Z
LAST-MODIFIED:20240429T173659Z
UID:11568-1716402600-1716402600@www.archgm.ca
SUMMARY:Prayers to Our Lady of Perpetual Help - Our Lady of Good Counsel\, High Level
DESCRIPTION:Prayers to Our Lady of Perpetual Help – Our Lady of Good Counsel\, High Level\nBefore Mass every Wednesday at 6:40 pm
URL:https://www.archgm.ca/event/prayers-to-our-lady-of-perpetual-help-our-lady-of-good-counsel-high-level-3/
LOCATION:Our Lady of Good Counsel\, High Level\, Grande Prairie\, AB
CATEGORIES:Events Calendar
END:VEVENT
BEGIN:VEVENT
DTSTART;TZID=America/Edmonton:20240523T180000
DTEND;TZID=America/Edmonton:20240523T180000
DTSTAMP:20260425T051832
CREATED:20240429T173920Z
LAST-MODIFIED:20240429T173920Z
UID:11578-1716487200-1716487200@www.archgm.ca
SUMMARY:Eucharistic Adoration - Our Lady of Good Counsel\, High Level
DESCRIPTION:
URL:https://www.archgm.ca/event/eucharistic-adoration-our-lady-of-good-counsel-high-level-4/
LOCATION:Our Lady of Good Counsel\, High Level\, Grande Prairie\, AB
CATEGORIES:Events Calendar
END:VEVENT
BEGIN:VEVENT
DTSTART;TZID=America/Edmonton:20240523T190000
DTEND;TZID=America/Edmonton:20240523T190000
DTSTAMP:20260425T051832
CREATED:20240429T201428Z
LAST-MODIFIED:20240429T201428Z
UID:11606-1716490800-1716490800@www.archgm.ca
SUMMARY:General Cemetery Cleanup - St. James the Major\, Manning
DESCRIPTION:Over the summer Sacred Heart cemetery needs to be cleaned approximately every two weeks.\n\n\nAt the back of the church is a sign-up sheet– please consider volunteering to head up a group\, organizing family\, friends\, and community members. If you have concerns re: the mowing of the big part\, a list will be provided of volunteers who have the equipment to do the big mow.\n\n\nThis is a time when we can honour loved ones by cleaning their place of rest. On May 23rd @ 7:00 pm we will be doing a general cemetery cleanup by parish and community members.\n\n\nCookies and refreshments will be provided at the cemetery after\nthis clean up. Thank you for volunteering!
URL:https://www.archgm.ca/event/general-cemetery-cleanup-st-james-the-major-manning/
LOCATION:St. James the Major\, Manning\, Grande Prairie\, AB
CATEGORIES:Events Calendar
END:VEVENT
BEGIN:VEVENT
DTSTART;TZID=America/Edmonton:20240525T090000
DTEND;TZID=America/Edmonton:20240525T120000
DTSTAMP:20260425T051832
CREATED:20240429T171652Z
LAST-MODIFIED:20240429T171652Z
UID:11534-1716627600-1716638400@www.archgm.ca
SUMMARY:Roadside Clean-up Fundraiser (CWL) - St. Mary's Church\, Beaverlodge
DESCRIPTION:Roadside Clean-up Fundraisers\nWe are pleased to announce that St. Mary’s Church\,\nCWL and the K of C have all been selected for the\n2024 roadside cleanup program!\nWhen: K of C on Saturday\, May 4\nSt. Mary’s Church on Saturday\, May 11\nCWL date Saturday\, May 25\nAll groups will meet at 9am at St. Mary’s Church for\nmaps\, instructions\, and necessary items.\n*Please find the sign-up sheets located in the foyer of\nthe Church.
URL:https://www.archgm.ca/event/roadside-clean-up-fundraiser-cwl-st-marys-church-beaverlodge/
LOCATION:St. Mary’s Church\, Beaverlodge\, Grande Prairie\, AB
CATEGORIES:Events Calendar
END:VEVENT
BEGIN:VEVENT
DTSTART;TZID=America/Edmonton:20240525T093000
DTEND;TZID=America/Edmonton:20240525T130000
DTSTAMP:20260425T051832
CREATED:20240429T164743Z
LAST-MODIFIED:20240429T164743Z
UID:11495-1716629400-1716642000@www.archgm.ca
SUMMARY:Pastoral Planning Workshop: Deanery 1 - St. John the Baptist\, McLennan
DESCRIPTION:OEC workshop for developing a five-year parish plan for staff and leaders. \nThe workshop for Deanery 1 is held at St. John the Baptist Cathedral in McLennan. Please register here. \n 
URL:https://www.archgm.ca/event/pastoral-planning-workshop-deanery-1-st-john-the-baptist-mclennan/
LOCATION:St. John the Baptist Cathedral\, McLennan\, Grande Prairie\, AB
CATEGORIES:Events Calendar
END:VEVENT
BEGIN:VEVENT
DTSTART;TZID=America/Edmonton:20240525T150000
DTEND;TZID=America/Edmonton:20240525T170000
DTSTAMP:20260425T051832
CREATED:20240429T173455Z
LAST-MODIFIED:20240429T173455Z
UID:11562-1716649200-1716656400@www.archgm.ca
SUMMARY:Choir Practice – Our Lady of Good Counsel\, High Level
DESCRIPTION:
URL:https://www.archgm.ca/event/choir-practice-our-lady-of-good-counsel-high-level-6/
LOCATION:Our Lady of Good Counsel\, High Level\, Grande Prairie\, AB
CATEGORIES:Events Calendar
END:VEVENT
BEGIN:VEVENT
DTSTART;TZID=America/Edmonton:20240526T110000
DTEND;TZID=America/Edmonton:20240526T110000
DTSTAMP:20260425T051832
CREATED:20240429T172717Z
LAST-MODIFIED:20240429T172717Z
UID:11544-1716721200-1716721200@www.archgm.ca
SUMMARY:First Eucharist Celebration - Our Lady of Peace\, Peace River
DESCRIPTION:
URL:https://www.archgm.ca/event/first-eucharist-celebration-our-lady-of-peace-peace-river/
LOCATION:Our Lady of Peace Church\, Peace River\, Grande Prairie\, AB
CATEGORIES:Events Calendar
END:VEVENT
BEGIN:VEVENT
DTSTART;TZID=America/Edmonton:20240526T150000
DTEND;TZID=America/Edmonton:20240526T160000
DTSTAMP:20260425T051832
CREATED:20240429T175511Z
LAST-MODIFIED:20240429T175511Z
UID:11600-1716735600-1716739200@www.archgm.ca
SUMMARY:Christian Meditation Course - St. Joseph Church\, Grande Prairie
DESCRIPTION:Christian Meditation Course – St. Joseph Church\, Grande Prairie \nChristian Meditation course to introduce interested newcomers to this form of prayer. Sundays until May 26\, from 3 – 4 pm in the chapel and will run for 6 weeks. Meditation is central to the Christian experience and is deeply rooted in Christian tradition. It is a prayer of silence and listening\, also known as contemplative prayer. Email Mia\, miklge@telus.net for more information. No charge.
URL:https://www.archgm.ca/event/christian-meditation-course-st-joseph-church-grande-prairie-4/
LOCATION:St. Joseph’s Church\, Grande Prairie\, Grande Prairie\, AB
CATEGORIES:Events Calendar
END:VEVENT
BEGIN:VEVENT
DTSTART;TZID=America/Edmonton:20240526T183000
DTEND;TZID=America/Edmonton:20240526T183000
DTSTAMP:20260425T051832
CREATED:20240507T142434Z
LAST-MODIFIED:20240507T142434Z
UID:11672-1716748200-1716748200@www.archgm.ca
SUMMARY:Weekly Bible Study (Begins) - St. Peter Celestin\, Slave Lake
DESCRIPTION:
URL:https://www.archgm.ca/event/weekly-bible-study-begins-st-peter-celestin-slave-lake/
LOCATION:St. Peter Celestin\, Slave Lake\, Grande Prairie\, AB
CATEGORIES:Events Calendar
END:VEVENT
BEGIN:VEVENT
DTSTART;TZID=America/Edmonton:20240527T190000
DTEND;TZID=America/Edmonton:20240527T190000
DTSTAMP:20260425T051832
CREATED:20240529T151948Z
LAST-MODIFIED:20240529T151948Z
UID:11777-1716836400-1716836400@www.archgm.ca
SUMMARY:Parish Ad Hoc Committee Meeting - St. Mary's Church\, Beaverlodge
DESCRIPTION:Parish Ad Hoc Committee Meeting\nMonday\, May 27th at 7:00PM\nSt. Mary’s Church meeting room
URL:https://www.archgm.ca/event/parish-ad-hoc-committee-meeting-st-marys-church-beaverlodge/
LOCATION:St. Mary’s Church\, Beaverlodge\, Grande Prairie\, AB
CATEGORIES:Events Calendar
END:VEVENT
BEGIN:VEVENT
DTSTART;TZID=America/Edmonton:20240529T150000
DTEND;TZID=America/Edmonton:20240529T170000
DTSTAMP:20260425T051832
CREATED:20240529T150724Z
LAST-MODIFIED:20240529T150724Z
UID:11761-1716994800-1717002000@www.archgm.ca
SUMMARY:Children for Christ Club - Our Lady of Good Counsel\, High Level
DESCRIPTION:
URL:https://www.archgm.ca/event/children-for-christ-club-our-lady-of-good-counsel-high-level/
LOCATION:Our Lady of Good Counsel\, High Level\, Grande Prairie\, AB
CATEGORIES:Events Calendar
END:VEVENT
BEGIN:VEVENT
DTSTART;TZID=America/Edmonton:20240529T183000
DTEND;TZID=America/Edmonton:20240529T183000
DTSTAMP:20260425T051832
CREATED:20240429T173727Z
LAST-MODIFIED:20240429T173727Z
UID:11570-1717007400-1717007400@www.archgm.ca
SUMMARY:Prayers to Our Lady of Perpetual Help - Our Lady of Good Counsel\, High Level
DESCRIPTION:Prayers to Our Lady of Perpetual Help – Our Lady of Good Counsel\, High Level\nBefore Mass every Wednesday at 6:40 pm
URL:https://www.archgm.ca/event/prayers-to-our-lady-of-perpetual-help-our-lady-of-good-counsel-high-level-4/
LOCATION:Our Lady of Good Counsel\, High Level\, Grande Prairie\, AB
CATEGORIES:Events Calendar
END:VEVENT
BEGIN:VEVENT
DTSTART;TZID=America/Edmonton:20240530T090000
DTEND;TZID=America/Edmonton:20240530T090000
DTSTAMP:20260425T051832
CREATED:20240529T151832Z
LAST-MODIFIED:20240529T151832Z
UID:11775-1717059600-1717059600@www.archgm.ca
SUMMARY:St. Mary's School Mass - St. Mary's Church\, Beaverlodge
DESCRIPTION:Thursday\, May 30th\n9:00 am\nAll are welcome!
URL:https://www.archgm.ca/event/st-marys-school-mass-st-marys-church-beaverlodge/
LOCATION:St. Mary’s Church\, Beaverlodge\, Grande Prairie\, AB
CATEGORIES:Events Calendar
END:VEVENT
BEGIN:VEVENT
DTSTART;TZID=America/Edmonton:20240530T100000
DTEND;TZID=America/Edmonton:20240530T120000
DTSTAMP:20260425T051832
CREATED:20240429T201518Z
LAST-MODIFIED:20240429T201518Z
UID:11608-1717063200-1717070400@www.archgm.ca
SUMMARY:Church Cleanup and Lunch - St. James the Major\, Manning
DESCRIPTION:St James Church Interior & Window Cleaning Thursday May 30 @ 10 am.\n\n\nOn Thursday May 30th we will be doing a spring cleaning of the inside of our Church. Lunch will be provided. Please consider helping\, it will be greatly appreciated– more hands make less work. It will be a fun\, social work bee!
URL:https://www.archgm.ca/event/church-cleanup-and-lunch-st-james-the-major-manning/
LOCATION:St. James the Major\, Manning\, Grande Prairie\, AB
CATEGORIES:Events Calendar
END:VEVENT
END:VCALENDAR