BEGIN:VCALENDAR
VERSION:2.0
PRODID:-//Catholic Archdiocese of Grouard-McLennan - ECPv6.15.20//NONSGML v1.0//EN
CALSCALE:GREGORIAN
METHOD:PUBLISH
X-WR-CALNAME:Catholic Archdiocese of Grouard-McLennan
X-ORIGINAL-URL:https://www.archgm.ca
X-WR-CALDESC:Events for Catholic Archdiocese of Grouard-McLennan
REFRESH-INTERVAL;VALUE=DURATION:PT1H
X-Robots-Tag:noindex
X-PUBLISHED-TTL:PT1H
BEGIN:VTIMEZONE
TZID:America/Edmonton
BEGIN:DAYLIGHT
TZOFFSETFROM:-0700
TZOFFSETTO:-0600
TZNAME:MDT
DTSTART:20230312T090000
END:DAYLIGHT
BEGIN:STANDARD
TZOFFSETFROM:-0600
TZOFFSETTO:-0700
TZNAME:MST
DTSTART:20231105T080000
END:STANDARD
BEGIN:DAYLIGHT
TZOFFSETFROM:-0700
TZOFFSETTO:-0600
TZNAME:MDT
DTSTART:20240310T090000
END:DAYLIGHT
BEGIN:STANDARD
TZOFFSETFROM:-0600
TZOFFSETTO:-0700
TZNAME:MST
DTSTART:20241103T080000
END:STANDARD
BEGIN:DAYLIGHT
TZOFFSETFROM:-0700
TZOFFSETTO:-0600
TZNAME:MDT
DTSTART:20250309T090000
END:DAYLIGHT
BEGIN:STANDARD
TZOFFSETFROM:-0600
TZOFFSETTO:-0700
TZNAME:MST
DTSTART:20251102T080000
END:STANDARD
END:VTIMEZONE
BEGIN:VEVENT
DTSTART;TZID=America/Edmonton:20240222T173000
DTEND;TZID=America/Edmonton:20240222T173000
DTSTAMP:20260423T041504
CREATED:20240223T151105Z
LAST-MODIFIED:20240223T151105Z
UID:11160-1708623000-1708623000@www.archgm.ca
SUMMARY:Liturgy Committee - Our Lady of Peace\, Peace River
DESCRIPTION:Meeting                  THURSDAY\, February 22\, 5:30 PM                Our Lady of Peace Meeting Room
URL:https://www.archgm.ca/event/liturgy-committee-our-lady-of-peace-peace-river/
LOCATION:Our Lady of Peace Church\, Peace River\, Grande Prairie\, AB
CATEGORIES:Events Calendar
END:VEVENT
BEGIN:VEVENT
DTSTART;TZID=America/Edmonton:20240222T190000
DTEND;TZID=America/Edmonton:20240222T203000
DTSTAMP:20260423T041504
CREATED:20240205T202810Z
LAST-MODIFIED:20240205T202810Z
UID:11043-1708628400-1708633800@www.archgm.ca
SUMMARY:SALT (Sharing And Learning Together) - St. Joseph Church\, Grande Prairie
DESCRIPTION:“SALT is a youth group for kids grade 3-6. We meet the 2nd and 4th Thursdays of the month in the SJPII Room\, upstairs on the office side of the Church. We play\, pray\, enjoy fellowship\, food and make new friends!! Everyone welcome!!”
URL:https://www.archgm.ca/event/salt-sharing-and-learning-together-st-joseph-church-grande-prairie-4/
LOCATION:St. Joseph’s Church\, Grande Prairie\, Grande Prairie\, AB
CATEGORIES:Events Calendar
END:VEVENT
BEGIN:VEVENT
DTSTART;TZID=America/Edmonton:20240223T173000
DTEND;TZID=America/Edmonton:20240223T173000
DTSTAMP:20260423T041504
CREATED:20240205T202507Z
LAST-MODIFIED:20240205T202507Z
UID:11033-1708709400-1708709400@www.archgm.ca
SUMMARY:Lenten Supper & Stations of the Cross - St. Joseph Church\, Grande Prairie
DESCRIPTION:Join us for a Lenten meal in Tranquille Hall (provided by the CWL)\, a short presentation provided by the Social Justice committee\, and praying the Stations of the Cross in the church.
URL:https://www.archgm.ca/event/lenten-supper-stations-of-the-cross-st-joseph-church-grande-prairie-2/
LOCATION:St. Joseph’s Church\, Grande Prairie\, Grande Prairie\, AB
CATEGORIES:Events Calendar
END:VEVENT
BEGIN:VEVENT
DTSTART;TZID=America/Edmonton:20240223T180000
DTEND;TZID=America/Edmonton:20240223T180000
DTSTAMP:20260423T041504
CREATED:20240131T224727Z
LAST-MODIFIED:20240131T224727Z
UID:10904-1708711200-1708711200@www.archgm.ca
SUMMARY:Soup and Stations of the Cross - St. Mary's\, Beaverlodge
DESCRIPTION:Soup and Stations of the Cross – St. Mary’s\, Beaverlodge \nEvery Friday during lent beginning at 6pm with a Lenten meal in the church hall followed by the Stations of the Cross in the Church Nave. Please note *March 1 Soup and Stations will begin at 5pm
URL:https://www.archgm.ca/event/soup-and-stations-of-the-cross-st-marys-beaverlodge-2/
LOCATION:St. Mary’s Church\, Beaverlodge\, Grande Prairie\, AB
CATEGORIES:Events Calendar
END:VEVENT
BEGIN:VEVENT
DTSTART;TZID=America/Edmonton:20240224T093000
DTEND;TZID=America/Edmonton:20240224T123000
DTSTAMP:20260423T041504
CREATED:20240205T161159Z
LAST-MODIFIED:20240207T201637Z
UID:10979-1708767000-1708777800@www.archgm.ca
SUMMARY:Divine Renovation: Pastoral Planning Workshop - St. Joseph Church\, Grande Prairie
DESCRIPTION:Divine Renovation Part 1:\nPastoral Planning Workshop Developing\nSaturday Feb 24\, 2024.\nFor Parish Staff and Leaders\, Pastors\, PPC members\,\nPastoral Interns\, Pastoral /Ministry Volunteers.\nVenue: St. Joseph’s Church\, GP – Tranquille Hall\nDate & Time: February 24 9:45 AM to 12:45 PM \n  \nRegister here.
URL:https://www.archgm.ca/event/divine-renovation-pastoral-planning-workshop-st-joseph-church-grande-prairie/
LOCATION:St. Joseph’s Church\, Grande Prairie\, Grande Prairie\, AB
CATEGORIES:Events Calendar
END:VEVENT
BEGIN:VEVENT
DTSTART;TZID=America/Edmonton:20240224T190000
DTEND;TZID=America/Edmonton:20240224T190000
DTSTAMP:20260423T041504
CREATED:20240205T203211Z
LAST-MODIFIED:20240205T203211Z
UID:11047-1708801200-1708801200@www.archgm.ca
SUMMARY:Installation of Pastor - St. Francois Xavier Church\, Eaglesham
DESCRIPTION:Installation of new pastor Rev. Hansel Nwachukwouji\, SMMM serving Girouxville\, Eaglesham and Tangent church communities \nMass and installation will be celebrated by Archbishop Pettipas
URL:https://www.archgm.ca/event/installation-of-pastor-st-francois-xavier-church-eaglesham/
LOCATION:AB
CATEGORIES:Archbishop’s Calendar,Events Calendar
END:VEVENT
BEGIN:VEVENT
DTSTART;TZID=America/Edmonton:20240225T110000
DTEND;TZID=America/Edmonton:20240225T110000
DTSTAMP:20260423T041504
CREATED:20240202T215536Z
LAST-MODIFIED:20240202T215536Z
UID:10936-1708858800-1708858800@www.archgm.ca
SUMMARY:Installation of Pastor - Notre Dame de Lourdes\, Girouxville
DESCRIPTION:Installation of new pastor Rev. Hansel Nwachukwouji\, SMMM serving Girouxville\, Eaglesham and Tangent church communities \nMass and installation will be celebrated by Archbishop Pettipas
URL:https://www.archgm.ca/event/installation-of-pastor-notre-dame-de-lourdes-girouxville/
LOCATION:Our Lady of Lourdes Church\, Girouxville\, Grande Prairie\, AB
CATEGORIES:Events Calendar
END:VEVENT
BEGIN:VEVENT
DTSTART;TZID=America/Edmonton:20240225T133000
DTEND;TZID=America/Edmonton:20240225T160000
DTSTAMP:20260423T041504
CREATED:20240205T202936Z
LAST-MODIFIED:20240205T202936Z
UID:11045-1708867800-1708876800@www.archgm.ca
SUMMARY:First Reconciliation Celebrations - St. Joseph Church\, Grande Prairie
DESCRIPTION:There are two separate time slots for your child to receive their first Reconciliation. Children will be asked to come for their First Reconciliation depending on where they were prepared. Assigned times for schools are TBA.
URL:https://www.archgm.ca/event/first-reconciliation-celebrations-st-joseph-church-grande-prairie/
LOCATION:St. Joseph’s Church\, Grande Prairie\, Grande Prairie\, AB
CATEGORIES:Events Calendar
END:VEVENT
BEGIN:VEVENT
DTSTART;TZID=America/Edmonton:20240225T170000
DTEND;TZID=America/Edmonton:20240225T170000
DTSTAMP:20260423T041504
CREATED:20240215T225502Z
LAST-MODIFIED:20240215T225502Z
UID:11109-1708880400-1708880400@www.archgm.ca
SUMMARY:Knights of Columbus Annual Supper - St. Mary's\, Beaverlodge
DESCRIPTION:
URL:https://www.archgm.ca/event/knights-of-columbus-annual-supper-st-marys-beaverlodge/
LOCATION:St. Mary’s Church\, Beaverlodge\, Grande Prairie\, AB
CATEGORIES:Events Calendar
END:VEVENT
BEGIN:VEVENT
DTSTART;TZID=America/Edmonton:20240225T173000
DTEND;TZID=America/Edmonton:20240225T173000
DTSTAMP:20260423T041504
CREATED:20240122T165016Z
LAST-MODIFIED:20240122T165016Z
UID:10849-1708882200-1708882200@www.archgm.ca
SUMMARY:Parish AGM - St. Rita's\, Valleyview
DESCRIPTION:Time TBA. Please contact the parish
URL:https://www.archgm.ca/event/parish-agm-st-ritas-valleyview/
LOCATION:St. Rita’s\, Valleyview\, Grande Prairie\, AB
CATEGORIES:Events Calendar
END:VEVENT
BEGIN:VEVENT
DTSTART;TZID=America/Edmonton:20240228T093000
DTEND;TZID=America/Edmonton:20240228T110000
DTSTAMP:20260423T041504
CREATED:20240205T201843Z
LAST-MODIFIED:20240205T201843Z
UID:11023-1709112600-1709118000@www.archgm.ca
SUMMARY:Ladies Bible Study – St. Joseph Church\, Grande Prairie
DESCRIPTION:
URL:https://www.archgm.ca/event/ladies-bible-study-st-joseph-church-grande-prairie-15/
LOCATION:St. Joseph’s Church\, Grande Prairie\, Grande Prairie\, AB
CATEGORIES:Events Calendar
END:VEVENT
BEGIN:VEVENT
DTSTART;TZID=America/Edmonton:20240228T183000
DTEND;TZID=America/Edmonton:20240228T183000
DTSTAMP:20260423T041504
CREATED:20240205T162008Z
LAST-MODIFIED:20240205T162008Z
UID:10991-1709145000-1709145000@www.archgm.ca
SUMMARY:Lent Workshop: Basics of our Faith – St. Rita’s\, Valleyview
DESCRIPTION:Workshop will be held every Wednesday of Lent (Feb. 21st-March 20th)\, beginning with Mass at 6:45 pm. Refreshments provided.
URL:https://www.archgm.ca/event/lent-workshop-basics-of-our-faith-st-ritas-valleyview-2/
LOCATION:St. Rita’s\, Valleyview\, Grande Prairie\, AB
CATEGORIES:Events Calendar
END:VEVENT
BEGIN:VEVENT
DTSTART;TZID=America/Edmonton:20240228T190000
DTEND;TZID=America/Edmonton:20240228T190000
DTSTAMP:20260423T041504
CREATED:20240205T161515Z
LAST-MODIFIED:20240205T161647Z
UID:10981-1709146800-1709146800@www.archgm.ca
SUMMARY:Into the Breach - St. Mary's Church\, Beaverlodge
DESCRIPTION:Into The Breach\nThe Knights of Columbus\, Holy Family Council 11495\nof Beaverlodge\, is inviting all men to come and\nexperience a brotherhood of fellow Christian men\,\nthrough a faith filled series by Bishop Olmsted called\n” Into the Breach”\, to help men deepen their\nunderstanding of living a truly masculine life in Christ\nand practice their commitments to this life.\nIt will run for 12 weeks on every Wednesday at 7 pm\nstarting on Feb 21\, 2024\, at St Mary’s Church meeting\nroom in Beaverlodge.
URL:https://www.archgm.ca/event/into-the-breach-st-marys-church-beaverlodge/
LOCATION:St. Mary’s Church\, Beaverlodge\, Grande Prairie\, AB
CATEGORIES:Events Calendar
END:VEVENT
BEGIN:VEVENT
DTSTART;TZID=America/Edmonton:20240229T090000
DTEND;TZID=America/Edmonton:20240229T170000
DTSTAMP:20260423T041504
CREATED:20231214T212400Z
LAST-MODIFIED:20231214T212400Z
UID:10634-1709197200-1709226000@www.archgm.ca
SUMMARY:Curia Meeting – Chancery Office\, Grande Prairie
DESCRIPTION:
URL:https://www.archgm.ca/event/curia-meeting-chancery-office-grande-prairie-9/
LOCATION:Chancery Office\, Grande Prairie\, Grande Prairie\, AB
CATEGORIES:Archbishop’s Calendar,Events Calendar
END:VEVENT
BEGIN:VEVENT
DTSTART;TZID=America/Edmonton:20240229T183000
DTEND;TZID=America/Edmonton:20240229T183000
DTSTAMP:20260423T041504
CREATED:20240229T155701Z
LAST-MODIFIED:20240229T160147Z
UID:11199-1709231400-1709231400@www.archgm.ca
SUMMARY:Way of the Cross - St. Peter & Paul Church\, Rycroft
DESCRIPTION:Beginning at 6:40 pm every Thursday of Lent
URL:https://www.archgm.ca/event/way-of-the-cross-st-peter-paul-church-spirit-river/
LOCATION:St. Peter and Paul Church\, Rycroft\, Grande Prairie\, AB
CATEGORIES:Events Calendar
END:VEVENT
BEGIN:VEVENT
DTSTART;TZID=America/Edmonton:20240301T090000
DTEND;TZID=America/Edmonton:20240301T090000
DTSTAMP:20260423T041504
CREATED:20240202T215643Z
LAST-MODIFIED:20240202T215643Z
UID:10938-1709283600-1709283600@www.archgm.ca
SUMMARY:Archbishop Meeting with Ecole Heritage\, Falher
DESCRIPTION:
URL:https://www.archgm.ca/event/archbishop-meeting-with-ecole-heritage-falher/
LOCATION:Ecole Heritage\, Falher\, Grande Prairie\, AB
CATEGORIES:Events Calendar
END:VEVENT
BEGIN:VEVENT
DTSTART;TZID=America/Edmonton:20240301T170000
DTEND;TZID=America/Edmonton:20240301T170000
DTSTAMP:20260423T041504
CREATED:20240131T224802Z
LAST-MODIFIED:20240131T224933Z
UID:10906-1709312400-1709312400@www.archgm.ca
SUMMARY:Soup and Stations of the Cross - St. Mary's\, Beaverlodge
DESCRIPTION:Soup and Stations of the Cross – St. Mary’s\, Beaverlodge \nEvery Friday during lent beginning at 6pm with a Lenten meal in the church hall followed by the Stations of the Cross in the Church Nave. Please note *March 1 Soup and Stations will begin at 5pm
URL:https://www.archgm.ca/event/soup-and-stations-of-the-cross-st-marys-beaverlodge-3/
LOCATION:St. Mary’s Church\, Beaverlodge\, Grande Prairie\, AB
CATEGORIES:Events Calendar
END:VEVENT
BEGIN:VEVENT
DTSTART;TZID=America/Edmonton:20240301T170000
DTEND;TZID=America/Edmonton:20240301T170000
DTSTAMP:20260423T041504
CREATED:20240215T225632Z
LAST-MODIFIED:20240215T225632Z
UID:11111-1709312400-1709312400@www.archgm.ca
SUMMARY:Lenten Retreat - St. Mary's\, Beaverlodge
DESCRIPTION:Lenten Retreat with Fr. Ed\nSaturday\, March 9\, 2024\nSt. Mary’s Church\nMore details to follow!
URL:https://www.archgm.ca/event/lenten-retreat-st-marys-beaverlodge/
LOCATION:St. Mary’s Church\, Beaverlodge\, Grande Prairie\, AB
CATEGORIES:Events Calendar
END:VEVENT
BEGIN:VEVENT
DTSTART;TZID=America/Edmonton:20240301T173000
DTEND;TZID=America/Edmonton:20240301T173000
DTSTAMP:20260423T041504
CREATED:20240205T202535Z
LAST-MODIFIED:20240205T202535Z
UID:11035-1709314200-1709314200@www.archgm.ca
SUMMARY:Lenten Supper & Stations of the Cross - St. Joseph Church\, Grande Prairie
DESCRIPTION:Join us for a Lenten meal in Tranquille Hall (provided by the CWL)\, a short presentation provided by the Social Justice committee\, and praying the Stations of the Cross in the church.
URL:https://www.archgm.ca/event/lenten-supper-stations-of-the-cross-st-joseph-church-grande-prairie-3/
LOCATION:St. Joseph’s Church\, Grande Prairie\, Grande Prairie\, AB
CATEGORIES:Events Calendar
END:VEVENT
BEGIN:VEVENT
DTSTART;TZID=America/Edmonton:20240301T190000
DTEND;TZID=America/Edmonton:20240301T190000
DTSTAMP:20260423T041504
CREATED:20240215T225253Z
LAST-MODIFIED:20240215T225253Z
UID:11107-1709319600-1709319600@www.archgm.ca
SUMMARY:World Day of Prayer Service - St. Mary's\, Beaverlodge
DESCRIPTION:WORLD DAY OF PRAYER SERVICE\n“I beg you\, bear with one another in love”\nFor Palestine\nFriday\, March 1st\, 2024\n7:00 PM\nSt. Mary’s Catholic Church
URL:https://www.archgm.ca/event/world-day-of-prayer-service-st-marys-beaverlodge/
LOCATION:St. Mary’s Church\, Beaverlodge\, Grande Prairie\, AB
CATEGORIES:Events Calendar
END:VEVENT
BEGIN:VEVENT
DTSTART;TZID=America/Edmonton:20240302T103000
DTEND;TZID=America/Edmonton:20240302T103000
DTSTAMP:20260423T041504
CREATED:20240205T175220Z
LAST-MODIFIED:20240205T175220Z
UID:10999-1709375400-1709375400@www.archgm.ca
SUMMARY:"Our Father" Retreat - Catholic Conference Centre\, Peace River
DESCRIPTION:
URL:https://www.archgm.ca/event/our-father-retreat-catholic-conference-centre-peace-river/
LOCATION:Catholic Conference Centre\, Peace River\, Grande Prairie\, AB
CATEGORIES:Events Calendar
END:VEVENT
BEGIN:VEVENT
DTSTART;TZID=America/Edmonton:20240302T170000
DTEND;TZID=America/Edmonton:20240302T170000
DTSTAMP:20260423T041504
CREATED:20240212T155828Z
LAST-MODIFIED:20240212T155828Z
UID:11094-1709398800-1709398800@www.archgm.ca
SUMMARY:Loaves for Lent Deadline - Our Lady of Good Counsel\, High Level
DESCRIPTION:Lenten fundraiser for Our Lady of Good Counsel parish in High Level\, running from Feb. 11th-March 2nd. Contact the parish to participate.
URL:https://www.archgm.ca/event/loaves-for-lent-deadline-our-lady-of-good-counsel-high-level/
LOCATION:Our Lady of Good Counsel\, High Level\, Grande Prairie\, AB
CATEGORIES:Events Calendar
END:VEVENT
BEGIN:VEVENT
DTSTART;TZID=America/Edmonton:20240302T190000
DTEND;TZID=America/Edmonton:20240302T193000
DTSTAMP:20260423T041504
CREATED:20240226T212959Z
LAST-MODIFIED:20240226T212959Z
UID:11175-1709406000-1709407800@www.archgm.ca
SUMMARY:Baptism Course - Our Lady of Lourdes\, Girouxville
DESCRIPTION:BAPTISM COURSE\nOur parish will be holding a Baptism\ncourse\, March 2nd at 7:00 pm. In order to receive the sacrament of Baptism\, a Baptismal preparation course\nis needed. If there are families who\nwould like to have their children baptized; please contact the parish
URL:https://www.archgm.ca/event/baptism-course-our-lady-of-lourdes-girouxville/
LOCATION:Paroisse Notre Dame De Lourdes\, Girouxville\, Grande Prairie\, AB
CATEGORIES:Events Calendar
END:VEVENT
BEGIN:VEVENT
DTSTART;TZID=America/Edmonton:20240303T080000
DTEND;TZID=America/Edmonton:20240303T170000
DTSTAMP:20260423T041504
CREATED:20240202T220030Z
LAST-MODIFIED:20240202T220030Z
UID:10941-1709452800-1709485200@www.archgm.ca
SUMMARY:Mass and Confirmations - St. Henry's\, Fort Vermillion
DESCRIPTION:
URL:https://www.archgm.ca/event/mass-and-confirmations-st-henrys-fort-vermillion/
LOCATION:St. Henri’s\, Fort Vermillion\, Grande Prairie\, AB
CATEGORIES:Events Calendar
END:VEVENT
BEGIN:VEVENT
DTSTART;TZID=America/Edmonton:20240303T110000
DTEND;TZID=America/Edmonton:20240303T110000
DTSTAMP:20260423T041504
CREATED:20240131T224427Z
LAST-MODIFIED:20240131T224427Z
UID:10900-1709463600-1709463600@www.archgm.ca
SUMMARY:Youth Mass & Potluck - St. Mary's\, Beaverlodge
DESCRIPTION:
URL:https://www.archgm.ca/event/youth-mass-potluck-st-marys-beaverlodge-4/
LOCATION:St. Mary’s Church\, Beaverlodge\, Grande Prairie\, AB
CATEGORIES:Events Calendar
END:VEVENT
BEGIN:VEVENT
DTSTART;TZID=America/Edmonton:20240304T070000
DTEND;TZID=America/Edmonton:20240304T070000
DTSTAMP:20260423T041504
CREATED:20240202T220249Z
LAST-MODIFIED:20240202T220249Z
UID:10947-1709535600-1709535600@www.archgm.ca
SUMMARY:Archbishop Meeting with Cursillo Group
DESCRIPTION:
URL:https://www.archgm.ca/event/archbishop-meeting-with-cursillo-group-2/
LOCATION:St. Joseph’s Church\, Grande Prairie\, Grande Prairie\, AB
CATEGORIES:Archbishop’s Calendar,Events Calendar
END:VEVENT
BEGIN:VEVENT
DTSTART;TZID=America/Edmonton:20240305T183000
DTEND;TZID=America/Edmonton:20240305T183000
DTSTAMP:20260423T041504
CREATED:20240229T155225Z
LAST-MODIFIED:20240229T155225Z
UID:11193-1709663400-1709663400@www.archgm.ca
SUMMARY:Way of the Cross - St. Joseph Church\, Spirit River
DESCRIPTION:Beginning at 6:40 pm every Tuesday of Lent
URL:https://www.archgm.ca/event/way-of-the-cross-st-joseph-church-spirit-river/
LOCATION:St. Joseph’s Church\, Spirit River\, Grande Prairie\, AB
CATEGORIES:Events Calendar
END:VEVENT
BEGIN:VEVENT
DTSTART;TZID=America/Edmonton:20240306T183000
DTEND;TZID=America/Edmonton:20240306T183000
DTSTAMP:20260423T041504
CREATED:20240205T162040Z
LAST-MODIFIED:20240205T162040Z
UID:10993-1709749800-1709749800@www.archgm.ca
SUMMARY:Lent Workshop: Basics of our Faith – St. Rita’s\, Valleyview
DESCRIPTION:Workshop will be held every Wednesday of Lent (Feb. 21st-March 20th)\, beginning with Mass at 6:45 pm. Refreshments provided.
URL:https://www.archgm.ca/event/lent-workshop-basics-of-our-faith-st-ritas-valleyview-3/
LOCATION:St. Rita’s\, Valleyview\, Grande Prairie\, AB
CATEGORIES:Events Calendar
END:VEVENT
BEGIN:VEVENT
DTSTART;TZID=America/Edmonton:20240306T190000
DTEND;TZID=America/Edmonton:20240306T190000
DTSTAMP:20260423T041504
CREATED:20240205T161650Z
LAST-MODIFIED:20240205T161650Z
UID:10983-1709751600-1709751600@www.archgm.ca
SUMMARY:Into the Breach - St. Mary's Church\, Beaverlodge
DESCRIPTION:Into The Breach\nThe Knights of Columbus\, Holy Family Council 11495\nof Beaverlodge\, is inviting all men to come and\nexperience a brotherhood of fellow Christian men\,\nthrough a faith filled series by Bishop Olmsted called\n” Into the Breach”\, to help men deepen their\nunderstanding of living a truly masculine life in Christ\nand practice their commitments to this life.\nIt will run for 12 weeks on every Wednesday at 7 pm\nstarting on Feb 21\, 2024\, at St Mary’s Church meeting\nroom in Beaverlodge.
URL:https://www.archgm.ca/event/into-the-breach-st-marys-church-beaverlodge-2/
LOCATION:St. Mary’s Church\, Beaverlodge\, Grande Prairie\, AB
CATEGORIES:Events Calendar
END:VEVENT
BEGIN:VEVENT
DTSTART;TZID=America/Edmonton:20240307T173000
DTEND;TZID=America/Edmonton:20240310T173000
DTSTAMP:20260423T041504
CREATED:20240226T201714Z
LAST-MODIFIED:20240226T201811Z
UID:11167-1709832600-1710091800@www.archgm.ca
SUMMARY:Men’s Cursillo Weekend - St. Mary's School\, Beaverlodge
DESCRIPTION:This Men’s Cursillo is a 3 day retreat weekend beginning on Thursday evening\, March 7\, until Sunday afternoon\, March 10. During the weekend\, there will be talks (given by different Cursillo community members)\, discussion\, sharing\, prayer\, lots of laughter and good food. Our goal is to help you to know that you are loved by God and to build supportive Christian community. \n  \nCursillo Application and sponsor form revised 2023 ii
URL:https://www.archgm.ca/event/mens-cursillo-weekend-st-marys-school-beaverlodge/
LOCATION:St. Mary’s School\, Beaverlodge\, Grande Prairie\, AB
CATEGORIES:Archbishop’s Calendar,Events Calendar
END:VEVENT
END:VCALENDAR