BEGIN:VCALENDAR
VERSION:2.0
PRODID:-//Catholic Archdiocese of Grouard-McLennan - ECPv6.15.20//NONSGML v1.0//EN
CALSCALE:GREGORIAN
METHOD:PUBLISH
X-ORIGINAL-URL:https://www.archgm.ca
X-WR-CALDESC:Events for Catholic Archdiocese of Grouard-McLennan
REFRESH-INTERVAL;VALUE=DURATION:PT1H
X-Robots-Tag:noindex
X-PUBLISHED-TTL:PT1H
BEGIN:VTIMEZONE
TZID:America/Edmonton
BEGIN:DAYLIGHT
TZOFFSETFROM:-0700
TZOFFSETTO:-0600
TZNAME:MDT
DTSTART:20220313T090000
END:DAYLIGHT
BEGIN:STANDARD
TZOFFSETFROM:-0600
TZOFFSETTO:-0700
TZNAME:MST
DTSTART:20221106T080000
END:STANDARD
BEGIN:DAYLIGHT
TZOFFSETFROM:-0700
TZOFFSETTO:-0600
TZNAME:MDT
DTSTART:20230312T090000
END:DAYLIGHT
BEGIN:STANDARD
TZOFFSETFROM:-0600
TZOFFSETTO:-0700
TZNAME:MST
DTSTART:20231105T080000
END:STANDARD
BEGIN:DAYLIGHT
TZOFFSETFROM:-0700
TZOFFSETTO:-0600
TZNAME:MDT
DTSTART:20240310T090000
END:DAYLIGHT
BEGIN:STANDARD
TZOFFSETFROM:-0600
TZOFFSETTO:-0700
TZNAME:MST
DTSTART:20241103T080000
END:STANDARD
BEGIN:DAYLIGHT
TZOFFSETFROM:-0700
TZOFFSETTO:-0600
TZNAME:MDT
DTSTART:20250309T090000
END:DAYLIGHT
BEGIN:STANDARD
TZOFFSETFROM:-0600
TZOFFSETTO:-0700
TZNAME:MST
DTSTART:20251102T080000
END:STANDARD
END:VTIMEZONE
BEGIN:VEVENT
DTSTART;VALUE=DATE:20231223
DTEND;VALUE=DATE:20231229
DTSTAMP:20260419T233820
CREATED:20231017T152018Z
LAST-MODIFIED:20231017T152018Z
UID:10206-1703289600-1703807999@www.archgm.ca
SUMMARY:Christmas & Confirmations - Little Red River Cree Nation
DESCRIPTION:Archbishop Pettipas will celebrate Christmas Masses and confirmations in the communities of Little Red River Cree Nation: John D’Or Prairie\, Fox Lake\, and Garden River
URL:https://www.archgm.ca/event/christmas-confirmations-little-red-river-cree-nation/
LOCATION:Little Red River Cree Nation\, Grande Prairie\, AB
CATEGORIES:Archbishop’s Calendar,Events Calendar
END:VEVENT
BEGIN:VEVENT
DTSTART;VALUE=DATE:20231225
DTEND;VALUE=DATE:20231226
DTSTAMP:20260419T233820
CREATED:20231017T152128Z
LAST-MODIFIED:20231017T152128Z
UID:10209-1703462400-1703548799@www.archgm.ca
SUMMARY:Christmas Day
DESCRIPTION:
URL:https://www.archgm.ca/event/christmas-day-2/
LOCATION:AB
CATEGORIES:Archbishop’s Calendar,Events Calendar
END:VEVENT
BEGIN:VEVENT
DTSTART;VALUE=DATE:20240101
DTEND;VALUE=DATE:20240102
DTSTAMP:20260419T233820
CREATED:20231017T152149Z
LAST-MODIFIED:20231017T152149Z
UID:10211-1704067200-1704153599@www.archgm.ca
SUMMARY:New Years Day
DESCRIPTION:
URL:https://www.archgm.ca/event/new-years-day/
LOCATION:AB
CATEGORIES:Archbishop’s Calendar,Events Calendar
END:VEVENT
BEGIN:VEVENT
DTSTART;TZID=America/Edmonton:20240101T113000
DTEND;TZID=America/Edmonton:20240101T140000
DTSTAMP:20260419T233820
CREATED:20231120T154228Z
LAST-MODIFIED:20231120T154228Z
UID:10473-1704108600-1704117600@www.archgm.ca
SUMMARY:Archbishop's Levee - Chancery Office\, Grande Prairie
DESCRIPTION:Celebrate the new year with His Grace Archbishop Pettipas! \nThe Archbishop’s Levee is coming up on January 1st\, hosted from the chancery office in Grande Prairie. This event offers all people the chance to meet and converse with Archbishop Pettipas as we look ahead to 2024. \nThe office (10301 102 st\, Grande Prairie) will be open to the public from 11:30 am to 2:00 pm\, with cake and refreshments provided. You may also join us before hand at St. Joseph Catholic Church in Grande Prairie\, where Archbishop Pettipas will celebrate the 10:00 am Mass for the Solemnity of Mary\, Mother of God
URL:https://www.archgm.ca/event/archbishops-levee-chancery-office-grande-prairie/
LOCATION:Chancery Office\, Grande Prairie\, Grande Prairie\, AB
CATEGORIES:Events Calendar
END:VEVENT
BEGIN:VEVENT
DTSTART;TZID=America/Edmonton:20240102T190000
DTEND;TZID=America/Edmonton:20240102T190000
DTSTAMP:20260419T233820
CREATED:20240108T151833Z
LAST-MODIFIED:20240108T151833Z
UID:10759-1704222000-1704222000@www.archgm.ca
SUMMARY:Anointing & Healing Mass - Our Lady of Good Counsel\, High Level
DESCRIPTION:
URL:https://www.archgm.ca/event/anointing-healing-mass-our-lady-of-good-counsel-high-level/
LOCATION:Our Lady of Good Counsel\, High Level\, Grande Prairie\, AB
CATEGORIES:Events Calendar
END:VEVENT
BEGIN:VEVENT
DTSTART;TZID=America/Edmonton:20240103T093000
DTEND;TZID=America/Edmonton:20240103T110000
DTSTAMP:20260419T233820
CREATED:20240103T213430Z
LAST-MODIFIED:20240103T213430Z
UID:10710-1704274200-1704279600@www.archgm.ca
SUMMARY:Ladies Bible Study - St. Joseph Church\, Grande Prairie
DESCRIPTION:
URL:https://www.archgm.ca/event/ladies-bible-study-st-joseph-church-grande-prairie-7/
LOCATION:St. Joseph’s Church\, Grande Prairie\, Grande Prairie\, AB
CATEGORIES:Events Calendar
END:VEVENT
BEGIN:VEVENT
DTSTART;TZID=America/Edmonton:20240103T183000
DTEND;TZID=America/Edmonton:20240103T183000
DTSTAMP:20260419T233820
CREATED:20240105T174727Z
LAST-MODIFIED:20240105T174727Z
UID:10748-1704306600-1704306600@www.archgm.ca
SUMMARY:Farewell Potluck - St. James the Major\, Manning
DESCRIPTION:
URL:https://www.archgm.ca/event/farewell-potluck-st-james-the-major-manning/
LOCATION:St. James the Major\, Manning\, Grande Prairie\, AB
CATEGORIES:Events Calendar
END:VEVENT
BEGIN:VEVENT
DTSTART;TZID=America/Edmonton:20240104T090000
DTEND;TZID=America/Edmonton:20240104T170000
DTSTAMP:20260419T233820
CREATED:20231214T210737Z
LAST-MODIFIED:20231214T210737Z
UID:10608-1704358800-1704387600@www.archgm.ca
SUMMARY:Curia Meeting – Chancery Office\, Grande Prairie
DESCRIPTION:
URL:https://www.archgm.ca/event/curia-meeting-chancery-office-grande-prairie-5/
LOCATION:Chancery Office\, Grande Prairie\, Grande Prairie\, AB
CATEGORIES:Archbishop’s Calendar,Events Calendar
END:VEVENT
BEGIN:VEVENT
DTSTART;TZID=America/Edmonton:20240106T100000
DTEND;TZID=America/Edmonton:20240106T100000
DTSTAMP:20260419T233820
CREATED:20240103T212124Z
LAST-MODIFIED:20240103T212124Z
UID:10692-1704535200-1704535200@www.archgm.ca
SUMMARY:CWL Meeting - St. Mary's Church\, Beaverlodge
DESCRIPTION:CWL meeting at 10:00 am\nat the meeting room in St. Mary’s Church\, Beaverlodge
URL:https://www.archgm.ca/event/cwl-meeting-st-marys-church-beaverlodge-2/
LOCATION:St. Mary’s Church\, Beaverlodge\, Grande Prairie\, AB
CATEGORIES:Events Calendar
END:VEVENT
BEGIN:VEVENT
DTSTART;TZID=America/Edmonton:20240106T173000
DTEND;TZID=America/Edmonton:20240106T210000
DTSTAMP:20260419T233820
CREATED:20240103T214603Z
LAST-MODIFIED:20240103T214603Z
UID:10720-1704562200-1704574800@www.archgm.ca
SUMMARY:Youth Choir & High School Youth Group - St. Joseph Church\, Grande Prairie
DESCRIPTION:Youth grades 7-12 are invited to join us for pizza in Tranquille Hall at 5:30pm\, followed by choir practice and the 7pm Mass. \nFollowing mass youth in grades 9-12 are invited for High School Youth Group in St. John Paul II Room.
URL:https://www.archgm.ca/event/youth-choir-high-school-youth-group-st-joseph-church-grande-prairie/
LOCATION:St. Joseph’s Church\, Grande Prairie\, Grande Prairie\, AB
CATEGORIES:Events Calendar
END:VEVENT
BEGIN:VEVENT
DTSTART;TZID=America/Edmonton:20240107T120000
DTEND;TZID=America/Edmonton:20240107T120000
DTSTAMP:20260419T233820
CREATED:20240103T212346Z
LAST-MODIFIED:20240103T212346Z
UID:10696-1704628800-1704628800@www.archgm.ca
SUMMARY:Potluck & Priest's Anniversary - St. Mary's Church\, Beaverlodge
DESCRIPTION:Potluck and celebration of Fr. Michael Dias’ anniversary of ordination\nBegins after 11 am Sunday Mass in the church hall
URL:https://www.archgm.ca/event/potluck-priests-anniversary-st-marys-church-beaverlodge/
LOCATION:St. Mary’s Church\, Beaverlodge\, Grande Prairie\, AB
CATEGORIES:Events Calendar
END:VEVENT
BEGIN:VEVENT
DTSTART;TZID=America/Edmonton:20240107T140000
DTEND;TZID=America/Edmonton:20240107T170000
DTSTAMP:20260419T233820
CREATED:20240103T154503Z
LAST-MODIFIED:20240103T154503Z
UID:10684-1704636000-1704646800@www.archgm.ca
SUMMARY:O Little Town of Bethlehem: Christmas Carols - St. Joseph Church\, Grande Prairie
DESCRIPTION:Christmas Carols in Tranquille hall at St. Joseph Church\, Grande Prairie. from 2-5pm. All ages welcome\, enjoy  cookies and tea. Bring your voices and your instruments to sing Christmas carols together.
URL:https://www.archgm.ca/event/o-little-town-of-bethlehem-christmas-carols-st-joseph-church-grande-prairie/
LOCATION:St. Joseph’s Church\, Grande Prairie\, Grande Prairie\, AB
CATEGORIES:Events Calendar
END:VEVENT
BEGIN:VEVENT
DTSTART;VALUE=DATE:20240108
DTEND;VALUE=DATE:20240113
DTSTAMP:20260419T233820
CREATED:20231214T210941Z
LAST-MODIFIED:20231214T210941Z
UID:10610-1704672000-1705103999@www.archgm.ca
SUMMARY:Western Catholic Bishops Retreat - Westminster Abbey\, B.C.
DESCRIPTION:Retreat for the Catholic bishops of Western Canada.
URL:https://www.archgm.ca/event/western-catholic-bishops-retreat-westminster-abbey-b-c/
LOCATION:AB
CATEGORIES:Archbishop’s Calendar,Events Calendar
END:VEVENT
BEGIN:VEVENT
DTSTART;TZID=America/Edmonton:20240109T170000
DTEND;TZID=America/Edmonton:20240109T170000
DTSTAMP:20260419T233820
CREATED:20240103T212702Z
LAST-MODIFIED:20240103T212702Z
UID:10700-1704819600-1704819600@www.archgm.ca
SUMMARY:PPC Meeting - St. Mary's Church\, Beaverlodge
DESCRIPTION:
URL:https://www.archgm.ca/event/ppc-meeting-st-marys-church-beaverlodge-2/
LOCATION:St. Mary’s Church\, Beaverlodge\, Grande Prairie\, AB
CATEGORIES:Events Calendar
END:VEVENT
BEGIN:VEVENT
DTSTART;TZID=America/Edmonton:20240109T200000
DTEND;TZID=America/Edmonton:20240109T200000
DTSTAMP:20260419T233820
CREATED:20240103T214654Z
LAST-MODIFIED:20240103T214654Z
UID:10722-1704830400-1704830400@www.archgm.ca
SUMMARY:Emmaus Night - Ignite: Catholic Young Adults of Grande Prairie
DESCRIPTION:Join us for Emmaus Night- a peer led faith sharing night! It is a great chance to meet other young Catholics\, enjoy some snacks and learn more about the rich treasures of our Faith. 7:45 pm upstairs in St. Joseph Church
URL:https://www.archgm.ca/event/emmaus-night-ignite-catholic-young-adults-of-grande-prairie-2/
LOCATION:St. Joseph’s Church\, Grande Prairie\, Grande Prairie\, AB
CATEGORIES:Events Calendar
END:VEVENT
BEGIN:VEVENT
DTSTART;TZID=America/Edmonton:20240110T093000
DTEND;TZID=America/Edmonton:20240110T110000
DTSTAMP:20260419T233820
CREATED:20240103T213519Z
LAST-MODIFIED:20240103T213519Z
UID:10712-1704879000-1704884400@www.archgm.ca
SUMMARY:Ladies Bible Study - St. Joseph Church\, Grande Prairie
DESCRIPTION:
URL:https://www.archgm.ca/event/ladies-bible-study-st-joseph-church-grande-prairie-8/
LOCATION:St. Joseph’s Church\, Grande Prairie\, Grande Prairie\, AB
CATEGORIES:Events Calendar
END:VEVENT
BEGIN:VEVENT
DTSTART;TZID=America/Edmonton:20240111T180000
DTEND;TZID=America/Edmonton:20240111T200000
DTSTAMP:20260419T233820
CREATED:20240103T215522Z
LAST-MODIFIED:20240103T215522Z
UID:10724-1704996000-1705003200@www.archgm.ca
SUMMARY:Games Night - St. Joseph Church\, Grande Prairie
DESCRIPTION:Game Night presented by the Knights of Columbus is an evening full of food\, fellowship and fun. From crib tournaments and cards to board games\, there is fun for the whole family!
URL:https://www.archgm.ca/event/games-night-st-joseph-church-grande-prairie/
LOCATION:St. Joseph’s Church\, Grande Prairie\, Grande Prairie\, AB
CATEGORIES:Events Calendar
END:VEVENT
BEGIN:VEVENT
DTSTART;TZID=America/Edmonton:20240111T190000
DTEND;TZID=America/Edmonton:20240111T203000
DTSTAMP:20260419T233820
CREATED:20240103T215636Z
LAST-MODIFIED:20240103T215636Z
UID:10726-1704999600-1705005000@www.archgm.ca
SUMMARY:SALT (Sharing And Learning Together) - St. Joseph Church\, Grande Prairie
DESCRIPTION:SALT is a youth group for kids grade 3-6. We meet the 2nd and 4th Thursdays of the month in the SJPII Room\, upstairs on the office side of the Church. We play\, pray\, enjoy fellowship\, food and make new friends!! Everyone welcome!!
URL:https://www.archgm.ca/event/salt-sharing-and-learning-together-st-joseph-church-grande-prairie/
LOCATION:St. Joseph’s Church\, Grande Prairie\, Grande Prairie\, AB
CATEGORIES:Events Calendar
END:VEVENT
BEGIN:VEVENT
DTSTART;TZID=America/Edmonton:20240114T103000
DTEND;TZID=America/Edmonton:20240114T170000
DTSTAMP:20260419T233820
CREATED:20231214T211107Z
LAST-MODIFIED:20231214T211107Z
UID:10612-1705228200-1705251600@www.archgm.ca
SUMMARY:Archbishop's Mass - St. John the Baptist Cathedral\, McLennan
DESCRIPTION:
URL:https://www.archgm.ca/event/archbishops-mass-st-john-the-baptist-cathedral-mclennan-4/
LOCATION:St. John the Baptist Cathedral\, McLennan\, Grande Prairie\, AB
CATEGORIES:Archbishop’s Calendar,Events Calendar
END:VEVENT
BEGIN:VEVENT
DTSTART;TZID=America/Edmonton:20240114T110000
DTEND;TZID=America/Edmonton:20240114T120000
DTSTAMP:20260419T233820
CREATED:20240103T213042Z
LAST-MODIFIED:20240103T213042Z
UID:10708-1705230000-1705233600@www.archgm.ca
SUMMARY:Youth Mass - St. Mary's Church\, Beaverlodge
DESCRIPTION:
URL:https://www.archgm.ca/event/youth-mass-st-marys-church-beaverlodge/
LOCATION:St. Mary’s Church\, Beaverlodge\, Grande Prairie\, AB
CATEGORIES:Events Calendar
END:VEVENT
BEGIN:VEVENT
DTSTART;TZID=America/Edmonton:20240116T193000
DTEND;TZID=America/Edmonton:20240116T193000
DTSTAMP:20260419T233820
CREATED:20240115T152837Z
LAST-MODIFIED:20240115T152837Z
UID:10814-1705433400-1705433400@www.archgm.ca
SUMMARY:Parish Council Meeting - St. Joseph\, Spirit River
DESCRIPTION:
URL:https://www.archgm.ca/event/parish-council-meeting-st-joseph-spirit-river-2/
LOCATION:St. Joseph’s Church\, Spirit River\, Grande Prairie\, AB
CATEGORIES:Events Calendar
END:VEVENT
BEGIN:VEVENT
DTSTART;TZID=America/Edmonton:20240117T093000
DTEND;TZID=America/Edmonton:20240117T110000
DTSTAMP:20260419T233820
CREATED:20240103T214337Z
LAST-MODIFIED:20240103T214337Z
UID:10714-1705483800-1705489200@www.archgm.ca
SUMMARY:Ladies Bible Study - St. Joseph Church\, Grande Prairie
DESCRIPTION:
URL:https://www.archgm.ca/event/ladies-bible-study-st-joseph-church-grande-prairie-9/
LOCATION:St. Joseph’s Church\, Grande Prairie\, Grande Prairie\, AB
CATEGORIES:Events Calendar
END:VEVENT
BEGIN:VEVENT
DTSTART;VALUE=DATE:20240118
DTEND;VALUE=DATE:20240126
DTSTAMP:20260419T233820
CREATED:20240115T152733Z
LAST-MODIFIED:20240115T152733Z
UID:10812-1705536000-1706227199@www.archgm.ca
SUMMARY:Week of Prayer for Christian Unity
DESCRIPTION:Learn more: Week of Prayer for Christian Unity |
URL:https://www.archgm.ca/event/week-of-prayer-for-christian-unity-2/
LOCATION:AB
CATEGORIES:Events Calendar
END:VEVENT
BEGIN:VEVENT
DTSTART;TZID=America/Edmonton:20240118T090000
DTEND;TZID=America/Edmonton:20240118T170000
DTSTAMP:20260419T233820
CREATED:20231214T211139Z
LAST-MODIFIED:20231214T211139Z
UID:10614-1705568400-1705597200@www.archgm.ca
SUMMARY:Curia Meeting – Chancery Office\, Grande Prairie
DESCRIPTION:
URL:https://www.archgm.ca/event/curia-meeting-chancery-office-grande-prairie-6/
LOCATION:Chancery Office\, Grande Prairie\, Grande Prairie\, AB
CATEGORIES:Archbishop’s Calendar,Events Calendar
END:VEVENT
BEGIN:VEVENT
DTSTART;TZID=America/Edmonton:20240118T193000
DTEND;TZID=America/Edmonton:20240118T193000
DTSTAMP:20260419T233820
CREATED:20240103T215720Z
LAST-MODIFIED:20240103T215720Z
UID:10728-1705606200-1705606200@www.archgm.ca
SUMMARY:Prayers for Healing - St. Joseph Church\, Grande Prairie
DESCRIPTION:Our monthly healing prayer service following 7 pm Mass in church. The Prayer Team prays for all types of healing: mental\, physical\, emotional\, spiritual and even for someone not present through a proxy. Attend Mass and stay for prayer.
URL:https://www.archgm.ca/event/prayers-for-healing-st-joseph-church-grande-prairie-3/
LOCATION:St. Joseph’s Church\, Grande Prairie\, Grande Prairie\, AB
CATEGORIES:Events Calendar
END:VEVENT
BEGIN:VEVENT
DTSTART;TZID=America/Edmonton:20240118T193000
DTEND;TZID=America/Edmonton:20240118T193000
DTSTAMP:20260419T233820
CREATED:20240115T152922Z
LAST-MODIFIED:20240115T152922Z
UID:10818-1705606200-1705606200@www.archgm.ca
SUMMARY:Parish Council Meeting - St. Peter & Paul\, Rycroft
DESCRIPTION:
URL:https://www.archgm.ca/event/parish-council-meeting-st-peter-paul-rycroft/
LOCATION:St. Peter and Paul Church\, Rycroft\, Grande Prairie\, AB
CATEGORIES:Events Calendar
END:VEVENT
BEGIN:VEVENT
DTSTART;TZID=America/Edmonton:20240119T093000
DTEND;TZID=America/Edmonton:20240119T100000
DTSTAMP:20260419T233820
CREATED:20240115T153008Z
LAST-MODIFIED:20240115T153008Z
UID:10820-1705656600-1705658400@www.archgm.ca
SUMMARY:Adoration - St. Joseph\, Spirit River
DESCRIPTION:
URL:https://www.archgm.ca/event/adoration-st-joseph-spirit-river/
LOCATION:St. Joseph’s Church\, Spirit River\, Grande Prairie\, AB
CATEGORIES:Events Calendar
END:VEVENT
BEGIN:VEVENT
DTSTART;TZID=America/Edmonton:20240119T180000
DTEND;TZID=America/Edmonton:20240119T180000
DTSTAMP:20260419T233820
CREATED:20240108T175112Z
LAST-MODIFIED:20240110T160815Z
UID:10765-1705687200-1705687200@www.archgm.ca
SUMMARY:KofC Ukrainian Supper - St. Joseph Church\, Grande Prairie
DESCRIPTION:
URL:https://www.archgm.ca/event/kofc-ukranian-supper-st-joseph-church-grande-prairie/
LOCATION:St. Joseph’s Church\, Grande Prairie\, Grande Prairie\, AB
CATEGORIES:Events Calendar
END:VEVENT
BEGIN:VEVENT
DTSTART;TZID=America/Edmonton:20240119T190000
DTEND;TZID=America/Edmonton:20240119T200000
DTSTAMP:20260419T233820
CREATED:20240103T215914Z
LAST-MODIFIED:20240103T215914Z
UID:10732-1705690800-1705694400@www.archgm.ca
SUMMARY:EDGE - St. Joseph Church\, Grande Prairie
DESCRIPTION:Grades 7-9 welcome to join us to grow in friendship with eachother and God. Tons of games\, snacks & fun. 1st & 3rd Fridays from 7-8:30pm in SJPII Room
URL:https://www.archgm.ca/event/edge-st-joseph-church-grande-prairie-2/
LOCATION:St. Joseph’s Church\, Grande Prairie\, Grande Prairie\, AB
CATEGORIES:Events Calendar
END:VEVENT
BEGIN:VEVENT
DTSTART;TZID=America/Edmonton:20240119T200000
DTEND;TZID=America/Edmonton:20240119T200000
DTSTAMP:20260419T233820
CREATED:20240103T215815Z
LAST-MODIFIED:20240103T215815Z
UID:10730-1705694400-1705694400@www.archgm.ca
SUMMARY:Adoration + Games Night - Ignite: Catholic Young Adults of Grande Prairie
DESCRIPTION:Join us for Mass at 7pm followed by Adoration from 7:45-8:15pm. Following Adoration join us for a different social event every month. \nThis month: Games Night (bring your own game) in JPII Room.
URL:https://www.archgm.ca/event/adoration-games-night-ignite-catholic-young-adults-of-grande-prairie/
LOCATION:St. Joseph’s Church\, Grande Prairie\, Grande Prairie\, AB
CATEGORIES:Events Calendar
END:VEVENT
END:VCALENDAR