BEGIN:VCALENDAR
VERSION:2.0
PRODID:-//Catholic Archdiocese of Grouard-McLennan - ECPv6.15.20//NONSGML v1.0//EN
CALSCALE:GREGORIAN
METHOD:PUBLISH
X-WR-CALNAME:Catholic Archdiocese of Grouard-McLennan
X-ORIGINAL-URL:https://www.archgm.ca
X-WR-CALDESC:Events for Catholic Archdiocese of Grouard-McLennan
REFRESH-INTERVAL;VALUE=DURATION:PT1H
X-Robots-Tag:noindex
X-PUBLISHED-TTL:PT1H
BEGIN:VTIMEZONE
TZID:America/Edmonton
BEGIN:DAYLIGHT
TZOFFSETFROM:-0700
TZOFFSETTO:-0600
TZNAME:MDT
DTSTART:20230312T090000
END:DAYLIGHT
BEGIN:STANDARD
TZOFFSETFROM:-0600
TZOFFSETTO:-0700
TZNAME:MST
DTSTART:20231105T080000
END:STANDARD
BEGIN:DAYLIGHT
TZOFFSETFROM:-0700
TZOFFSETTO:-0600
TZNAME:MDT
DTSTART:20240310T090000
END:DAYLIGHT
BEGIN:STANDARD
TZOFFSETFROM:-0600
TZOFFSETTO:-0700
TZNAME:MST
DTSTART:20241103T080000
END:STANDARD
BEGIN:DAYLIGHT
TZOFFSETFROM:-0700
TZOFFSETTO:-0600
TZNAME:MDT
DTSTART:20250309T090000
END:DAYLIGHT
BEGIN:STANDARD
TZOFFSETFROM:-0600
TZOFFSETTO:-0700
TZNAME:MST
DTSTART:20251102T080000
END:STANDARD
END:VTIMEZONE
BEGIN:VEVENT
DTSTART;TZID=America/Edmonton:20240126T180000
DTEND;TZID=America/Edmonton:20240126T180000
DTSTAMP:20260420T010625
CREATED:20231214T211450Z
LAST-MODIFIED:20240110T161055Z
UID:10620-1706292000-1706292000@www.archgm.ca
SUMMARY:Online Archbishop's Dinner
DESCRIPTION:Our online Archbishop’s Dinner is coming up on January 26th! We will stream this year’s dinner on our YouTube and Facebook page\, beginning at 6:00 pm. The archbishop will cook a meal from his home kitchen\, play a trivia game with viewers\, and be joined by special guests. We hope you will tune in!  \nAlongside the dinner\, we also have an online auction fundraiser with items donated by parishioners across the archdiocese. The auction can be accessed here. You will need a Facebook account to participate in the online auction.
URL:https://www.archgm.ca/event/online-archbishops-dinner/
LOCATION:Online\, Grande Prairie\, AB
CATEGORIES:Archbishop’s Calendar,Events Calendar
END:VEVENT
BEGIN:VEVENT
DTSTART;TZID=America/Edmonton:20240126T183000
DTEND;TZID=America/Edmonton:20240127T163000
DTSTAMP:20260420T010625
CREATED:20231214T211648Z
LAST-MODIFIED:20240111T222954Z
UID:10622-1706293800-1706373000@www.archgm.ca
SUMMARY:Faith in Action: Men's Conference - St. Joseph Church\, Grande Prairie
DESCRIPTION:The Knights of Columbus are hosting the upcoming Faith in Action Men’s Conference at St. Joseph Church in Grande Prairie\, from Jan. 26th-27th. All men are welcome! \n\n\n\n\n“This event will inspire and empower you to live out your faith in practical ways. With engaging speakers\, interactive workshops\, and meaningful discussions\, this conference is a must-attend for any man seeking to grow spiritually and make a positive impact.” \n\n\n\n\nSpeakers include Peter Van Kampen\, Most Rev. Archbishop Gerard Pettipas\, and Rev. Emanuel Ekanem. \nLearn more here.
URL:https://www.archgm.ca/event/mens-conference-st-joseph-church-grande-prairie/
LOCATION:St. Joseph’s Church\, Grande Prairie\, Grande Prairie\, AB
CATEGORIES:Archbishop’s Calendar,Events Calendar
END:VEVENT
BEGIN:VEVENT
DTSTART;TZID=America/Edmonton:20240128T100000
DTEND;TZID=America/Edmonton:20240128T120000
DTSTAMP:20260420T010625
CREATED:20240122T164108Z
LAST-MODIFIED:20240122T164108Z
UID:10839-1706436000-1706443200@www.archgm.ca
SUMMARY:KofC Pancake Breakfast - Our Lady of Good Counsel\, High Level
DESCRIPTION:After 10:00 am Sunday Mass
URL:https://www.archgm.ca/event/kofc-pancake-breakfast-our-lady-of-good-counsel-high-level/
LOCATION:Our Lady of Good Counsel\, High Level\, Grande Prairie\, AB
CATEGORIES:Events Calendar
END:VEVENT
BEGIN:VEVENT
DTSTART;TZID=America/Edmonton:20240128T170000
DTEND;TZID=America/Edmonton:20240128T170000
DTSTAMP:20260420T010625
CREATED:20240105T174623Z
LAST-MODIFIED:20240105T174623Z
UID:10746-1706461200-1706461200@www.archgm.ca
SUMMARY:CWL Potato Bake Fundraiser - Rycroft Community Hall
DESCRIPTION:$10.00 per person\n6 & under – free \nRycroft Community Hall\nJan. 28th at 5:00 pm
URL:https://www.archgm.ca/event/cwl-potato-bake-fundraiser-rycroft-community-hall/
LOCATION:Rycroft Community Hall\, Rycroft\, Grande Prairie\, AB
CATEGORIES:Events Calendar
END:VEVENT
BEGIN:VEVENT
DTSTART;TZID=America/Edmonton:20240129T193000
DTEND;TZID=America/Edmonton:20240129T193000
DTSTAMP:20260420T010625
CREATED:20240202T214544Z
LAST-MODIFIED:20240202T214544Z
UID:10923-1706556600-1706556600@www.archgm.ca
SUMMARY:Men's Choir Practice - Our Lady of Peace\, Peace River
DESCRIPTION:
URL:https://www.archgm.ca/event/mens-choir-practice-our-lady-of-peace-peace-river/
LOCATION:Our Lady of Peace Church\, Peace River\, Grande Prairie\, AB
CATEGORIES:Events Calendar
END:VEVENT
BEGIN:VEVENT
DTSTART;TZID=America/Edmonton:20240130T083000
DTEND;TZID=America/Edmonton:20240130T120000
DTSTAMP:20260420T010625
CREATED:20231214T211739Z
LAST-MODIFIED:20231214T211739Z
UID:10624-1706603400-1706616000@www.archgm.ca
SUMMARY:Community Board Meeting with Covenant Health - Chancery Office\, Grande Prairie
DESCRIPTION:
URL:https://www.archgm.ca/event/community-board-meeting-with-covenant-health-chancery-office-grande-prairie/
LOCATION:Chancery Office\, Grande Prairie\, Grande Prairie\, AB
CATEGORIES:Archbishop’s Calendar,Events Calendar
END:VEVENT
BEGIN:VEVENT
DTSTART;TZID=America/Edmonton:20240131T093000
DTEND;TZID=America/Edmonton:20240131T110000
DTSTAMP:20260420T010625
CREATED:20240103T214429Z
LAST-MODIFIED:20240103T214429Z
UID:10718-1706693400-1706698800@www.archgm.ca
SUMMARY:Ladies Bible Study - St. Joseph Church\, Grande Prairie
DESCRIPTION:
URL:https://www.archgm.ca/event/ladies-bible-study-st-joseph-church-grande-prairie-11/
LOCATION:St. Joseph’s Church\, Grande Prairie\, Grande Prairie\, AB
CATEGORIES:Events Calendar
END:VEVENT
BEGIN:VEVENT
DTSTART;TZID=America/Edmonton:20240201T090000
DTEND;TZID=America/Edmonton:20240201T170000
DTSTAMP:20260420T010625
CREATED:20231214T211841Z
LAST-MODIFIED:20231214T211841Z
UID:10626-1706778000-1706806800@www.archgm.ca
SUMMARY:Curia Meeting – Chancery Office\, Grande Prairie
DESCRIPTION:
URL:https://www.archgm.ca/event/curia-meeting-chancery-office-grande-prairie-7/
LOCATION:Chancery Office\, Grande Prairie\, Grande Prairie\, AB
CATEGORIES:Archbishop’s Calendar,Events Calendar
END:VEVENT
BEGIN:VEVENT
DTSTART;TZID=America/Edmonton:20240201T190000
DTEND;TZID=America/Edmonton:20240201T190000
DTSTAMP:20260420T010625
CREATED:20240122T164315Z
LAST-MODIFIED:20240122T164315Z
UID:10841-1706814000-1706814000@www.archgm.ca
SUMMARY:Parish Finance Council Meeting - St. Rita's\, Valleyview
DESCRIPTION:Parishioners interested in the PFC are invited to attend. Feb. 1st – 7pm
URL:https://www.archgm.ca/event/parish-finance-council-meeting-st-ritas-valleyview/
LOCATION:St. Rita’s\, Valleyview\, Grande Prairie\, AB
CATEGORIES:Events Calendar
END:VEVENT
BEGIN:VEVENT
DTSTART;VALUE=DATE:20240202
DTEND;VALUE=DATE:20240203
DTSTAMP:20260420T010625
CREATED:20240129T173951Z
LAST-MODIFIED:20240129T173951Z
UID:10877-1706832000-1706918399@www.archgm.ca
SUMMARY:Candlemas
DESCRIPTION:
URL:https://www.archgm.ca/event/candlemas/
LOCATION:AB
CATEGORIES:Events Calendar
END:VEVENT
BEGIN:VEVENT
DTSTART;TZID=America/Edmonton:20240202T090000
DTEND;TZID=America/Edmonton:20240202T130000
DTSTAMP:20260420T010625
CREATED:20240117T162742Z
LAST-MODIFIED:20240117T162742Z
UID:10833-1706864400-1706878800@www.archgm.ca
SUMMARY:First Friday Mass\, Confession and Benediction - St. Mary's\, Beaverlodge
DESCRIPTION:Every First Friday\n9am Holy Mass\n10am Benediction\n10am ~ 1pm Exposition of the Holy Sacrament\n1pm Benediction\nOpportunity for Confession
URL:https://www.archgm.ca/event/first-friday-mass-confession-and-benediction-st-marys-beaverlodge/
LOCATION:St. Mary’s Church\, Beaverlodge\, Grande Prairie\, AB
CATEGORIES:Events Calendar
END:VEVENT
BEGIN:VEVENT
DTSTART;TZID=America/Edmonton:20240203T093000
DTEND;TZID=America/Edmonton:20240203T153000
DTSTAMP:20260420T010625
CREATED:20240115T212907Z
LAST-MODIFIED:20240115T212920Z
UID:10822-1706952600-1706974200@www.archgm.ca
SUMMARY:Peace Retreats: A Pilgrimage to the Heart - St. Joseph\, Grande Prairie
DESCRIPTION:Peace Retreats Presents:\n“A Pilgrimage to the Heart”\nPoster here. \nA Pre-Lenten Retreat for Men and Women\nSaturday\, February 3\, 2024\n9:45 am – 3:30 pm\nat St. Joseph Church\, Grande Prairie\nPresented by Sheila Shepherd \nThis Retreat is being offered at no cost to you! All costs are being covered by donations given by friends and family of Jennifer Wrzosek\, in her memory. She was a faithful member of Peace Retreats until January 2022\nREGISTER NO LATER THAN JANUARY 30th!\nSend an e-mail to: peaceretreatsgp@gmail.com\nor: sheilamcshepherd@gmail.com\nor: Phone: (780) 296-4493\nInclude your name\, phone number and email address\nRegistrations are limited to the first 24 people \nBring your own bag lunch!\nCoffee\, tea\, snacks\, and a journal book will be provided.
URL:https://www.archgm.ca/event/peace-retreats-a-pilgrimage-to-the-heart-s-joseph-grande-prairie/
LOCATION:St. Joseph’s Church\, Grande Prairie\, Grande Prairie\, AB
CATEGORIES:Events Calendar
END:VEVENT
BEGIN:VEVENT
DTSTART;TZID=America/Edmonton:20240203T100000
DTEND;TZID=America/Edmonton:20240203T100000
DTSTAMP:20260420T010625
CREATED:20240103T212211Z
LAST-MODIFIED:20240103T212211Z
UID:10694-1706954400-1706954400@www.archgm.ca
SUMMARY:CWL Meeting - St. Mary's Church\, Beaverlodge
DESCRIPTION:CWL meeting at 10:00 am\nat the meeting room in St. Mary’s Church\, Beaverlodge
URL:https://www.archgm.ca/event/cwl-meeting-st-marys-church-beaverlodge-3/
LOCATION:St. Mary’s Church\, Beaverlodge\, Grande Prairie\, AB
CATEGORIES:Events Calendar
END:VEVENT
BEGIN:VEVENT
DTSTART;TZID=America/Edmonton:20240204T110000
DTEND;TZID=America/Edmonton:20240204T130000
DTSTAMP:20260420T010625
CREATED:20240103T212449Z
LAST-MODIFIED:20240103T212449Z
UID:10698-1707044400-1707051600@www.archgm.ca
SUMMARY:Sunday Mass & Potluck - St. Mary's Church\, Beaverlodge
DESCRIPTION:Potluck to follow Sunday Mass at 11 am\, in the church hall
URL:https://www.archgm.ca/event/sunday-mass-potluck-st-marys-church-beaverlodge/
LOCATION:St. Mary’s Church\, Beaverlodge\, Grande Prairie\, AB
CATEGORIES:Events Calendar
END:VEVENT
BEGIN:VEVENT
DTSTART;TZID=America/Edmonton:20240205T150000
DTEND;TZID=America/Edmonton:20240205T170000
DTSTAMP:20260420T010625
CREATED:20240205T154702Z
LAST-MODIFIED:20240205T154702Z
UID:10970-1707145200-1707152400@www.archgm.ca
SUMMARY:Christ's Children Club - Our Lady of Good Counsel\, High Level
DESCRIPTION:
URL:https://www.archgm.ca/event/christs-children-club-our-lady-of-good-counsel-high-level/
LOCATION:Our Lady of Good Counsel\, High Level\, Grande Prairie\, AB
CATEGORIES:Events Calendar
END:VEVENT
BEGIN:VEVENT
DTSTART;TZID=America/Edmonton:20240205T190000
DTEND;TZID=America/Edmonton:20240205T190000
DTSTAMP:20260420T010625
CREATED:20240205T154551Z
LAST-MODIFIED:20240205T154551Z
UID:10968-1707159600-1707159600@www.archgm.ca
SUMMARY:PPC Meeting - St. John the Baptist Cathedral\, McLennan
DESCRIPTION:
URL:https://www.archgm.ca/event/ppc-meeting-st-john-the-baptist-cathedral-mclennan/
LOCATION:St. John the Baptist Cathedral\, McLennan\, Grande Prairie\, AB
CATEGORIES:Events Calendar
END:VEVENT
BEGIN:VEVENT
DTSTART;TZID=America/Edmonton:20240206T190000
DTEND;TZID=America/Edmonton:20240206T190000
DTSTAMP:20260420T010625
CREATED:20240108T151902Z
LAST-MODIFIED:20240108T151902Z
UID:10761-1707246000-1707246000@www.archgm.ca
SUMMARY:Anointing & Healing Mass - Our Lady of Good Counsel\, High Level
DESCRIPTION:
URL:https://www.archgm.ca/event/anointing-healing-mass-our-lady-of-good-counsel-high-level-2/
LOCATION:Our Lady of Good Counsel\, High Level\, Grande Prairie\, AB
CATEGORIES:Events Calendar
END:VEVENT
BEGIN:VEVENT
DTSTART;TZID=America/Edmonton:20240206T190000
DTEND;TZID=America/Edmonton:20240206T190000
DTSTAMP:20260420T010625
CREATED:20240122T164354Z
LAST-MODIFIED:20240122T164354Z
UID:10843-1707246000-1707246000@www.archgm.ca
SUMMARY:PPC Meeting - St. Rita's\, Valleyview
DESCRIPTION:
URL:https://www.archgm.ca/event/ppc-meeting-st-ritas-valleyview/
LOCATION:St. Rita’s\, Valleyview\, Grande Prairie\, AB
CATEGORIES:Events Calendar
END:VEVENT
BEGIN:VEVENT
DTSTART;TZID=America/Edmonton:20240207T093000
DTEND;TZID=America/Edmonton:20240207T110000
DTSTAMP:20260420T010625
CREATED:20240205T201613Z
LAST-MODIFIED:20240205T201613Z
UID:11017-1707298200-1707303600@www.archgm.ca
SUMMARY:Ladies Bible Study – St. Joseph Church\, Grande Prairie
DESCRIPTION:
URL:https://www.archgm.ca/event/ladies-bible-study-st-joseph-church-grande-prairie-12/
LOCATION:St. Joseph’s Church\, Grande Prairie\, Grande Prairie\, AB
CATEGORIES:Events Calendar
END:VEVENT
BEGIN:VEVENT
DTSTART;TZID=America/Edmonton:20240208T090000
DTEND;TZID=America/Edmonton:20240208T090000
DTSTAMP:20260420T010625
CREATED:20240202T215032Z
LAST-MODIFIED:20240202T225301Z
UID:10929-1707382800-1707382800@www.archgm.ca
SUMMARY:Archbishop Meeting with Ecole Heritage
DESCRIPTION:
URL:https://www.archgm.ca/event/archbishop-meeting-with-ecole-heritage/
LOCATION:Chancery Office\, Grande Prairie\, Grande Prairie\, AB
CATEGORIES:Archbishop’s Calendar,Events Calendar
END:VEVENT
BEGIN:VEVENT
DTSTART;TZID=America/Edmonton:20240208T173000
DTEND;TZID=America/Edmonton:20240208T173000
DTSTAMP:20260420T010625
CREATED:20240122T164651Z
LAST-MODIFIED:20240122T164651Z
UID:10845-1707413400-1707413400@www.archgm.ca
SUMMARY:Music and Liturgy Practice/Committee Meeting - St. Rita's\, Valleyview
DESCRIPTION:
URL:https://www.archgm.ca/event/music-and-liturgy-practice-committee-meeting-st-ritas-valleyview/
LOCATION:St. Rita’s\, Valleyview\, Grande Prairie\, AB
CATEGORIES:Events Calendar
END:VEVENT
BEGIN:VEVENT
DTSTART;TZID=America/Edmonton:20240208T180000
DTEND;TZID=America/Edmonton:20240208T200000
DTSTAMP:20260420T010625
CREATED:20240205T201928Z
LAST-MODIFIED:20240205T201928Z
UID:11025-1707415200-1707422400@www.archgm.ca
SUMMARY:Games Night - St. Joseph Church\, Grande Prairie
DESCRIPTION:Game Night presented by the Knights of Columbus is an evening full of food\, fellowship and fun. From crib tournaments and cards to board games\, there is fun for the whole family.
URL:https://www.archgm.ca/event/games-night-st-joseph-church-grande-prairie-2/
LOCATION:St. Joseph’s Church\, Grande Prairie\, Grande Prairie\, AB
CATEGORIES:Events Calendar
END:VEVENT
BEGIN:VEVENT
DTSTART;TZID=America/Edmonton:20240208T190000
DTEND;TZID=America/Edmonton:20240208T203000
DTSTAMP:20260420T010625
CREATED:20240205T202055Z
LAST-MODIFIED:20240205T202055Z
UID:11027-1707418800-1707424200@www.archgm.ca
SUMMARY:SALT (Sharing And Learning Together) - St. Joseph Church\, Grande Prairie
DESCRIPTION:“SALT is a youth group for kids grade 3-6. We meet the 2nd and 4th Thursdays of the month in the SJPII Room\, upstairs on the office side of the Church. We play\, pray\, enjoy fellowship\, food and make new friends!! Everyone welcome!”
URL:https://www.archgm.ca/event/salt-sharing-and-learning-together-st-joseph-church-grande-prairie-3/
LOCATION:St. Joseph’s Church\, Grande Prairie\, Grande Prairie\, AB
CATEGORIES:Events Calendar
END:VEVENT
BEGIN:VEVENT
DTSTART;TZID=America/Edmonton:20240209T190000
DTEND;TZID=America/Edmonton:20240209T190000
DTSTAMP:20260420T010625
CREATED:20240108T152057Z
LAST-MODIFIED:20240202T180050Z
UID:10763-1707505200-1707505200@www.archgm.ca
SUMMARY:Mardi Gras - St. Joseph Church\, Grande Prairie
DESCRIPTION:10th Annual Mardi Gras Masquerade\nAll ages\, dress as your favourite storybook or movie character. Come dance to the music of Andre the DJ. Free tickets available after Sunday Mass.\n7-9 pm\nFeb. 9th
URL:https://www.archgm.ca/event/mardi-gras-st-joseph-church-grande-prairie/
LOCATION:St. Joseph’s Church\, Grande Prairie\, Grande Prairie\, AB
CATEGORIES:Events Calendar
END:VEVENT
BEGIN:VEVENT
DTSTART;TZID=America/Edmonton:20240210T093000
DTEND;TZID=America/Edmonton:20240210T150000
DTSTAMP:20260420T010625
CREATED:20240115T213228Z
LAST-MODIFIED:20240115T213317Z
UID:10826-1707557400-1707577200@www.archgm.ca
SUMMARY:CWL Spiritual Workshop - St. Rita's\, Valleyview
DESCRIPTION:Saturday\, February 10\, 2024\, Valleyview\nWorkshop prepared by Grouard-McLennan Diocesan Executive Council\nAttendees All women of Catholic Parishes of the diocese invited\nCost $20.00 includes lunch \nPoster \nRegistration 9:30 am\nTime 10:00 to 3:00 pm\nMass at 11:30 am\nLocation St. Rita’s Church Hall\nAddress: 4304-51 Ave.\nValleyview \nTheme • Here I am Lord\, send me.\nSpeaker • Sr. Connie Harkin\, SSND \n• Woman in the Bible: an\nencounter to remember \nPlease call Patricia with numbers attending 780-524-3018 by Feb. 7\, 2024
URL:https://www.archgm.ca/event/cwl-spiritual-workshop-st-ritas-valleyview/
LOCATION:St. Rita’s\, Valleyview\, Grande Prairie\, AB
CATEGORIES:Events Calendar
END:VEVENT
BEGIN:VEVENT
DTSTART;TZID=America/Edmonton:20240210T153000
DTEND;TZID=America/Edmonton:20240210T153000
DTSTAMP:20260420T010625
CREATED:20240205T160515Z
LAST-MODIFIED:20240205T160515Z
UID:10976-1707579000-1707579000@www.archgm.ca
SUMMARY:Choir Practice - Our Lady of Good Counsel\, High Level
DESCRIPTION:
URL:https://www.archgm.ca/event/choir-practice-our-lady-of-good-counsel-high-level/
LOCATION:Our Lady of Good Counsel\, High Level\, Grande Prairie\, AB
CATEGORIES:Events Calendar
END:VEVENT
BEGIN:VEVENT
DTSTART;TZID=America/Edmonton:20240211T110000
DTEND;TZID=America/Edmonton:20240211T110000
DTSTAMP:20260420T010625
CREATED:20240202T214829Z
LAST-MODIFIED:20240202T214829Z
UID:10927-1707649200-1707649200@www.archgm.ca
SUMMARY:KofC Canadian Breakfast - Our Lady of Peace\, Peace River
DESCRIPTION:After Sunday morning Mass
URL:https://www.archgm.ca/event/kofc-canadian-breakfast-our-lady-of-peace-peace-river/
LOCATION:Our Lady of Peace Church\, Peace River\, Grande Prairie\, AB
CATEGORIES:Events Calendar
END:VEVENT
BEGIN:VEVENT
DTSTART;TZID=America/Edmonton:20240211T113000
DTEND;TZID=America/Edmonton:20240211T113000
DTSTAMP:20260420T010625
CREATED:20240126T185719Z
LAST-MODIFIED:20240126T185719Z
UID:10873-1707651000-1707651000@www.archgm.ca
SUMMARY:Pancake Breakfast - St. John the Baptist Cathedral\, McLennan
DESCRIPTION:Pancake breakfast hosted by the CWL after Sunday Mass\, breakfast begins at 11:30 am.
URL:https://www.archgm.ca/event/pancake-breakfast-st-john-the-baptist-cathedral-mclennan/
LOCATION:St. John the Baptist Cathedral\, McLennan\, Grande Prairie\, AB
CATEGORIES:Events Calendar
END:VEVENT
BEGIN:VEVENT
DTSTART;TZID=America/Edmonton:20240211T193000
DTEND;TZID=America/Edmonton:20240211T193000
DTSTAMP:20260420T010625
CREATED:20240205T160050Z
LAST-MODIFIED:20240205T160050Z
UID:10972-1707679800-1707679800@www.archgm.ca
SUMMARY:K of C Meeting - Our Lady of Good Counsel\, High Level
DESCRIPTION:Meeting begins after 7:30 pm Mass.
URL:https://www.archgm.ca/event/k-of-c-meeting-our-lady-of-good-counsel-high-level/
LOCATION:Our Lady of Good Counsel\, High Level\, Grande Prairie\, AB
CATEGORIES:Events Calendar
END:VEVENT
BEGIN:VEVENT
DTSTART;TZID=America/Edmonton:20240212T133000
DTEND;TZID=America/Edmonton:20240212T133000
DTSTAMP:20260420T010625
CREATED:20240209T181949Z
LAST-MODIFIED:20240209T181949Z
UID:11069-1707744600-1707744600@www.archgm.ca
SUMMARY:APC Executive Council Meeting - Chancery Office/Online
DESCRIPTION:
URL:https://www.archgm.ca/event/apc-executive-council-meeting-chancery-office-online/
LOCATION:Chancery Office\, Grande Prairie\, Grande Prairie\, AB
CATEGORIES:Archbishop’s Calendar,Events Calendar
END:VEVENT
END:VCALENDAR