BEGIN:VCALENDAR
VERSION:2.0
PRODID:-//Catholic Archdiocese of Grouard-McLennan - ECPv6.15.20//NONSGML v1.0//EN
CALSCALE:GREGORIAN
METHOD:PUBLISH
X-WR-CALNAME:Catholic Archdiocese of Grouard-McLennan
X-ORIGINAL-URL:https://www.archgm.ca
X-WR-CALDESC:Events for Catholic Archdiocese of Grouard-McLennan
REFRESH-INTERVAL;VALUE=DURATION:PT1H
X-Robots-Tag:noindex
X-PUBLISHED-TTL:PT1H
BEGIN:VTIMEZONE
TZID:America/Edmonton
BEGIN:DAYLIGHT
TZOFFSETFROM:-0700
TZOFFSETTO:-0600
TZNAME:MDT
DTSTART:20220313T090000
END:DAYLIGHT
BEGIN:STANDARD
TZOFFSETFROM:-0600
TZOFFSETTO:-0700
TZNAME:MST
DTSTART:20221106T080000
END:STANDARD
BEGIN:DAYLIGHT
TZOFFSETFROM:-0700
TZOFFSETTO:-0600
TZNAME:MDT
DTSTART:20230312T090000
END:DAYLIGHT
BEGIN:STANDARD
TZOFFSETFROM:-0600
TZOFFSETTO:-0700
TZNAME:MST
DTSTART:20231105T080000
END:STANDARD
BEGIN:DAYLIGHT
TZOFFSETFROM:-0700
TZOFFSETTO:-0600
TZNAME:MDT
DTSTART:20240310T090000
END:DAYLIGHT
BEGIN:STANDARD
TZOFFSETFROM:-0600
TZOFFSETTO:-0700
TZNAME:MST
DTSTART:20241103T080000
END:STANDARD
END:VTIMEZONE
BEGIN:VEVENT
DTSTART;TZID=America/Edmonton:20231102T190000
DTEND;TZID=America/Edmonton:20231102T190000
DTSTAMP:20260419T221524
CREATED:20231016T155127Z
LAST-MODIFIED:20231016T155127Z
UID:10166-1698951600-1698951600@www.archgm.ca
SUMMARY:Mass for the Faithful Departed - St. Joseph\, Grande Prairie
DESCRIPTION:Remembering the Faithful Departed Mass\,\nThursday\, November 2\, 7:00 pm\nSt. Joseph\, Grande Prairie \nAt our annual memorial Mass the name of anyone\nwhose funeral was celebrated in our church will be\nread aloud. If you have an immediate family\nmember (parent\, sibling or child) who died in the\npast year\, we invite you to call the office before\nnoon on Friday\, Oct. 27. Their name will be read\naloud as well. If you have loved ones who have died\nin past years\, this Mass is a way to remember and\npray for them\, though their names will not read be\nout. All are welcome.
URL:https://www.archgm.ca/event/mass-for-the-faithful-departed-st-joseph-grande-prairie/
LOCATION:St. Joseph’s Church\, Grande Prairie\, Grande Prairie\, AB
CATEGORIES:Events Calendar
END:VEVENT
BEGIN:VEVENT
DTSTART;TZID=America/Edmonton:20231103T070000
DTEND;TZID=America/Edmonton:20231103T203000
DTSTAMP:20260419T221524
CREATED:20231102T150931Z
LAST-MODIFIED:20231102T150931Z
UID:10335-1698994800-1699043400@www.archgm.ca
SUMMARY:EDGE (Grade 7-9) - St. Joseph Church\, Grande Prairie
DESCRIPTION:(Gr. 7 – 9) 1st & 3rd Fridays\n7 – 8:30 pm in the St JPII Room\nNext gathering: November 3
URL:https://www.archgm.ca/event/edge-grade-7-9-st-joseph-church-grande-prairie/
LOCATION:St. Joseph’s Church\, Grande Prairie\, Grande Prairie\, AB
CATEGORIES:Events Calendar
END:VEVENT
BEGIN:VEVENT
DTSTART;TZID=America/Edmonton:20231103T180000
DTEND;TZID=America/Edmonton:20231103T210000
DTSTAMP:20260419T221524
CREATED:20230908T220714Z
LAST-MODIFIED:20231003T180141Z
UID:9795-1699034400-1699045200@www.archgm.ca
SUMMARY:Archbishop's Dinner (Deanery 1) - Ecole Providence School\, McLennan
DESCRIPTION:For the first time since 2019\, we will have a public Archbishop’s Dinner – hosted this year by Deanery 1 and held at the Ecole Providence School in McLennan on Nov. 3rd. Doors will open at 6:00 pm\, followed by the dinner at 6:30 pm. Afterwards\, Archbishop Pettipas will give a talk and presentation on the topic: “What makes a church a cathedral”. A silent auction with donated items from the churches in Deanery 1 will be held throughout the dinner and an egg raffle will be announced at the end of the evening. \n\n\n\nSee the official poster here. Tickets are $35 and can be purchased through contacting the chancery or the parishes in Deanery 1; or you can e-mail Karen at nkben@iwantwireless.ca or Nicole at mnblanchette@outlook.com
URL:https://www.archgm.ca/event/archbishops-dinner-deanery-1-ecole-providence-school-mclennan/
LOCATION:Ecole Providence School\, McLennan\, Grande Prairie\, AB
CATEGORIES:Archbishop’s Calendar,Events Calendar
END:VEVENT
BEGIN:VEVENT
DTSTART;TZID=America/Edmonton:20231104T100000
DTEND;TZID=America/Edmonton:20231104T100000
DTSTAMP:20260419T221524
CREATED:20231102T171757Z
LAST-MODIFIED:20231102T171757Z
UID:10347-1699092000-1699092000@www.archgm.ca
SUMMARY:CWL Meeting - St. Mary's Church\, Beaverlodge
DESCRIPTION:
URL:https://www.archgm.ca/event/cwl-meeting-st-marys-church-beaverlodge/
LOCATION:St. Mary’s Church\, Beaverlodge\, Grande Prairie\, AB
CATEGORIES:Events Calendar
END:VEVENT
BEGIN:VEVENT
DTSTART;TZID=America/Edmonton:20231104T170000
DTEND;TZID=America/Edmonton:20231104T170000
DTSTAMP:20260419T221524
CREATED:20231013T213326Z
LAST-MODIFIED:20231013T213326Z
UID:10151-1699117200-1699117200@www.archgm.ca
SUMMARY:Fall Supper & Silent Auction - Immaculate Conception\, Sexsmith
DESCRIPTION:Fall Supper & Silent Auction. \non Saturday\, Nov. 4\,2023 \n5pm. at Sexsmith Catholic Church.
URL:https://www.archgm.ca/event/fall-supper-silent-auction-immaculate-conception-sexsmith/
LOCATION:Immaculate Conception Church\, Sexsmith\, Grande Prairie\, AB
CATEGORIES:Events Calendar
END:VEVENT
BEGIN:VEVENT
DTSTART;TZID=America/Edmonton:20231104T190000
DTEND;TZID=America/Edmonton:20231104T190000
DTSTAMP:20260419T221524
CREATED:20230929T142200Z
LAST-MODIFIED:20230929T142200Z
UID:9965-1699124400-1699124400@www.archgm.ca
SUMMARY:Sacrament of Confirmation - St. Paul's\, High Prairie
DESCRIPTION:
URL:https://www.archgm.ca/event/sacrament-of-confirmation-st-pauls-high-prairie/
LOCATION:St. Paul’s Church\, High Prairie\, Grande Prairie\, AB
CATEGORIES:Archbishop’s Calendar,Events Calendar
END:VEVENT
BEGIN:VEVENT
DTSTART;TZID=America/Edmonton:20231104T190000
DTEND;TZID=America/Edmonton:20231104T190000
DTSTAMP:20260419T221524
CREATED:20231102T150513Z
LAST-MODIFIED:20231102T150513Z
UID:10331-1699124400-1699124400@www.archgm.ca
SUMMARY:St. Catherine Art Show - St. Joseph Church\, Grande Prairie
DESCRIPTION:St. Catherine Art Show: Courage to Lead\nFollowing all Sunday Masses on November 4 and 5\ncome to Tranquille Hall and experience the artistic\nexpressions of the Grade 1\, 5\, and 7 students from\nSt. Catherine School. Centered around the theme\n“Courage to Lead\,” their artworks beautifully\nencapsulate leadership through the lens of Jesus’\nguidance. Come\, share in their inspirations\, and\nsupport our budding artists. Let’s come together to\ncelebrate faith\, art\, and the essence of leadership.
URL:https://www.archgm.ca/event/st-catherine-art-show-st-joseph-church-grande-prairie/
LOCATION:St. Joseph’s Church\, Grande Prairie\, Grande Prairie\, AB
CATEGORIES:Events Calendar
END:VEVENT
BEGIN:VEVENT
DTSTART;TZID=America/Edmonton:20231105T110000
DTEND;TZID=America/Edmonton:20231105T110000
DTSTAMP:20260419T221524
CREATED:20231016T172223Z
LAST-MODIFIED:20231016T172223Z
UID:10177-1699182000-1699182000@www.archgm.ca
SUMMARY:Youth Mass & Potluck - St. Mary's\, Beaverlodge
DESCRIPTION:Youth Mass\nNovember 5\, at 11:00AM\nSt. Mary’s Church\nAll are welcome to join us for Potluck and youth activity\nimmediately after 11:00AM Mass.
URL:https://www.archgm.ca/event/youth-mass-potluck-st-marys-beaverlodge-3/
LOCATION:St. Mary’s Church\, Beaverlodge\, Grande Prairie\, AB
CATEGORIES:Events Calendar
END:VEVENT
BEGIN:VEVENT
DTSTART;TZID=America/Edmonton:20231105T110000
DTEND;TZID=America/Edmonton:20231105T110000
DTSTAMP:20260419T221524
CREATED:20231017T172516Z
LAST-MODIFIED:20231017T172516Z
UID:10213-1699182000-1699182000@www.archgm.ca
SUMMARY:CWL Brunch - St. Paul's\, High Prairie
DESCRIPTION:
URL:https://www.archgm.ca/event/cwl-brunch-st-pauls-high-prairie/
LOCATION:St. Paul’s Church\, High Prairie\, Grande Prairie\, AB
CATEGORIES:Events Calendar
END:VEVENT
BEGIN:VEVENT
DTSTART;TZID=America/Edmonton:20231105T110000
DTEND;TZID=America/Edmonton:20231105T130000
DTSTAMP:20260419T221524
CREATED:20231102T143057Z
LAST-MODIFIED:20231102T143057Z
UID:10308-1699182000-1699189200@www.archgm.ca
SUMMARY:Recommissioning Mass for Catholic Education & KofC Breakfast - Our Lady of Peace\, Peace River
DESCRIPTION:Recommissioning Mass for those working in Catholic education\, celebrated on Catholic Education Sunday\nKnights of Columbus to host a breakfast immediately following Mass\nNov. 5th\, 11 am
URL:https://www.archgm.ca/event/recommissioning-mass-for-catholic-education-kofc-breakfast-our-lady-of-peace-peace-river/
LOCATION:Our Lady of Peace Church\, Peace River\, Grande Prairie\, AB
CATEGORIES:Events Calendar
END:VEVENT
BEGIN:VEVENT
DTSTART;TZID=America/Edmonton:20231106T093000
DTEND;TZID=America/Edmonton:20231106T123000
DTSTAMP:20260419T221524
CREATED:20231102T150619Z
LAST-MODIFIED:20231102T150619Z
UID:10333-1699263000-1699273800@www.archgm.ca
SUMMARY:St. Catherine Art Show - St. Joseph Church\, Grande Prairie
DESCRIPTION:St. Catherine Art Show: Courage to Lead\nFollowing all Sunday Masses on November 4 and 5\ncome to Tranquille Hall and experience the artistic\nexpressions of the Grade 1\, 5\, and 7 students from\nSt. Catherine School. Centered around the theme\n“Courage to Lead\,” their artworks beautifully\nencapsulate leadership through the lens of Jesus’\nguidance. Come\, share in their inspirations\, and\nsupport our budding artists. Let’s come together to\ncelebrate faith\, art\, and the essence of leadership.
URL:https://www.archgm.ca/event/st-catherine-art-show-st-joseph-church-grande-prairie-2/
LOCATION:St. Joseph’s Church\, Grande Prairie\, Grande Prairie\, AB
CATEGORIES:Events Calendar
END:VEVENT
BEGIN:VEVENT
DTSTART;TZID=America/Edmonton:20231106T130000
DTEND;TZID=America/Edmonton:20231106T130000
DTSTAMP:20260419T221524
CREATED:20231102T143204Z
LAST-MODIFIED:20231102T143204Z
UID:10310-1699275600-1699275600@www.archgm.ca
SUMMARY:Bible Study - Our Lady of Peace\, Peace River
DESCRIPTION:Bible Study @ Our Lady of Peace Parish\nNov. 6th\, 1:00 pm
URL:https://www.archgm.ca/event/bible-study-our-lady-of-peace-peace-river/
LOCATION:Our Lady of Peace Church\, Peace River\, Grande Prairie\, AB
CATEGORIES:Events Calendar
END:VEVENT
BEGIN:VEVENT
DTSTART;TZID=America/Edmonton:20231107T180000
DTEND;TZID=America/Edmonton:20231107T180000
DTSTAMP:20260419T221524
CREATED:20231016T172756Z
LAST-MODIFIED:20231016T172756Z
UID:10183-1699380000-1699380000@www.archgm.ca
SUMMARY:I Am With You: The deVeber Institute Fall Lecture Series - Night 2
DESCRIPTION:I am with you: Fall lecture Series \nNight Two: November 7\, 8pm (ET) via Zoom(6pm in our region) \n  \nThe deVeber Institute for Bioethics and Social Research presents “I am with you” a two-night lecture series on supporting women and families through pregnancy and after. Registration is free and easy. Sign up today at www.deveber.org \nor directly through Zoom at https://us02web.zoom.us/webinar/register/WN_kl854REtQc-_746G-bV1lw \n  \nNight Two: Dr. Thomas Bouchard on supporting families through perinatal palliative care \n  \nDr. Thomas Bouchard\, a family medicine practitioner in Calgary\, will discuss his own experiences accompanying families through perinatal palliative care and Perinatal Hospice. The term “Perinatal Hospice” was coined by Dr. Byron Calhoun and is a “model of care that incorporates the strengths of prenatal diagnosis\, perinatal grief management\, and hospice care to address the needs of families.” \n  \n“I started the family physician navigator program in Calgary\,” explains Dr. Bouchard\, “to help guide couples through a difficult pregnancy journey when the interpretation of consults from obstetricians\, neonatologists and other specialists can be overwhelming.” \n  \nIn this lecture\, Dr. Bouchard will share stories and images from the families he has supported in Perinatal Hospice care — highlighting the guiding role of a family doctor and reminding us all of the beauty of a life\, no matter how short. \n  \n“A new child is miraculous\, even if they may have a short life. When love and life are concentrated in a short timeline of life\, there are often more intense emotions and opportunities for deep transformation and hope\, even in what seems like very dark moments.” \n  \nPlease contact us at bioethics@deveber.org if you have any questions or would like assistance with registration.
URL:https://www.archgm.ca/event/i-am-with-you-the-deveber-institute-fall-lecture-series-night-2/
LOCATION:Online\, Grande Prairie\, AB
CATEGORIES:Events Calendar
END:VEVENT
BEGIN:VEVENT
DTSTART;TZID=America/Edmonton:20231107T190000
DTEND;TZID=America/Edmonton:20231107T190000
DTSTAMP:20260419T221524
CREATED:20231016T160126Z
LAST-MODIFIED:20231016T160126Z
UID:10174-1699383600-1699383600@www.archgm.ca
SUMMARY:Catholic Family Services Annual General Meeting - Garrett Family Centre\, Grande Prairie
DESCRIPTION:Catholic Family Services Annual General Meeting\,\nTuesday\, November 7\, 7 pm at Catholic Family\nServices in the Garrett Family Centre\, 10105 102 St.
URL:https://www.archgm.ca/event/catholic-family-services-annual-general-meeting-garrett-family-centre-grande-prairie/
LOCATION:Garett Family Centre\, Grande Prairie\, Grande Prairie\, AB
CATEGORIES:Events Calendar
END:VEVENT
BEGIN:VEVENT
DTSTART;TZID=America/Edmonton:20231108T093000
DTEND;TZID=America/Edmonton:20231108T110000
DTSTAMP:20260419T221524
CREATED:20231102T151455Z
LAST-MODIFIED:20231102T151455Z
UID:10339-1699435800-1699441200@www.archgm.ca
SUMMARY:Ladies' Bible Study - St. Joseph Church\, Grande Prairie
DESCRIPTION:Ladies’ Bible Study\, Wednesdays\, 9:30 – 11 am\,\nSt. JPII Room. All ladies welcome.
URL:https://www.archgm.ca/event/ladies-bible-study-st-joseph-church-grande-prairie-3/
LOCATION:St. Joseph’s Church\, Grande Prairie\, Grande Prairie\, AB
CATEGORIES:Events Calendar
END:VEVENT
BEGIN:VEVENT
DTSTART;VALUE=DATE:20231109
DTEND;VALUE=DATE:20231113
DTSTAMP:20260419T221524
CREATED:20231011T154324Z
LAST-MODIFIED:20231016T190217Z
UID:10135-1699488000-1699833599@www.archgm.ca
SUMMARY:Come & See - St. Francis Friary\, Edmonton
DESCRIPTION:Come and See the life of the Franciscans \nfor young men (18-40 years of age) who are discerning their vocation \nNov. 9th to 12th @ St. Francis friary \nEdmonton\, AB \nThe experience will consist of the following: Masses\, fraternal prayer (liturgy of the hours)\, personal time\, inner city experience\, presentations\, dialogue with postulants (men in their first year of Franciscan formation)\, and interaction with the Franciscans. \nSee poster attached to register or email for more information.
URL:https://www.archgm.ca/event/come-see-st-francis-friary-edmonton/
LOCATION:St. Francis Friary\, Edmonton\, Grande Prairie\, AB
CATEGORIES:Events Calendar
END:VEVENT
BEGIN:VEVENT
DTSTART;TZID=America/Edmonton:20231109T103000
DTEND;TZID=America/Edmonton:20231109T103000
DTSTAMP:20260419T221524
CREATED:20231102T143652Z
LAST-MODIFIED:20231102T143707Z
UID:10312-1699525800-1699525800@www.archgm.ca
SUMMARY:Remembrance Service & Mass - Glenmary Catholic School\, Peace River
DESCRIPTION:
URL:https://www.archgm.ca/event/remembrance-service-glenmary-catholic-school-peace-river/
LOCATION:Glenmary School\, Peace River\, Grande Prairie\, AB
CATEGORIES:Events Calendar
END:VEVENT
BEGIN:VEVENT
DTSTART;TZID=America/Edmonton:20231109T193000
DTEND;TZID=America/Edmonton:20231109T193000
DTSTAMP:20260419T221524
CREATED:20231018T190558Z
LAST-MODIFIED:20231018T190558Z
UID:10221-1699558200-1699558200@www.archgm.ca
SUMMARY:PPC Meeting - Holy Family\, Grimshaw
DESCRIPTION:
URL:https://www.archgm.ca/event/ppc-meeting-holy-family-grimshaw/
LOCATION:Holy Family Catholic Church\, Grimshaw\, Grande Prairie\, AB
CATEGORIES:Events Calendar
END:VEVENT
BEGIN:VEVENT
DTSTART;TZID=America/Edmonton:20231110T103000
DTEND;TZID=America/Edmonton:20231110T103000
DTSTAMP:20260419T221524
CREATED:20231102T143757Z
LAST-MODIFIED:20231102T143757Z
UID:10315-1699612200-1699612200@www.archgm.ca
SUMMARY:Remembrance Service & Mass - Good Shepherd Catholic School\, Peace River
DESCRIPTION:
URL:https://www.archgm.ca/event/remembrance-service-mass-good-shepherd-catholic-school-peace-river/
LOCATION:AB
CATEGORIES:Events Calendar
END:VEVENT
BEGIN:VEVENT
DTSTART;TZID=America/Edmonton:20231110T110000
DTEND;TZID=America/Edmonton:20231110T150000
DTSTAMP:20260419T221524
CREATED:20231110T211706Z
LAST-MODIFIED:20231110T211706Z
UID:10424-1699614000-1699628400@www.archgm.ca
SUMMARY:Advent Retreat - St. Peter Celestin\, Slave Lake
DESCRIPTION:Retreat to be hosted by the Office of Evangelization and Catechesis
URL:https://www.archgm.ca/event/advent-retreat-st-peter-celestin-slave-lake/
LOCATION:St. Peter Celestin\, Slave Lake\, Grande Prairie\, AB
CATEGORIES:Events Calendar
END:VEVENT
BEGIN:VEVENT
DTSTART;TZID=America/Edmonton:20231111T110000
DTEND;TZID=America/Edmonton:20231111T110000
DTSTAMP:20260419T221524
CREATED:20231102T143848Z
LAST-MODIFIED:20231102T145908Z
UID:10317-1699700400-1699700400@www.archgm.ca
SUMMARY:Remembrance Mass - Heritage Tower\, Peace River
DESCRIPTION:
URL:https://www.archgm.ca/event/remembrance-mass-w-knights-of-columbus-our-lady-of-peace-peace-river/
LOCATION:Our Lady of Peace Church\, Peace River\, Grande Prairie\, AB
CATEGORIES:Events Calendar
END:VEVENT
BEGIN:VEVENT
DTSTART;TZID=America/Edmonton:20231112T110000
DTEND;TZID=America/Edmonton:20231112T110000
DTSTAMP:20260419T221524
CREATED:20230929T142315Z
LAST-MODIFIED:20230929T142315Z
UID:9967-1699786800-1699786800@www.archgm.ca
SUMMARY:Sacrament of Confirmation - Our Lady of Peace\, Peace River
DESCRIPTION:
URL:https://www.archgm.ca/event/sacrament-of-confirmation-our-lady-of-peace-peace-river/
LOCATION:Our Lady of Peace Church\, Peace River\, Grande Prairie\, AB
CATEGORIES:Archbishop’s Calendar,Events Calendar
END:VEVENT
BEGIN:VEVENT
DTSTART;TZID=America/Edmonton:20231115T093000
DTEND;TZID=America/Edmonton:20231115T110000
DTSTAMP:20260419T221524
CREATED:20231102T151643Z
LAST-MODIFIED:20231102T151643Z
UID:10341-1700040600-1700046000@www.archgm.ca
SUMMARY:Ladies' Bible Study - St. Joseph Church\, Grande Prairie
DESCRIPTION:Ladies’ Bible Study – St. Joseph Church\, Grande Prairie\nLadies’ Bible Study\, Wednesdays\, 9:30 – 11 am\,\nSt. JPII Room. All ladies welcome.
URL:https://www.archgm.ca/event/ladies-bible-study-st-joseph-church-grande-prairie-4/
LOCATION:St. Joseph’s Church\, Grande Prairie\, Grande Prairie\, AB
CATEGORIES:Events Calendar
END:VEVENT
BEGIN:VEVENT
DTSTART;TZID=America/Edmonton:20231115T100000
DTEND;TZID=America/Edmonton:20231115T100000
DTSTAMP:20260419T221524
CREATED:20230929T142714Z
LAST-MODIFIED:20230929T142714Z
UID:9971-1700042400-1700042400@www.archgm.ca
SUMMARY:Clergy Study Days - Deanery Meetings
DESCRIPTION:
URL:https://www.archgm.ca/event/clergy-study-days-deanery-meetings/
LOCATION:AB
CATEGORIES:Archbishop’s Calendar,Events Calendar
END:VEVENT
BEGIN:VEVENT
DTSTART;TZID=America/Edmonton:20231116T080000
DTEND;TZID=America/Edmonton:20231116T170000
DTSTAMP:20260419T221524
CREATED:20230929T142812Z
LAST-MODIFIED:20230929T142812Z
UID:9973-1700121600-1700154000@www.archgm.ca
SUMMARY:Curia Meeting - Chancery Office
DESCRIPTION:
URL:https://www.archgm.ca/event/curia-meeting-chancery-office-2/
LOCATION:Chancery Office\, Grande Prairie\, Grande Prairie\, AB
CATEGORIES:Archbishop’s Calendar,Events Calendar
END:VEVENT
BEGIN:VEVENT
DTSTART;TZID=America/Edmonton:20231116T190000
DTEND;TZID=America/Edmonton:20231116T193000
DTSTAMP:20260419T221524
CREATED:20231114T153542Z
LAST-MODIFIED:20231114T153542Z
UID:10428-1700161200-1700163000@www.archgm.ca
SUMMARY:Prayers for Healing - St. Joseph Church\, Grande Prairie
DESCRIPTION:Prayers for Healing\, Thursday\, Nov. 16\, 7:30 pm\nfollowing Mass. The Prayer Team prays for all types\nof healing: mental\, physical\, emotional\, spiritual and\neven through a proxy for someone not present. All\nare welcome to attend Mass and stay for prayer.
URL:https://www.archgm.ca/event/prayers-for-healing-st-joseph-church-grande-prairie-2/
LOCATION:St. Joseph’s Church\, Grande Prairie\, Grande Prairie\, AB
CATEGORIES:Events Calendar
END:VEVENT
BEGIN:VEVENT
DTSTART;TZID=America/Edmonton:20231117T180000
DTEND;TZID=America/Edmonton:20231119T130000
DTSTAMP:20260419T221524
CREATED:20230929T142908Z
LAST-MODIFIED:20230929T142908Z
UID:9975-1700244000-1700398800@www.archgm.ca
SUMMARY:Alberta Catholic School Trustees' Association Convention - Westin Hotel\, Edmonton
DESCRIPTION:
URL:https://www.archgm.ca/event/alberta-catholic-school-trustees-association-convention-westin-hotel-edmonton/
LOCATION:AB
CATEGORIES:Archbishop’s Calendar,Events Calendar
END:VEVENT
BEGIN:VEVENT
DTSTART;TZID=America/Edmonton:20231117T190000
DTEND;TZID=America/Edmonton:20231117T190000
DTSTAMP:20260419T221524
CREATED:20231114T153626Z
LAST-MODIFIED:20231114T153626Z
UID:10430-1700247600-1700247600@www.archgm.ca
SUMMARY:Adoration - St. Joseph Church\, Grande Prairie
DESCRIPTION:Adoration of the Blessed Sacrament\nFriday\, Nov. 17\, following 7:00 pm Mass. Join us at\nMass and stay afterwards for this quiet & personal\ntime of prayer with the Blessed Sacrament.
URL:https://www.archgm.ca/event/adoration-st-joseph-church-grande-prairie/
LOCATION:St. John the Baptist Cathedral\, McLennan\, Grande Prairie\, AB
CATEGORIES:Events Calendar
END:VEVENT
BEGIN:VEVENT
DTSTART;TZID=America/Edmonton:20231117T190000
DTEND;TZID=America/Edmonton:20231117T203000
DTSTAMP:20260419T221524
CREATED:20231102T151007Z
LAST-MODIFIED:20231102T151007Z
UID:10337-1700247600-1700253000@www.archgm.ca
SUMMARY:EDGE (Grade 7-9) - St. Joseph Church\, Grande Prairie
DESCRIPTION:(Gr. 7 – 9) 1st & 3rd Fridays\n7 – 8:30 pm in the St JPII Room
URL:https://www.archgm.ca/event/edge-grade-7-9-st-joseph-church-grande-prairie-2/
LOCATION:St. Joseph’s Church\, Grande Prairie\, Grande Prairie\, AB
CATEGORIES:Events Calendar
END:VEVENT
BEGIN:VEVENT
DTSTART;TZID=America/Edmonton:20231118T110000
DTEND;TZID=America/Edmonton:20231118T110000
DTSTAMP:20260419T221524
CREATED:20231102T144011Z
LAST-MODIFIED:20231102T144011Z
UID:10320-1700305200-1700305200@www.archgm.ca
SUMMARY:Knights of Columbus Memorial Mass (w/ Luncheon) - Our Lady of Peace\, Peace River
DESCRIPTION:
URL:https://www.archgm.ca/event/knights-of-columbus-memorial-mass-w-luncheon-our-lady-of-peace-peace-river/
LOCATION:Our Lady of Peace Church\, Peace River\, Grande Prairie\, AB
CATEGORIES:Events Calendar
END:VEVENT
END:VCALENDAR