BEGIN:VCALENDAR
VERSION:2.0
PRODID:-//Catholic Archdiocese of Grouard-McLennan - ECPv6.15.20//NONSGML v1.0//EN
CALSCALE:GREGORIAN
METHOD:PUBLISH
X-ORIGINAL-URL:https://www.archgm.ca
X-WR-CALDESC:Events for Catholic Archdiocese of Grouard-McLennan
REFRESH-INTERVAL;VALUE=DURATION:PT1H
X-Robots-Tag:noindex
X-PUBLISHED-TTL:PT1H
BEGIN:VTIMEZONE
TZID:America/Edmonton
BEGIN:DAYLIGHT
TZOFFSETFROM:-0700
TZOFFSETTO:-0600
TZNAME:MDT
DTSTART:20220313T090000
END:DAYLIGHT
BEGIN:STANDARD
TZOFFSETFROM:-0600
TZOFFSETTO:-0700
TZNAME:MST
DTSTART:20221106T080000
END:STANDARD
BEGIN:DAYLIGHT
TZOFFSETFROM:-0700
TZOFFSETTO:-0600
TZNAME:MDT
DTSTART:20230312T090000
END:DAYLIGHT
BEGIN:STANDARD
TZOFFSETFROM:-0600
TZOFFSETTO:-0700
TZNAME:MST
DTSTART:20231105T080000
END:STANDARD
BEGIN:DAYLIGHT
TZOFFSETFROM:-0700
TZOFFSETTO:-0600
TZNAME:MDT
DTSTART:20240310T090000
END:DAYLIGHT
BEGIN:STANDARD
TZOFFSETFROM:-0600
TZOFFSETTO:-0700
TZNAME:MST
DTSTART:20241103T080000
END:STANDARD
BEGIN:DAYLIGHT
TZOFFSETFROM:-0700
TZOFFSETTO:-0600
TZNAME:MDT
DTSTART:20250309T090000
END:DAYLIGHT
BEGIN:STANDARD
TZOFFSETFROM:-0600
TZOFFSETTO:-0700
TZNAME:MST
DTSTART:20251102T080000
END:STANDARD
END:VTIMEZONE
BEGIN:VEVENT
DTSTART;TZID=America/Edmonton:20231126T170000
DTEND;TZID=America/Edmonton:20231126T190000
DTSTAMP:20260419T192844
CREATED:20231120T152953Z
LAST-MODIFIED:20231120T152953Z
UID:10463-1701018000-1701025200@www.archgm.ca
SUMMARY:Caroling on Feast of Christ the King - Our Lady of Good Counsel\, High Level
DESCRIPTION:Christmas Caroling presentation is being held on Sunday\, November 26\,\nChrist\, The King -Sunday\, from 5 PM to 7 PM at the Church.\nWe encourage you all to attend with your family to support the celebration and\nenrich the community spirit within our Church. Please bring a dish for the potluck\nto follow in the meeting room. See you there! \nParish Council will be launching a silent auction at the Christmas Carol\nconcert on Sunday\, November 26th. We are looking for donations for\nthe silent auction. All donors will be issued tax receipts.\nPlease contact either Vilma Desamero (780-841-6474 )or Bev Hilhorst\n(780-926-0821) if you have an item to donate or for more information.
URL:https://www.archgm.ca/event/caroling-on-feast-of-christ-the-king-our-lady-of-good-counsel-high-level/
LOCATION:St. Joseph’s Church\, Grande Prairie\, Grande Prairie\, AB
CATEGORIES:Events Calendar
END:VEVENT
BEGIN:VEVENT
DTSTART;TZID=America/Edmonton:20231127T130000
DTEND;TZID=America/Edmonton:20231127T130000
DTSTAMP:20260419T192844
CREATED:20231102T144148Z
LAST-MODIFIED:20231102T144148Z
UID:10324-1701090000-1701090000@www.archgm.ca
SUMMARY:Bible Study - Our Lady of Peace\, Peace River
DESCRIPTION:
URL:https://www.archgm.ca/event/bible-study-our-lady-of-peace-peace-river-3/
LOCATION:Our Lady of Peace Church\, Peace River\, Grande Prairie\, AB
CATEGORIES:Events Calendar
END:VEVENT
BEGIN:VEVENT
DTSTART;TZID=America/Edmonton:20231129T093000
DTEND;TZID=America/Edmonton:20231129T110000
DTSTAMP:20260419T192844
CREATED:20231102T151834Z
LAST-MODIFIED:20231102T151834Z
UID:10345-1701250200-1701255600@www.archgm.ca
SUMMARY:Ladies' Bible Study - St. Joseph Church\, Grande Prairie
DESCRIPTION:Ladies’ Bible Study – St. Joseph Church\, Grande Prairie\nLadies’ Bible Study\, Wednesdays\, 9:30 – 11 am\,\nSt. JPII Room. All ladies welcome.
URL:https://www.archgm.ca/event/ladies-bible-study-st-joseph-church-grande-prairie-6/
LOCATION:St. Joseph’s Church\, Grande Prairie\, Grande Prairie\, AB
CATEGORIES:Events Calendar
END:VEVENT
BEGIN:VEVENT
DTSTART;TZID=America/Edmonton:20231130T080000
DTEND;TZID=America/Edmonton:20231130T170000
DTSTAMP:20260419T192844
CREATED:20230929T143856Z
LAST-MODIFIED:20230929T143856Z
UID:9987-1701331200-1701363600@www.archgm.ca
SUMMARY:Curia Meeting - Chancery Office
DESCRIPTION:
URL:https://www.archgm.ca/event/curia-meeting-chancery-office-3/
LOCATION:Chancery Office\, Grande Prairie\, Grande Prairie\, AB
CATEGORIES:Archbishop’s Calendar,Events Calendar
END:VEVENT
BEGIN:VEVENT
DTSTART;TZID=America/Edmonton:20231202T130000
DTEND;TZID=America/Edmonton:20231202T130000
DTSTAMP:20260419T192844
CREATED:20231120T153712Z
LAST-MODIFIED:20231120T153712Z
UID:10467-1701522000-1701522000@www.archgm.ca
SUMMARY:Filipino Mass - St. Joseph Church\, Grande Prairie
DESCRIPTION:Filipino Mass\, Saturday\, Dec. 2 @ 1pm\, in the church\nPresider: Fr. Nel Esguerra\nLunch\, fellowship & FAGPA AGM follows in\nTranquille Hall. Please contact Tessie for details\,\ndotgr@hotmail.com
URL:https://www.archgm.ca/event/filipino-mass-st-joseph-church-grande-prairie/
LOCATION:St. Joseph’s Church\, Grande Prairie\, Grande Prairie\, AB
CATEGORIES:Events Calendar
END:VEVENT
BEGIN:VEVENT
DTSTART;TZID=America/Edmonton:20231202T140000
DTEND;TZID=America/Edmonton:20231202T160000
DTSTAMP:20260419T192844
CREATED:20231120T175038Z
LAST-MODIFIED:20231120T175038Z
UID:10475-1701525600-1701532800@www.archgm.ca
SUMMARY:Annual Tea and Bake Sale - St. Thomas More Church\, Fairivew
DESCRIPTION:St. Thomas More CWL cordinally invite you to our Annual Tea and Bake Sale\nDec. 2nd\n2-4 pm \n@ St. Thomas More Church Hall in Fairview\nTea\, bake sale\, jars draw\, quilt raffle\, baskets raffle\nEntry fee of $5
URL:https://www.archgm.ca/event/annual-tea-and-bake-sale-st-thomas-more-church-fairivew/
LOCATION:St. Thomas More Church\, Fairview\, Grande Prairie\, AB
CATEGORIES:Events Calendar
END:VEVENT
BEGIN:VEVENT
DTSTART;TZID=America/Edmonton:20231203T100000
DTEND;TZID=America/Edmonton:20231203T150000
DTSTAMP:20260419T192844
CREATED:20231018T190514Z
LAST-MODIFIED:20231018T190514Z
UID:10219-1701597600-1701615600@www.archgm.ca
SUMMARY:Advent Retreat - Holy Family\, Grimshaw
DESCRIPTION:An Advent retreat will be preached by Fr. Emmanuel Ekanem at Holy Family Church in Grimshaw on Dec. 3rd.\nLunch will be served.
URL:https://www.archgm.ca/event/advent-retreat-holy-family-grimshaw/
LOCATION:Holy Family Catholic Church\, Grimshaw\, Grande Prairie\, AB
CATEGORIES:Events Calendar
END:VEVENT
BEGIN:VEVENT
DTSTART;TZID=America/Edmonton:20231203T110000
DTEND;TZID=America/Edmonton:20231203T110000
DTSTAMP:20260419T192844
CREATED:20231102T171847Z
LAST-MODIFIED:20231102T171847Z
UID:10349-1701601200-1701601200@www.archgm.ca
SUMMARY:Youth Mass & Potluck - St. Mary's Church\, Beaverlodge
DESCRIPTION:
URL:https://www.archgm.ca/event/youth-mass-potluck-st-marys-church-beaverlodge-2/
LOCATION:St. Mary’s Church\, Beaverlodge\, Grande Prairie\, AB
CATEGORIES:Events Calendar
END:VEVENT
BEGIN:VEVENT
DTSTART;TZID=America/Edmonton:20231203T110000
DTEND;TZID=America/Edmonton:20231203T110000
DTSTAMP:20260419T192844
CREATED:20231122T184610Z
LAST-MODIFIED:20231122T184610Z
UID:10485-1701601200-1701601200@www.archgm.ca
SUMMARY:Mass & Filipino Breakfast - Our Lady of Peace\, Peace River
DESCRIPTION:
URL:https://www.archgm.ca/event/mass-filipino-breakfast-our-lady-of-peace-peace-river/
LOCATION:Our Lady of Peace Church\, Peace River\, Grande Prairie\, AB
CATEGORIES:Events Calendar
END:VEVENT
BEGIN:VEVENT
DTSTART;TZID=America/Edmonton:20231203T120000
DTEND;TZID=America/Edmonton:20231203T120000
DTSTAMP:20260419T192844
CREATED:20231102T172015Z
LAST-MODIFIED:20231110T211409Z
UID:10351-1701604800-1701604800@www.archgm.ca
SUMMARY:Gingerbread Baking and Craft Sale\, Potluck - St. Mary's Church\, Beaverlodge
DESCRIPTION:Potluck Sunday along with Gingerbread baking and craft fundraiser. Immediately after the 11am Mass. St. Mary’s Church Hall.
URL:https://www.archgm.ca/event/gingerbread-baking-and-craft-sale-auction-st-marys-church-beaverlodge/
LOCATION:St. Mary’s Church\, Beaverlodge\, Grande Prairie\, AB
CATEGORIES:Events Calendar
END:VEVENT
BEGIN:VEVENT
DTSTART;TZID=America/Edmonton:20231203T173000
DTEND;TZID=America/Edmonton:20231203T173000
DTSTAMP:20260419T192844
CREATED:20231114T153017Z
LAST-MODIFIED:20231114T153017Z
UID:10426-1701624600-1701624600@www.archgm.ca
SUMMARY:Tourtiere Supper - St. John the Baptist\, McLennan
DESCRIPTION:Tourtiere Supper\n@ St. John the Baptist Parish Hall\, McLennan \nSunday\, Dec. 3rd – 5:30 pm \nAlso includes: Bake sale\, door prize\, raffles\, 50/50\, and a visit from Santa Clause \nCosts: ages 7-12 – $10.00\nages 13+ – $20.00\nages 0-6 – free \nTickets for supper are available from CWL members or contact the parish office at 780-324-3583\nEveryone welcome!
URL:https://www.archgm.ca/event/tourtiere-supper-st-john-the-baptist-mclennan/
LOCATION:St. John the Baptist Cathedral\, McLennan\, Grande Prairie\, AB
CATEGORIES:Events Calendar
END:VEVENT
BEGIN:VEVENT
DTSTART;TZID=America/Edmonton:20231203T180000
DTEND;TZID=America/Edmonton:20231203T180000
DTSTAMP:20260419T192844
CREATED:20231102T172102Z
LAST-MODIFIED:20231102T172102Z
UID:10353-1701626400-1701626400@www.archgm.ca
SUMMARY:Festival of Nine Lessons and Carols - St. Mary's Church\, Beaverlodge
DESCRIPTION:
URL:https://www.archgm.ca/event/festival-of-nine-lessons-and-carols-st-marys-church-beaverlodge/
LOCATION:St. Mary’s Church\, Beaverlodge\, Grande Prairie\, AB
CATEGORIES:Events Calendar
END:VEVENT
BEGIN:VEVENT
DTSTART;TZID=America/Edmonton:20231205T100000
DTEND;TZID=America/Edmonton:20231205T100000
DTSTAMP:20260419T192844
CREATED:20231017T151437Z
LAST-MODIFIED:20231120T154102Z
UID:10194-1701770400-1701770400@www.archgm.ca
SUMMARY:Clergy Vianney Dinner (Clergy Study Days Closing Event) - Peace River
DESCRIPTION:
URL:https://www.archgm.ca/event/clergy-vianney-dinner-clergy-study-days-closing-event-peace-river/
LOCATION:Catholic Conference Centre\, Peace River\, Grande Prairie\, AB
CATEGORIES:Events Calendar
END:VEVENT
BEGIN:VEVENT
DTSTART;TZID=America/Edmonton:20231205T183000
DTEND;TZID=America/Edmonton:20231205T183000
DTSTAMP:20260419T192844
CREATED:20231122T184828Z
LAST-MODIFIED:20231122T184828Z
UID:10489-1701801000-1701801000@www.archgm.ca
SUMMARY:Baptism Preparation - Our Lady of Peace\, Peace River
DESCRIPTION:
URL:https://www.archgm.ca/event/baptism-preparation-our-lady-of-peace-peace-river/
LOCATION:Our Lady of Peace Church\, Peace River\, Grande Prairie\, AB
CATEGORIES:Events Calendar
END:VEVENT
BEGIN:VEVENT
DTSTART;TZID=America/Edmonton:20231205T190000
DTEND;TZID=America/Edmonton:20231205T190000
DTSTAMP:20260419T192844
CREATED:20231204T152800Z
LAST-MODIFIED:20231204T152800Z
UID:10536-1701802800-1701802800@www.archgm.ca
SUMMARY:Anointing and Healing Mass - Our Lady of Good Counsel\, High Level
DESCRIPTION:
URL:https://www.archgm.ca/event/anointing-and-healing-mass-our-lady-of-good-counsel-high-level-3/
LOCATION:Our Lady of Good Counsel\, High Level\, Grande Prairie\, AB
CATEGORIES:Events Calendar
END:VEVENT
BEGIN:VEVENT
DTSTART;TZID=America/Edmonton:20231208T170000
DTEND;TZID=America/Edmonton:20231208T170000
DTSTAMP:20260419T192844
CREATED:20231120T153954Z
LAST-MODIFIED:20231120T153954Z
UID:10471-1702054800-1702054800@www.archgm.ca
SUMMARY:CWL Christmas Party - St. Mary's\, Beaverlodge
DESCRIPTION:On the Feast of the Immaculate\nConception of the Blessed Virgin\nMary\, Friday December 8\, 2023\nBeginning with the celebration of\nthe Holy Mass at 5pm followed by\nPotluck Supper\, Christmas Gift\nExchange\, and Christmas\n“sing-along.”\nAll Ladies are welcome!
URL:https://www.archgm.ca/event/cwl-christmas-party-st-marys-beaverlodge/
LOCATION:St. Joseph’s Church\, Grande Prairie\, Grande Prairie\, AB
CATEGORIES:Events Calendar
END:VEVENT
BEGIN:VEVENT
DTSTART;TZID=America/Edmonton:20231209T093000
DTEND;TZID=America/Edmonton:20231209T153000
DTSTAMP:20260419T192844
CREATED:20231122T164222Z
LAST-MODIFIED:20231122T164222Z
UID:10477-1702114200-1702135800@www.archgm.ca
SUMMARY:Come as a Child: Advent Retreat - St. Joseph Church\, Grande Prairie
DESCRIPTION:“Come as a Child” is an upcoming Advent retreat for men and women hosted by Peace Retreats. It will offer a time for reflection\, group sharing and prayer as we prepare for this most sacred time of year. \n\n\n\nThe retreat will be held at St. Joseph Catholic Church in Grande Prairie on Dec. 9th\, from 9:30 am to 3:30 pm. See further details and contact information in the attached image!
URL:https://www.archgm.ca/event/come-as-a-child-advent-retreat-st-joseph-church-grande-prairie/
LOCATION:St. Joseph’s Church\, Grande Prairie\, Grande Prairie\, AB
CATEGORIES:Events Calendar
END:VEVENT
BEGIN:VEVENT
DTSTART;TZID=America/Edmonton:20231210T110000
DTEND;TZID=America/Edmonton:20231210T123000
DTSTAMP:20260419T192844
CREATED:20231102T172158Z
LAST-MODIFIED:20231110T211429Z
UID:10355-1702206000-1702211400@www.archgm.ca
SUMMARY:Youth Mass & Chili and Bun Fundraiser - St. Mary's Church\, Beaverlodge
DESCRIPTION:Youth Mass and St. Mary’s School Chili and Bun Fundraiser. Immediately after the 11am Mass at St. Mary’s Church.
URL:https://www.archgm.ca/event/chili-and-bun-fundraiser-st-marys-church-beaverlodge/
LOCATION:St. Mary’s Church\, Beaverlodge\, Grande Prairie\, AB
CATEGORIES:Events Calendar
END:VEVENT
BEGIN:VEVENT
DTSTART;TZID=America/Edmonton:20231210T140000
DTEND;TZID=America/Edmonton:20231210T140000
DTSTAMP:20260419T192844
CREATED:20231018T190633Z
LAST-MODIFIED:20231018T190727Z
UID:10223-1702216800-1702216800@www.archgm.ca
SUMMARY:Annual Festival of Nine Lessons and Carols - Holy Family\, Grimshaw
DESCRIPTION:
URL:https://www.archgm.ca/event/annual-festival-of-nine-lessons-and-carols-holy-family-grimshaw/
LOCATION:Holy Family Catholic Church\, Grimshaw\, Grande Prairie\, AB
CATEGORIES:Events Calendar
END:VEVENT
BEGIN:VEVENT
DTSTART;TZID=America/Edmonton:20231211T130000
DTEND;TZID=America/Edmonton:20231211T200000
DTSTAMP:20260419T192844
CREATED:20231130T214733Z
LAST-MODIFIED:20231130T214737Z
UID:10528-1702299600-1702324800@www.archgm.ca
SUMMARY:Mercy Monday - St. Joseph Church\, Grande Prairie
DESCRIPTION:December 11\, 2023\nfrom 1:00 – 8:00 pm.\nSt. Joseph’s Church Grande Prairie\nPriests will be available for the\nSacrament of Reconciliation\nTake advantage of this opportunity for spiritual\nhealing.\nAll ages welcome.
URL:https://www.archgm.ca/event/mercy-monday-st-joseph-church-grande-prairie/
LOCATION:St. Joseph’s Church\, Grande Prairie\, Grande Prairie\, AB
CATEGORIES:Events Calendar
END:VEVENT
BEGIN:VEVENT
DTSTART;TZID=America/Edmonton:20231213T120000
DTEND;TZID=America/Edmonton:20231213T180000
DTSTAMP:20260419T192844
CREATED:20231122T184901Z
LAST-MODIFIED:20231122T184901Z
UID:10491-1702468800-1702490400@www.archgm.ca
SUMMARY:Day of Reconciliation - Our Lady of Peace\, Peace River
DESCRIPTION:
URL:https://www.archgm.ca/event/day-of-reconciliation-our-lady-of-peace-peace-river/
LOCATION:Our Lady of Peace Church\, Peace River\, Grande Prairie\, AB
CATEGORIES:Events Calendar
END:VEVENT
BEGIN:VEVENT
DTSTART;TZID=America/Edmonton:20231217T103000
DTEND;TZID=America/Edmonton:20231217T120000
DTSTAMP:20260419T192844
CREATED:20231017T151803Z
LAST-MODIFIED:20231017T151803Z
UID:10202-1702809000-1702814400@www.archgm.ca
SUMMARY:Archbishop's Mass - St. John the Baptist Cathedral\, McLennan
DESCRIPTION:
URL:https://www.archgm.ca/event/archbishops-mass-st-john-the-baptist-cathedral-mclennan-3/
LOCATION:St. John the Baptist Cathedral\, McLennan\, Grande Prairie\, AB
CATEGORIES:Archbishop’s Calendar,Events Calendar
END:VEVENT
BEGIN:VEVENT
DTSTART;TZID=America/Edmonton:20231217T110000
DTEND;TZID=America/Edmonton:20231217T150000
DTSTAMP:20260419T192844
CREATED:20231124T185659Z
LAST-MODIFIED:20231124T185746Z
UID:10505-1702810800-1702825200@www.archgm.ca
SUMMARY:Advent Retreat - St. Peter Celestin\, Slave Lake
DESCRIPTION:Retreat hosted by the Office of Evangelization and Catechesis\nSt. Peter Celestin Church\, Slave Lake
URL:https://www.archgm.ca/event/advent-retreat-st-peter-celestin-slave-lake-2/
LOCATION:St. Peter Celestin\, Slave Lake\, Grande Prairie\, AB
CATEGORIES:Events Calendar
END:VEVENT
BEGIN:VEVENT
DTSTART;TZID=America/Edmonton:20231217T140000
DTEND;TZID=America/Edmonton:20231217T180000
DTSTAMP:20260419T192844
CREATED:20231214T213032Z
LAST-MODIFIED:20231214T213032Z
UID:10636-1702821600-1702836000@www.archgm.ca
SUMMARY:El Shaddai Christmas Party - St. Joseph Church\, Grande Prairie
DESCRIPTION:El Shaddai Grande Prairie chapter will have a Christmas party on Sunday\, Dec. 17th – 2:00pm-6:00pm \nTalks will be given by Fr. Charles Duval\, CSsR and Fr. Joseph Horo\, CSsR\nSt. Joseph Catholic Church\, Tranquille Hall
URL:https://www.archgm.ca/event/el-shaddai-christmas-party-st-joseph-church-grande-prairie/
LOCATION:St. Joseph’s Church\, Grande Prairie\, Grande Prairie\, AB
CATEGORIES:Archbishop’s Calendar,Events Calendar
END:VEVENT
BEGIN:VEVENT
DTSTART;TZID=America/Edmonton:20231217T170000
DTEND;TZID=America/Edmonton:20231217T170000
DTSTAMP:20260419T192844
CREATED:20231017T172604Z
LAST-MODIFIED:20231017T172604Z
UID:10215-1702832400-1702832400@www.archgm.ca
SUMMARY:Christmas Charity Supper - St. Paul's\, High Prairie
DESCRIPTION:
URL:https://www.archgm.ca/event/christmas-charity-supper-st-pauls-high-prairie/
LOCATION:St. Paul’s Church\, High Prairie\, Grande Prairie\, AB
CATEGORIES:Events Calendar
END:VEVENT
BEGIN:VEVENT
DTSTART;VALUE=DATE:20231219
DTEND;VALUE=DATE:20231221
DTSTAMP:20260419T192844
CREATED:20230929T143524Z
LAST-MODIFIED:20230929T143824Z
UID:9983-1702944000-1703116799@www.archgm.ca
SUMMARY:Alberta/NWT Bishops Meeting - Edmonton
DESCRIPTION:
URL:https://www.archgm.ca/event/alberta-nwt-bishops-meeting-edmonton/
LOCATION:AB
CATEGORIES:Archbishop’s Calendar,Events Calendar
END:VEVENT
BEGIN:VEVENT
DTSTART;TZID=America/Edmonton:20231221T090000
DTEND;TZID=America/Edmonton:20231221T170000
DTSTAMP:20260419T192844
CREATED:20231017T151620Z
LAST-MODIFIED:20231117T145947Z
UID:10198-1703149200-1703178000@www.archgm.ca
SUMMARY:Curia Meeting - Chancery Office\, Grande Prairie
DESCRIPTION:
URL:https://www.archgm.ca/event/curia-meeting-chancery-office-grande-prairie-4/
LOCATION:Chancery Office\, Grande Prairie\, Grande Prairie\, AB
CATEGORIES:Archbishop’s Calendar,Events Calendar
END:VEVENT
BEGIN:VEVENT
DTSTART;VALUE=DATE:20231223
DTEND;VALUE=DATE:20231229
DTSTAMP:20260419T192844
CREATED:20231017T152018Z
LAST-MODIFIED:20231017T152018Z
UID:10206-1703289600-1703807999@www.archgm.ca
SUMMARY:Christmas & Confirmations - Little Red River Cree Nation
DESCRIPTION:Archbishop Pettipas will celebrate Christmas Masses and confirmations in the communities of Little Red River Cree Nation: John D’Or Prairie\, Fox Lake\, and Garden River
URL:https://www.archgm.ca/event/christmas-confirmations-little-red-river-cree-nation/
LOCATION:Little Red River Cree Nation\, Grande Prairie\, AB
CATEGORIES:Archbishop’s Calendar,Events Calendar
END:VEVENT
BEGIN:VEVENT
DTSTART;VALUE=DATE:20231225
DTEND;VALUE=DATE:20231226
DTSTAMP:20260419T192844
CREATED:20231017T152128Z
LAST-MODIFIED:20231017T152128Z
UID:10209-1703462400-1703548799@www.archgm.ca
SUMMARY:Christmas Day
DESCRIPTION:
URL:https://www.archgm.ca/event/christmas-day-2/
LOCATION:AB
CATEGORIES:Archbishop’s Calendar,Events Calendar
END:VEVENT
BEGIN:VEVENT
DTSTART;VALUE=DATE:20240101
DTEND;VALUE=DATE:20240102
DTSTAMP:20260419T192844
CREATED:20231017T152149Z
LAST-MODIFIED:20231017T152149Z
UID:10211-1704067200-1704153599@www.archgm.ca
SUMMARY:New Years Day
DESCRIPTION:
URL:https://www.archgm.ca/event/new-years-day/
LOCATION:AB
CATEGORIES:Archbishop’s Calendar,Events Calendar
END:VEVENT
END:VCALENDAR