BEGIN:VCALENDAR
VERSION:2.0
PRODID:-//Catholic Archdiocese of Grouard-McLennan - ECPv6.15.20//NONSGML v1.0//EN
CALSCALE:GREGORIAN
METHOD:PUBLISH
X-WR-CALNAME:Catholic Archdiocese of Grouard-McLennan
X-ORIGINAL-URL:https://www.archgm.ca
X-WR-CALDESC:Events for Catholic Archdiocese of Grouard-McLennan
REFRESH-INTERVAL;VALUE=DURATION:PT1H
X-Robots-Tag:noindex
X-PUBLISHED-TTL:PT1H
BEGIN:VTIMEZONE
TZID:America/Edmonton
BEGIN:DAYLIGHT
TZOFFSETFROM:-0700
TZOFFSETTO:-0600
TZNAME:MDT
DTSTART:20250309T090000
END:DAYLIGHT
BEGIN:STANDARD
TZOFFSETFROM:-0600
TZOFFSETTO:-0700
TZNAME:MST
DTSTART:20251102T080000
END:STANDARD
BEGIN:DAYLIGHT
TZOFFSETFROM:-0700
TZOFFSETTO:-0600
TZNAME:MDT
DTSTART:20260308T090000
END:DAYLIGHT
BEGIN:STANDARD
TZOFFSETFROM:-0600
TZOFFSETTO:-0700
TZNAME:MST
DTSTART:20261101T080000
END:STANDARD
BEGIN:DAYLIGHT
TZOFFSETFROM:-0700
TZOFFSETTO:-0600
TZNAME:MDT
DTSTART:20270314T090000
END:DAYLIGHT
BEGIN:STANDARD
TZOFFSETFROM:-0600
TZOFFSETTO:-0700
TZNAME:MST
DTSTART:20271107T080000
END:STANDARD
END:VTIMEZONE
BEGIN:VEVENT
DTSTART;TZID=America/Edmonton:20260312T193000
DTEND;TZID=America/Edmonton:20260312T193000
DTSTAMP:20260419T155858
CREATED:20260209T155216Z
LAST-MODIFIED:20260209T155216Z
UID:17001-1773343800-1773343800@www.archgm.ca
SUMMARY:Catholic Returning Home - St. Joseph Church (Grouard Room)\, Grande Prairie
DESCRIPTION:
URL:https://www.archgm.ca/event/catholic-returning-home-st-joseph-church-grouard-room-grande-prairie-4/
LOCATION:St. Joseph’s Church\, Grande Prairie\, Grande Prairie\, AB
CATEGORIES:Events Calendar
END:VEVENT
BEGIN:VEVENT
DTSTART;TZID=America/Edmonton:20260313T173000
DTEND;TZID=America/Edmonton:20260313T193000
DTSTAMP:20260419T155858
CREATED:20260210T184331Z
LAST-MODIFIED:20260210T184331Z
UID:17030-1773423000-1773430200@www.archgm.ca
SUMMARY:Lenten Soup + Stations of the Cross - St. Joseph Church\, Grande Prairie
DESCRIPTION:
URL:https://www.archgm.ca/event/lenten-soup-stations-of-the-cross-st-joseph-church-grande-prairie-4/
LOCATION:St. Joseph’s Church\, Grande Prairie\, Grande Prairie\, AB
CATEGORIES:Events Calendar
END:VEVENT
BEGIN:VEVENT
DTSTART;TZID=America/Edmonton:20260313T180000
DTEND;TZID=America/Edmonton:20260313T180000
DTSTAMP:20260419T155858
CREATED:20260212T225708Z
LAST-MODIFIED:20260212T225708Z
UID:17071-1773424800-1773424800@www.archgm.ca
SUMMARY:Lenten Soups & Stations - St. Mary's Church\, Beaverlodge
DESCRIPTION:
URL:https://www.archgm.ca/event/lenten-soups-stations-st-marys-church-beaverlodge-4/
LOCATION:St. Mary’s Church\, Beaverlodge\, Grande Prairie\, AB
CATEGORIES:Events Calendar
END:VEVENT
BEGIN:VEVENT
DTSTART;TZID=America/Edmonton:20260313T180000
DTEND;TZID=America/Edmonton:20260313T180000
DTSTAMP:20260419T155858
CREATED:20260217T180801Z
LAST-MODIFIED:20260217T180801Z
UID:17097-1773424800-1773424800@www.archgm.ca
SUMMARY:Way of the Cross - Our Lady of Good Counsel\, High Level
DESCRIPTION:
URL:https://www.archgm.ca/event/way-of-the-cross-our-lady-of-good-counsel-high-level-4/
LOCATION:Our Lady of Good Counsel\, High Level\, Grande Prairie\, AB
CATEGORIES:Events Calendar
END:VEVENT
BEGIN:VEVENT
DTSTART;TZID=America/Edmonton:20260314T120000
DTEND;TZID=America/Edmonton:20260314T140000
DTSTAMP:20260419T155858
CREATED:20260309T152600Z
LAST-MODIFIED:20260309T152600Z
UID:17434-1773489600-1773496800@www.archgm.ca
SUMMARY:CWL Pie Sale - St. Joseph Church\, Grande Prairie
DESCRIPTION:CWL Pie Sale Saturday\, March 14\, noon – 2 pm\,\nTranquille Hall. Donations of fruit pies would be\nappreciated. Drop off donations Saturday from 9 –\n11 am in Tranquille Hall. If you have questions\,\ncontact cwlstjosephgp@gmail.com
URL:https://www.archgm.ca/event/cwl-pie-sale-st-joseph-church-grande-prairie/
LOCATION:St. Joseph’s Church\, Grande Prairie\, Grande Prairie\, AB
CATEGORIES:Events Calendar
END:VEVENT
BEGIN:VEVENT
DTSTART;TZID=America/Edmonton:20260315T100000
DTEND;TZID=America/Edmonton:20260315T100000
DTSTAMP:20260419T155858
CREATED:20260309T143230Z
LAST-MODIFIED:20260309T143230Z
UID:17391-1773568800-1773568800@www.archgm.ca
SUMMARY:Youth Mass - St. Peter and Paul\, Rycroft
DESCRIPTION:9:40 pm – Way of the Cross\n10:00 am – Youth Mass
URL:https://www.archgm.ca/event/youth-mass-st-peter-and-paul-rycroft-3/
LOCATION:St. Peter and Paul Church\, Rycroft\, Grande Prairie\, AB
CATEGORIES:Events Calendar
END:VEVENT
BEGIN:VEVENT
DTSTART;TZID=America/Edmonton:20260315T103000
DTEND;TZID=America/Edmonton:20260315T143000
DTSTAMP:20260419T155858
CREATED:20260204T163944Z
LAST-MODIFIED:20260204T163944Z
UID:16907-1773570600-1773585000@www.archgm.ca
SUMMARY:Lenten Retreat - Our Lady of Lourdes\, Girouxville
DESCRIPTION:
URL:https://www.archgm.ca/event/lenten-retreat-our-lady-of-lourdes-girouxville/
LOCATION:Our Lady of Lourdes Church\, Girouxville\, Grande Prairie\, AB
CATEGORIES:Archbishop’s Calendar,Events Calendar
END:VEVENT
BEGIN:VEVENT
DTSTART;TZID=America/Edmonton:20260316T190000
DTEND;TZID=America/Edmonton:20260316T190000
DTSTAMP:20260419T155858
CREATED:20260313T192543Z
LAST-MODIFIED:20260313T192543Z
UID:17478-1773687600-1773687600@www.archgm.ca
SUMMARY:Communications Committee Meeting - Online
DESCRIPTION:
URL:https://www.archgm.ca/event/communications-committee-meeting-online-4/
LOCATION:Online\, Grande Prairie\, AB
CATEGORIES:Events Calendar
END:VEVENT
BEGIN:VEVENT
DTSTART;TZID=America/Edmonton:20260317T090000
DTEND;TZID=America/Edmonton:20260317T103000
DTSTAMP:20260419T155858
CREATED:20260217T225455Z
LAST-MODIFIED:20260217T225455Z
UID:17142-1773738000-1773743400@www.archgm.ca
SUMMARY:Staff Meeting - Chancery Office\, Grande Prairie
DESCRIPTION:
URL:https://www.archgm.ca/event/staff-meeting-chancery-office-grande-prairie-2/
LOCATION:Chancery Office\, Grande Prairie\, Grande Prairie\, AB
CATEGORIES:Archbishop’s Calendar,Events Calendar
END:VEVENT
BEGIN:VEVENT
DTSTART;TZID=America/Edmonton:20260317T180000
DTEND;TZID=America/Edmonton:20260317T180000
DTSTAMP:20260419T155858
CREATED:20260217T184508Z
LAST-MODIFIED:20260217T184508Z
UID:17127-1773770400-1773770400@www.archgm.ca
SUMMARY:Way of the Cross - St. Joseph Church\, Spirit River
DESCRIPTION:
URL:https://www.archgm.ca/event/way-of-the-cross-st-joseph-church-spirit-river-7/
LOCATION:St. Joseph’s Church\, Spirit River\, Grande Prairie\, AB
CATEGORIES:Events Calendar
END:VEVENT
BEGIN:VEVENT
DTSTART;TZID=America/Edmonton:20260317T190000
DTEND;TZID=America/Edmonton:20260317T190000
DTSTAMP:20260419T155858
CREATED:20260309T142733Z
LAST-MODIFIED:20260309T142733Z
UID:17385-1773774000-1773774000@www.archgm.ca
SUMMARY:Healing and Anointing Mass - Our Lady of Good Counsel
DESCRIPTION:
URL:https://www.archgm.ca/event/healing-and-anointing-mass-our-lady-of-good-counsel-2/
LOCATION:Our Lady of Good Counsel\, High Level\, Grande Prairie\, AB
CATEGORIES:Events Calendar
END:VEVENT
BEGIN:VEVENT
DTSTART;TZID=America/Edmonton:20260318T093000
DTEND;TZID=America/Edmonton:20260318T110000
DTSTAMP:20260419T155858
CREATED:20260217T182217Z
LAST-MODIFIED:20260217T182217Z
UID:17117-1773826200-1773831600@www.archgm.ca
SUMMARY:Ladies Bible Study - St. Joseph Church (JPII Room)\, Grande Prairie
DESCRIPTION:
URL:https://www.archgm.ca/event/ladies-bible-study-st-joseph-church-jpii-room-grande-prairie-7/
LOCATION:St. Joseph’s Church\, Grande Prairie\, Grande Prairie\, AB
CATEGORIES:Events Calendar
END:VEVENT
BEGIN:VEVENT
DTSTART;TZID=America/Edmonton:20260318T120000
DTEND;TZID=America/Edmonton:20260318T180000
DTSTAMP:20260419T155858
CREATED:20260309T150854Z
LAST-MODIFIED:20260309T150854Z
UID:17423-1773835200-1773856800@www.archgm.ca
SUMMARY:Reconciliation Service - Our Lady of Peace\, Peace River
DESCRIPTION:
URL:https://www.archgm.ca/event/reconciliation-service-our-lady-of-peace-peace-river/
LOCATION:Our Lady of Peace Church\, Peace River\, Grande Prairie\, AB
CATEGORIES:Events Calendar
END:VEVENT
BEGIN:VEVENT
DTSTART;TZID=America/Edmonton:20260318T150000
DTEND;TZID=America/Edmonton:20260318T170000
DTSTAMP:20260419T155858
CREATED:20260217T181016Z
LAST-MODIFIED:20260217T181016Z
UID:17105-1773846000-1773853200@www.archgm.ca
SUMMARY:Christ Children’s Club – Our Lady of Good Counsel\, High Level
DESCRIPTION:
URL:https://www.archgm.ca/event/christ-childrens-club-our-lady-of-good-counsel-high-level-24/
LOCATION:Our Lady of Good Counsel\, High Level\, Grande Prairie\, AB
CATEGORIES:Events Calendar
END:VEVENT
BEGIN:VEVENT
DTSTART;TZID=America/Edmonton:20260318T170000
DTEND;TZID=America/Edmonton:20260318T190000
DTSTAMP:20260419T155858
CREATED:20260316T170423Z
LAST-MODIFIED:20260316T170423Z
UID:17485-1773853200-1773860400@www.archgm.ca
SUMMARY:Lenten Reconciliation Service - St. Peter & Paul\, Rycroft/St. Joseph Church\, Spirit River
DESCRIPTION:Parish Lenten Confession: At 5 pm in Rycroft and at 7 pm in Spirit River
URL:https://www.archgm.ca/event/lenten-reconciliation-service-st-peter-paul-rycroft-st-joseph-church-spirit-river/
LOCATION:St. Peter and Paul Church\, Rycroft\, Grande Prairie\, AB
CATEGORIES:Events Calendar
END:VEVENT
BEGIN:VEVENT
DTSTART;TZID=America/Edmonton:20260318T190000
DTEND;TZID=America/Edmonton:20260318T210000
DTSTAMP:20260419T155858
CREATED:20260302T224231Z
LAST-MODIFIED:20260302T224231Z
UID:17307-1773860400-1773867600@www.archgm.ca
SUMMARY:Grieving Support Group - St. Paul's Church\, High Prairie
DESCRIPTION:Support group meets at the church every 3rd Wednesday\, 7:00 pm – 9:00 pm
URL:https://www.archgm.ca/event/grieving-support-group-st-pauls-church-high-prairie/
LOCATION:AB
CATEGORIES:Events Calendar
END:VEVENT
BEGIN:VEVENT
DTSTART;TZID=America/Edmonton:20260319T080000
DTEND;TZID=America/Edmonton:20260319T170000
DTSTAMP:20260419T155858
CREATED:20250710T204339Z
LAST-MODIFIED:20250710T204339Z
UID:14626-1773907200-1773939600@www.archgm.ca
SUMMARY:Curia Meeting - Chancery Office\, Grande Prairie
DESCRIPTION:
URL:https://www.archgm.ca/event/curia-meeting-chancery-office-grande-prairie-31/
LOCATION:Chancery Office\, Grande Prairie\, Grande Prairie\, AB
CATEGORIES:Archbishop’s Calendar,Events Calendar
END:VEVENT
BEGIN:VEVENT
DTSTART;TZID=America/Edmonton:20260319T180000
DTEND;TZID=America/Edmonton:20260319T180000
DTSTAMP:20260419T155858
CREATED:20260217T174836Z
LAST-MODIFIED:20260217T174836Z
UID:17087-1773943200-1773943200@www.archgm.ca
SUMMARY:KofC Lenten Spiritual Exercise – Our Lady of Good Counsel\, High Level
DESCRIPTION:
URL:https://www.archgm.ca/event/kofc-lenten-spiritual-exercise-our-lady-of-good-counsel-high-level-6/
LOCATION:Our Lady of Good Counsel\, High Level\, Grande Prairie\, AB
CATEGORIES:Events Calendar
END:VEVENT
BEGIN:VEVENT
DTSTART;TZID=America/Edmonton:20260319T180000
DTEND;TZID=America/Edmonton:20260319T180000
DTSTAMP:20260419T155858
CREATED:20260217T184843Z
LAST-MODIFIED:20260217T184843Z
UID:17137-1773943200-1773943200@www.archgm.ca
SUMMARY:Way of the Cross - St. Peter and Paul\, Rycroft
DESCRIPTION:
URL:https://www.archgm.ca/event/way-of-the-cross-st-peter-and-paul-rycroft-3/
LOCATION:St. Peter and Paul Church\, Rycroft\, Grande Prairie\, AB
CATEGORIES:Events Calendar
END:VEVENT
BEGIN:VEVENT
DTSTART;TZID=America/Edmonton:20260319T190000
DTEND;TZID=America/Edmonton:20260319T190000
DTSTAMP:20260419T155858
CREATED:20260209T164034Z
LAST-MODIFIED:20260209T164034Z
UID:17009-1773946800-1773946800@www.archgm.ca
SUMMARY:St. Joseph Feast Day (Candidates Enter Full Communion) - St. Joseph Church\, Grande Prairie
DESCRIPTION:
URL:https://www.archgm.ca/event/st-joseph-feast-day-candidates-enter-full-communion-st-joseph-church-grande-prairie/
LOCATION:St. Joseph’s Church\, Grande Prairie\, Grande Prairie\, AB
CATEGORIES:Events Calendar
END:VEVENT
BEGIN:VEVENT
DTSTART;TZID=America/Edmonton:20260319T193000
DTEND;TZID=America/Edmonton:20260319T193000
DTSTAMP:20260419T155858
CREATED:20260302T201557Z
LAST-MODIFIED:20260302T201557Z
UID:17289-1773948600-1773948600@www.archgm.ca
SUMMARY:Feast of St. Joseph - Our Lady of Peace\, Peace River
DESCRIPTION:Mass at 7:30 pm\, followed by food and refreshments
URL:https://www.archgm.ca/event/feast-of-st-joseph-our-lady-of-peace-peace-river/
LOCATION:Our Lady of Peace Church\, Peace River\, Grande Prairie\, AB
CATEGORIES:Events Calendar
END:VEVENT
BEGIN:VEVENT
DTSTART;TZID=America/Edmonton:20260319T193000
DTEND;TZID=America/Edmonton:20260319T193000
DTSTAMP:20260419T155858
CREATED:20260316T170516Z
LAST-MODIFIED:20260316T170516Z
UID:17487-1773948600-1773948600@www.archgm.ca
SUMMARY:Parish Council Meeting - St. Peter & Paul\, Rycroft
DESCRIPTION:
URL:https://www.archgm.ca/event/parish-council-meeting-st-peter-paul-rycroft-2/
LOCATION:St. Peter and Paul Church\, Rycroft\, Grande Prairie\, AB
CATEGORIES:Events Calendar
END:VEVENT
BEGIN:VEVENT
DTSTART;TZID=America/Edmonton:20260320T180000
DTEND;TZID=America/Edmonton:20260320T180000
DTSTAMP:20260419T155858
CREATED:20260212T225735Z
LAST-MODIFIED:20260212T225735Z
UID:17073-1774029600-1774029600@www.archgm.ca
SUMMARY:Lenten Soups & Stations - St. Mary's Church\, Beaverlodge
DESCRIPTION:
URL:https://www.archgm.ca/event/lenten-soups-stations-st-marys-church-beaverlodge-5/
LOCATION:St. Mary’s Church\, Beaverlodge\, Grande Prairie\, AB
CATEGORIES:Events Calendar
END:VEVENT
BEGIN:VEVENT
DTSTART;TZID=America/Edmonton:20260320T180000
DTEND;TZID=America/Edmonton:20260320T180000
DTSTAMP:20260419T155858
CREATED:20260217T180826Z
LAST-MODIFIED:20260217T180826Z
UID:17099-1774029600-1774029600@www.archgm.ca
SUMMARY:Way of the Cross - Our Lady of Good Counsel\, High Level
DESCRIPTION:
URL:https://www.archgm.ca/event/way-of-the-cross-our-lady-of-good-counsel-high-level-5/
LOCATION:Our Lady of Good Counsel\, High Level\, Grande Prairie\, AB
CATEGORIES:Events Calendar
END:VEVENT
BEGIN:VEVENT
DTSTART;TZID=America/Edmonton:20260321T133000
DTEND;TZID=America/Edmonton:20260321T133000
DTSTAMP:20260419T155858
CREATED:20260309T151545Z
LAST-MODIFIED:20260309T151545Z
UID:17427-1774099800-1774099800@www.archgm.ca
SUMMARY:KofC Meeting - St. Mary's Church\, Beaverlodge
DESCRIPTION:
URL:https://www.archgm.ca/event/kofc-meeting-st-marys-church-beaverlodge-5/
LOCATION:St. Mary’s Church\, Beaverlodge\, Grande Prairie\, AB
CATEGORIES:Events Calendar
END:VEVENT
BEGIN:VEVENT
DTSTART;TZID=America/Edmonton:20260321T193000
DTEND;TZID=America/Edmonton:20260321T193000
DTSTAMP:20260419T155858
CREATED:20260309T150501Z
LAST-MODIFIED:20260309T150501Z
UID:17421-1774121400-1774121400@www.archgm.ca
SUMMARY:Lenten Retreat - Our Lady of Peace\, Peace River
DESCRIPTION:7:30 pm Mass\nfollowed by retreat
URL:https://www.archgm.ca/event/lenten-retreat-our-lady-of-peace-peace-river/
LOCATION:Our Lady of Peace Church\, Peace River\, Grande Prairie\, AB
CATEGORIES:Events Calendar
END:VEVENT
BEGIN:VEVENT
DTSTART;VALUE=DATE:20260322
DTEND;VALUE=DATE:20260323
DTSTAMP:20260419T155858
CREATED:20260316T170542Z
LAST-MODIFIED:20260316T170542Z
UID:17489-1774137600-1774223999@www.archgm.ca
SUMMARY:Development and Peace Sunday
DESCRIPTION:
URL:https://www.archgm.ca/event/development-and-peace-sunday/
LOCATION:AB
CATEGORIES:Events Calendar
END:VEVENT
BEGIN:VEVENT
DTSTART;TZID=America/Edmonton:20260322T110000
DTEND;TZID=America/Edmonton:20260322T110000
DTSTAMP:20260419T155858
CREATED:20260202T175221Z
LAST-MODIFIED:20260202T175221Z
UID:16850-1774177200-1774177200@www.archgm.ca
SUMMARY:Bible Study (after Mass) - St. James the Major Church\, Manning
DESCRIPTION:
URL:https://www.archgm.ca/event/bible-study-after-mass-st-james-the-major-church-manning-4/
LOCATION:St. James the Major\, Manning\, Grande Prairie\, AB
CATEGORIES:Events Calendar
END:VEVENT
BEGIN:VEVENT
DTSTART;TZID=America/Edmonton:20260322T120000
DTEND;TZID=America/Edmonton:20260322T120000
DTSTAMP:20260419T155858
CREATED:20260323T153904Z
LAST-MODIFIED:20260323T153904Z
UID:17564-1774180800-1774180800@www.archgm.ca
SUMMARY:KofC Meeting - Our Lady of Good Counsel\, High Level
DESCRIPTION:
URL:https://www.archgm.ca/event/kofc-meeting-our-lady-of-good-counsel-high-level-3/
LOCATION:Our Lady of Good Counsel\, High Level\, Grande Prairie\, AB
CATEGORIES:Events Calendar
END:VEVENT
BEGIN:VEVENT
DTSTART;TZID=America/Edmonton:20260322T130000
DTEND;TZID=America/Edmonton:20260322T170000
DTSTAMP:20260419T155858
CREATED:20260323T150751Z
LAST-MODIFIED:20260323T150751Z
UID:17558-1774184400-1774198800@www.archgm.ca
SUMMARY:Lenten Retreat/Penitential Service - St. Bernadette Church\, Eleske & St. Michael's\, Tallcree
DESCRIPTION:March 22 – Lenten Retreat/Penance Service 1:00pm at St.\nBernadette’s\, Eleske & 4:00pm at St. Michael’s\, South Tallcree
URL:https://www.archgm.ca/event/lenten-retreat-penitential-service-st-bernadette-church-eleske-st-michaels-tallcree/
LOCATION:St. Bernadette’s Church\, Eleske\, Grande Prairie\, AB
CATEGORIES:Events Calendar
END:VEVENT
END:VCALENDAR