BEGIN:VCALENDAR
VERSION:2.0
PRODID:-//Catholic Archdiocese of Grouard-McLennan - ECPv6.15.20//NONSGML v1.0//EN
CALSCALE:GREGORIAN
METHOD:PUBLISH
X-WR-CALNAME:Catholic Archdiocese of Grouard-McLennan
X-ORIGINAL-URL:https://www.archgm.ca
X-WR-CALDESC:Events for Catholic Archdiocese of Grouard-McLennan
REFRESH-INTERVAL;VALUE=DURATION:PT1H
X-Robots-Tag:noindex
X-PUBLISHED-TTL:PT1H
BEGIN:VTIMEZONE
TZID:America/Edmonton
BEGIN:DAYLIGHT
TZOFFSETFROM:-0700
TZOFFSETTO:-0600
TZNAME:MDT
DTSTART:20250309T090000
END:DAYLIGHT
BEGIN:STANDARD
TZOFFSETFROM:-0600
TZOFFSETTO:-0700
TZNAME:MST
DTSTART:20251102T080000
END:STANDARD
BEGIN:DAYLIGHT
TZOFFSETFROM:-0700
TZOFFSETTO:-0600
TZNAME:MDT
DTSTART:20260308T090000
END:DAYLIGHT
BEGIN:STANDARD
TZOFFSETFROM:-0600
TZOFFSETTO:-0700
TZNAME:MST
DTSTART:20261101T080000
END:STANDARD
BEGIN:DAYLIGHT
TZOFFSETFROM:-0700
TZOFFSETTO:-0600
TZNAME:MDT
DTSTART:20270314T090000
END:DAYLIGHT
BEGIN:STANDARD
TZOFFSETFROM:-0600
TZOFFSETTO:-0700
TZNAME:MST
DTSTART:20271107T080000
END:STANDARD
END:VTIMEZONE
BEGIN:VEVENT
DTSTART;TZID=America/Edmonton:20260227T180000
DTEND;TZID=America/Edmonton:20260227T180000
DTSTAMP:20260419T124417
CREATED:20260212T225618Z
LAST-MODIFIED:20260212T225618Z
UID:17067-1772215200-1772215200@www.archgm.ca
SUMMARY:Lenten Soups & Stations - St. Mary's Church\, Beaverlodge
DESCRIPTION:
URL:https://www.archgm.ca/event/lenten-soups-stations-st-marys-church-beaverlodge-2/
LOCATION:St. Mary’s Church\, Beaverlodge\, Grande Prairie\, AB
CATEGORIES:Events Calendar
END:VEVENT
BEGIN:VEVENT
DTSTART;TZID=America/Edmonton:20260227T180000
DTEND;TZID=America/Edmonton:20260227T180000
DTSTAMP:20260419T124417
CREATED:20260217T180632Z
LAST-MODIFIED:20260217T180632Z
UID:17093-1772215200-1772215200@www.archgm.ca
SUMMARY:Way of the Cross - Our Lady of Good Counsel\, High Level
DESCRIPTION:
URL:https://www.archgm.ca/event/way-of-the-cross-our-lady-of-good-counsel-high-level-2/
LOCATION:Our Lady of Good Counsel\, High Level\, Grande Prairie\, AB
CATEGORIES:Events Calendar
END:VEVENT
BEGIN:VEVENT
DTSTART;TZID=America/Edmonton:20260227T190000
DTEND;TZID=America/Edmonton:20260227T190000
DTSTAMP:20260419T124417
CREATED:20260223T155215Z
LAST-MODIFIED:20260223T155215Z
UID:17236-1772218800-1772218800@www.archgm.ca
SUMMARY:Parish Pastoral Council Meeting - St. Henry's\, Fort Vermillion
DESCRIPTION:
URL:https://www.archgm.ca/event/parish-pastoral-council-meeting-st-henrys-fort-vermillion/
LOCATION:St. Henri’s\, Fort Vermillion\, Grande Prairie\, AB
CATEGORIES:Events Calendar
END:VEVENT
BEGIN:VEVENT
DTSTART;TZID=America/Edmonton:20260228T103000
DTEND;TZID=America/Edmonton:20260228T103000
DTSTAMP:20260419T124417
CREATED:20260223T155250Z
LAST-MODIFIED:20260223T155250Z
UID:17238-1772274600-1772274600@www.archgm.ca
SUMMARY:Deanery 5 Council Meeting - Online
DESCRIPTION:
URL:https://www.archgm.ca/event/deanery-5-council-meeting-online/
LOCATION:Online\, Grande Prairie\, AB
CATEGORIES:Events Calendar
END:VEVENT
BEGIN:VEVENT
DTSTART;TZID=America/Edmonton:20260228T133000
DTEND;TZID=America/Edmonton:20260228T153000
DTSTAMP:20260419T124417
CREATED:20260202T175831Z
LAST-MODIFIED:20260202T175831Z
UID:16854-1772285400-1772292600@www.archgm.ca
SUMMARY:Vacation Bible School Team Meeting - St. Joseph Church\, Grande Prairie
DESCRIPTION:Vacation Bible School Team meeting: February 28\n1:30 – 3:30 pm. Prayer\, planning and workbee. Join\nthis team early and make a difference in the lives of\nmany
URL:https://www.archgm.ca/event/vacation-bible-school-team-meeting-st-joseph-church-grande-prairie/
LOCATION:St. Joseph’s Church\, Grande Prairie\, Grande Prairie\, AB
CATEGORIES:Events Calendar
END:VEVENT
BEGIN:VEVENT
DTSTART;TZID=America/Edmonton:20260301T110000
DTEND;TZID=America/Edmonton:20260301T110000
DTSTAMP:20260419T124417
CREATED:20260227T150542Z
LAST-MODIFIED:20260227T150542Z
UID:17281-1772362800-1772362800@www.archgm.ca
SUMMARY:Rite of Election for Grande Prairie Catechumens/Candidates - St. Joseph Church\, Grande Prairie
DESCRIPTION:
URL:https://www.archgm.ca/event/rite-of-election-for-grande-prairie-catechumens-candidates-st-joseph-church-grande-prairie/
LOCATION:St. Joseph’s Church\, Grande Prairie\, Grande Prairie\, AB
CATEGORIES:Archbishop’s Calendar,Events Calendar
END:VEVENT
BEGIN:VEVENT
DTSTART;TZID=America/Edmonton:20260301T123000
DTEND;TZID=America/Edmonton:20260301T123000
DTSTAMP:20260419T124417
CREATED:20260128T215825Z
LAST-MODIFIED:20260128T215825Z
UID:16729-1772368200-1772368200@www.archgm.ca
SUMMARY:Annual Reunion - Sacred Heart Church\, Donnelly
DESCRIPTION:RÉUNION ANNUELLE\nLa réunion annuelle de la paroisse Sacré-Cœur de Donnelly aura lieu\nle dimanche 1\ner mars 2026 au Club des Pionniers.\nLa rencontre commencera par un dîner qui vous sera offert\nvers 12h30 (12:30 pm).\nPar la suite\, il y aura la réunion annuelle.\nVente de 50/50\nBienvenue à tous!
URL:https://www.archgm.ca/event/annual-reunion-sacred-heart-church-donnelly/
LOCATION:Paroisse Sacré Coeur\, Donnelly\, Donnelly\, Alberta\, Canada
CATEGORIES:Events Calendar
END:VEVENT
BEGIN:VEVENT
DTSTART;TZID=America/Edmonton:20260302T190000
DTEND;TZID=America/Edmonton:20260302T190000
DTSTAMP:20260419T124417
CREATED:20260209T152449Z
LAST-MODIFIED:20260209T152449Z
UID:16991-1772478000-1772478000@www.archgm.ca
SUMMARY:World Day of Prayer - St. James the Major Church\, Manning
DESCRIPTION:
URL:https://www.archgm.ca/event/world-day-of-prayer-st-james-the-major-church-manning/
LOCATION:St. James the Major\, Manning\, Grande Prairie\, AB
CATEGORIES:Events Calendar
END:VEVENT
BEGIN:VEVENT
DTSTART;TZID=America/Edmonton:20260303T180000
DTEND;TZID=America/Edmonton:20260303T180000
DTSTAMP:20260419T124417
CREATED:20260217T184400Z
LAST-MODIFIED:20260217T184400Z
UID:17123-1772560800-1772560800@www.archgm.ca
SUMMARY:Way of the Cross - St. Joseph Church\, Spirit River
DESCRIPTION:
URL:https://www.archgm.ca/event/way-of-the-cross-st-joseph-church-spirit-river-5/
LOCATION:St. Joseph’s Church\, Spirit River\, Grande Prairie\, AB
CATEGORIES:Events Calendar
END:VEVENT
BEGIN:VEVENT
DTSTART;TZID=America/Edmonton:20260304T090000
DTEND;TZID=America/Edmonton:20260304T120000
DTSTAMP:20260419T124417
CREATED:20260304T184330Z
LAST-MODIFIED:20260304T184330Z
UID:17359-1772614800-1772625600@www.archgm.ca
SUMMARY:Meeting on Pastoral Plan - Chancery Office\, Grande Prairie
DESCRIPTION:
URL:https://www.archgm.ca/event/meeting-on-pastoral-plan-chancery-office-grande-prairie/
LOCATION:Chancery Office\, Grande Prairie\, Grande Prairie\, AB
CATEGORIES:Archbishop’s Calendar,Events Calendar
END:VEVENT
BEGIN:VEVENT
DTSTART;TZID=America/Edmonton:20260304T093000
DTEND;TZID=America/Edmonton:20260304T110000
DTSTAMP:20260419T124417
CREATED:20260217T182038Z
LAST-MODIFIED:20260217T182038Z
UID:17113-1772616600-1772622000@www.archgm.ca
SUMMARY:Ladies Bible Study - St. Joseph Church (JPII Room)\, Grande Prairie
DESCRIPTION:
URL:https://www.archgm.ca/event/ladies-bible-study-st-joseph-church-jpii-room-grande-prairie-5/
LOCATION:St. Joseph’s Church\, Grande Prairie\, Grande Prairie\, AB
CATEGORIES:Events Calendar
END:VEVENT
BEGIN:VEVENT
DTSTART;TZID=America/Edmonton:20260304T150000
DTEND;TZID=America/Edmonton:20260304T170000
DTSTAMP:20260419T124417
CREATED:20260202T174003Z
LAST-MODIFIED:20260202T174003Z
UID:16842-1772636400-1772643600@www.archgm.ca
SUMMARY:Christ Children's Club - Our Lady of Good Counsel\, High Level
DESCRIPTION:
URL:https://www.archgm.ca/event/christ-childrens-club-our-lady-of-good-counsel-high-level-22/
LOCATION:Our Lady of Good Counsel\, High Level\, Grande Prairie\, AB
CATEGORIES:Events Calendar
END:VEVENT
BEGIN:VEVENT
DTSTART;TZID=America/Edmonton:20260305T080000
DTEND;TZID=America/Edmonton:20260305T170000
DTSTAMP:20260419T124417
CREATED:20250710T204008Z
LAST-MODIFIED:20250710T204008Z
UID:14620-1772697600-1772730000@www.archgm.ca
SUMMARY:Curia Meeting - Chancery Office\, Grande Prairie
DESCRIPTION:
URL:https://www.archgm.ca/event/curia-meeting-chancery-office-grande-prairie-30/
LOCATION:Chancery Office\, Grande Prairie\, Grande Prairie\, AB
CATEGORIES:Archbishop’s Calendar,Events Calendar
END:VEVENT
BEGIN:VEVENT
DTSTART;TZID=America/Edmonton:20260305T180000
DTEND;TZID=America/Edmonton:20260305T180000
DTSTAMP:20260419T124417
CREATED:20260217T174647Z
LAST-MODIFIED:20260217T174647Z
UID:17081-1772733600-1772733600@www.archgm.ca
SUMMARY:KofC Lenten Spiritual Exercise – Our Lady of Good Counsel\, High Level
DESCRIPTION:
URL:https://www.archgm.ca/event/kofc-lenten-spiritual-exercise-our-lady-of-good-counsel-high-level-3/
LOCATION:Our Lady of Good Counsel\, High Level\, Grande Prairie\, AB
CATEGORIES:Events Calendar
END:VEVENT
BEGIN:VEVENT
DTSTART;TZID=America/Edmonton:20260305T180000
DTEND;TZID=America/Edmonton:20260305T180000
DTSTAMP:20260419T124417
CREATED:20260217T184740Z
LAST-MODIFIED:20260217T184740Z
UID:17133-1772733600-1772733600@www.archgm.ca
SUMMARY:Way of the Cross - St. Peter and Paul\, Rycroft
DESCRIPTION:
URL:https://www.archgm.ca/event/way-of-the-cross-st-peter-and-paul-rycroft/
LOCATION:St. Peter and Paul Church\, Rycroft\, Grande Prairie\, AB
CATEGORIES:Events Calendar
END:VEVENT
BEGIN:VEVENT
DTSTART;TZID=America/Edmonton:20260305T193000
DTEND;TZID=America/Edmonton:20260305T193000
DTSTAMP:20260419T124417
CREATED:20260209T155137Z
LAST-MODIFIED:20260209T155137Z
UID:16999-1772739000-1772739000@www.archgm.ca
SUMMARY:Catholic Returning Home - St. Joseph Church (Grouard Room)\, Grande Prairie
DESCRIPTION:
URL:https://www.archgm.ca/event/catholic-returning-home-st-joseph-church-grouard-room-grande-prairie-3/
LOCATION:St. Joseph’s Church\, Grande Prairie\, Grande Prairie\, AB
CATEGORIES:Events Calendar
END:VEVENT
BEGIN:VEVENT
DTSTART;TZID=America/Edmonton:20260306T170000
DTEND;TZID=America/Edmonton:20260306T170000
DTSTAMP:20260419T124417
CREATED:20260212T225643Z
LAST-MODIFIED:20260212T225643Z
UID:17069-1772816400-1772816400@www.archgm.ca
SUMMARY:Lenten Soups & Stations - St. Mary's Church\, Beaverlodge
DESCRIPTION:
URL:https://www.archgm.ca/event/lenten-soups-stations-st-marys-church-beaverlodge-3/
LOCATION:St. Mary’s Church\, Beaverlodge\, Grande Prairie\, AB
CATEGORIES:Events Calendar
END:VEVENT
BEGIN:VEVENT
DTSTART;TZID=America/Edmonton:20260306T173000
DTEND;TZID=America/Edmonton:20260306T193000
DTSTAMP:20260419T124417
CREATED:20260210T184306Z
LAST-MODIFIED:20260210T184306Z
UID:17028-1772818200-1772825400@www.archgm.ca
SUMMARY:Lenten Soup + Stations of the Cross - St. Joseph Church\, Grande Prairie
DESCRIPTION:
URL:https://www.archgm.ca/event/lenten-soup-stations-of-the-cross-st-joseph-church-grande-prairie-3/
LOCATION:St. Joseph’s Church\, Grande Prairie\, Grande Prairie\, AB
CATEGORIES:Events Calendar
END:VEVENT
BEGIN:VEVENT
DTSTART;TZID=America/Edmonton:20260306T180000
DTEND;TZID=America/Edmonton:20260306T180000
DTSTAMP:20260419T124417
CREATED:20260217T180657Z
LAST-MODIFIED:20260217T180657Z
UID:17095-1772820000-1772820000@www.archgm.ca
SUMMARY:Way of the Cross - Our Lady of Good Counsel\, High Level
DESCRIPTION:
URL:https://www.archgm.ca/event/way-of-the-cross-our-lady-of-good-counsel-high-level-3/
LOCATION:Our Lady of Good Counsel\, High Level\, Grande Prairie\, AB
CATEGORIES:Events Calendar
END:VEVENT
BEGIN:VEVENT
DTSTART;TZID=America/Edmonton:20260306T193000
DTEND;TZID=America/Edmonton:20260306T193000
DTSTAMP:20260419T124417
CREATED:20260302T200622Z
LAST-MODIFIED:20260302T200622Z
UID:17287-1772825400-1772825400@www.archgm.ca
SUMMARY:World Day of Prayer Gathering - St. Thomas More Church\, Fairview
DESCRIPTION:
URL:https://www.archgm.ca/event/world-day-of-prayer-gathering-st-thomas-more-church-fairview/
LOCATION:St. Thomas More Church\, Fairview\, Grande Prairie\, AB
CATEGORIES:Events Calendar
END:VEVENT
BEGIN:VEVENT
DTSTART;TZID=America/Edmonton:20260307T093000
DTEND;TZID=America/Edmonton:20260307T120000
DTSTAMP:20260419T124417
CREATED:20250710T204108Z
LAST-MODIFIED:20260309T164030Z
UID:14622-1772875800-1772884800@www.archgm.ca
SUMMARY:APC Meeting - Online
DESCRIPTION:
URL:https://www.archgm.ca/event/apc-meeting-online-2/
LOCATION:Online\, Grande Prairie\, AB
CATEGORIES:Archbishop’s Calendar,Events Calendar
END:VEVENT
BEGIN:VEVENT
DTSTART;TZID=America/Edmonton:20260307T100000
DTEND;TZID=America/Edmonton:20260307T100000
DTSTAMP:20260419T124417
CREATED:20260309T151507Z
LAST-MODIFIED:20260309T151507Z
UID:17425-1772877600-1772877600@www.archgm.ca
SUMMARY:CWL Meeting - St. Mary's Church\, Beaverlodge
DESCRIPTION:
URL:https://www.archgm.ca/event/cwl-meeting-st-marys-church-beaverlodge-10/
LOCATION:St. Mary’s Church\, Beaverlodge\, Grande Prairie\, AB
CATEGORIES:Events Calendar
END:VEVENT
BEGIN:VEVENT
DTSTART;TZID=America/Edmonton:20260308T110000
DTEND;TZID=America/Edmonton:20260308T110000
DTSTAMP:20260419T124417
CREATED:20260130T152536Z
LAST-MODIFIED:20260309T151929Z
UID:16789-1772967600-1772967600@www.archgm.ca
SUMMARY:Youth Mass & Potluck - St. Mary's Church\, Beaverlodge
DESCRIPTION:
URL:https://www.archgm.ca/event/youth-mass-potluck-st-marys-church-beaverlodge-6/
LOCATION:St. Mary’s Church\, Beaverlodge\, Grande Prairie\, AB
CATEGORIES:Events Calendar
END:VEVENT
BEGIN:VEVENT
DTSTART;TZID=America/Edmonton:20260308T110000
DTEND;TZID=America/Edmonton:20260308T230000
DTSTAMP:20260419T124417
CREATED:20260202T175151Z
LAST-MODIFIED:20260202T175151Z
UID:16848-1772967600-1773010800@www.archgm.ca
SUMMARY:Bible Study (after Mass) - St. James the Major Church\, Manning
DESCRIPTION:
URL:https://www.archgm.ca/event/bible-study-after-mass-st-james-the-major-church-manning-3/
LOCATION:St. James the Major\, Manning\, Grande Prairie\, AB
CATEGORIES:Events Calendar
END:VEVENT
BEGIN:VEVENT
DTSTART;TZID=America/Edmonton:20260308T133000
DTEND;TZID=America/Edmonton:20260308T163000
DTSTAMP:20260419T124417
CREATED:20260218T224137Z
LAST-MODIFIED:20260218T224137Z
UID:17211-1772976600-1772987400@www.archgm.ca
SUMMARY:First Confession - St. Joseph Church\, Grande Prairie
DESCRIPTION:
URL:https://www.archgm.ca/event/first-confession-st-joseph-church-grande-prairie/
LOCATION:St. Joseph’s Church\, Grande Prairie\, Grande Prairie\, AB
CATEGORIES:Archbishop’s Calendar,Events Calendar
END:VEVENT
BEGIN:VEVENT
DTSTART;TZID=America/Edmonton:20260310T100000
DTEND;TZID=America/Edmonton:20260310T140000
DTSTAMP:20260419T124417
CREATED:20250710T204212Z
LAST-MODIFIED:20250710T204212Z
UID:14624-1773136800-1773151200@www.archgm.ca
SUMMARY:Council of Priests Meeting - Online
DESCRIPTION:
URL:https://www.archgm.ca/event/council-of-priests-meeting-online-3/
LOCATION:Online\, Grande Prairie\, AB
CATEGORIES:Archbishop’s Calendar,Events Calendar
END:VEVENT
BEGIN:VEVENT
DTSTART;TZID=America/Edmonton:20260310T170000
DTEND;TZID=America/Edmonton:20260310T170000
DTSTAMP:20260419T124417
CREATED:20260309T151621Z
LAST-MODIFIED:20260309T151621Z
UID:17429-1773162000-1773162000@www.archgm.ca
SUMMARY:Parish Pastoral Council - St. Mary's Church\, Beaverlodge
DESCRIPTION:
URL:https://www.archgm.ca/event/parish-pastoral-council-st-marys-church-beaverlodge/
LOCATION:St. Mary’s Church\, Beaverlodge\, Grande Prairie\, AB
CATEGORIES:Events Calendar
END:VEVENT
BEGIN:VEVENT
DTSTART;TZID=America/Edmonton:20260310T180000
DTEND;TZID=America/Edmonton:20260310T180000
DTSTAMP:20260419T124417
CREATED:20260217T184426Z
LAST-MODIFIED:20260217T184426Z
UID:17125-1773165600-1773165600@www.archgm.ca
SUMMARY:Way of the Cross - St. Joseph Church\, Spirit River
DESCRIPTION:
URL:https://www.archgm.ca/event/way-of-the-cross-st-joseph-church-spirit-river-6/
LOCATION:St. Joseph’s Church\, Spirit River\, Grande Prairie\, AB
CATEGORIES:Events Calendar
END:VEVENT
BEGIN:VEVENT
DTSTART;TZID=America/Edmonton:20260310T190000
DTEND;TZID=America/Edmonton:20260310T190000
DTSTAMP:20260419T124417
CREATED:20260309T142449Z
LAST-MODIFIED:20260309T142711Z
UID:17383-1773169200-1773169200@www.archgm.ca
SUMMARY:Healing and Anointing Mass - Our Lady of Good Counsel
DESCRIPTION:
URL:https://www.archgm.ca/event/healing-and-anointing-mass-our-lady-of-good-counsel/
LOCATION:Our Lady of Good Counsel\, High Level\, Grande Prairie\, AB
CATEGORIES:Events Calendar
END:VEVENT
BEGIN:VEVENT
DTSTART;TZID=America/Edmonton:20260310T193000
DTEND;TZID=America/Edmonton:20260310T193000
DTSTAMP:20260419T124417
CREATED:20260309T143315Z
LAST-MODIFIED:20260309T143315Z
UID:17393-1773171000-1773171000@www.archgm.ca
SUMMARY:CWL Meeting - St. Joseph Church\, Spirit River
DESCRIPTION:
URL:https://www.archgm.ca/event/cwl-meeting-st-joseph-church-spirit-river-2/
LOCATION:St. Joseph’s Church\, Spirit River\, Grande Prairie\, AB
CATEGORIES:Events Calendar
END:VEVENT
END:VCALENDAR